Workbook

Sheet 5.1
A1: 5. Насосное оборудование
A2: Сроки, наличие и заказ оборудования в электронном магазине ridan.ru или по телефону (495) 792 57 57
A4: 5.1. Насосы циркуляционные с мокрым ротором
A5: Кодовый номер | B5: Тип | C5: Мощность Р1, Вт | D5: Монтажная длина, мм | E5: Трубное присоединение | F5: Материал корпуса | G5: Кол-во скоростей | H5: Напряжение питания | I5: Группа скидок | J5: Цена без НДС, KZT | K5: Цена с НДС, KZT | L5: наличие
A6: Насос циркуляционный с мокрым ротором серии RW; Диапазон температур жидкости -20…110 °C; Степень защиты IP44; Класс изоляции H; PN10
A7: 015P1201 | B7: RWS 20-40S 130 | C7: 30/45/60 | D7: 130 | E7: G1” | F7: Чугун | G7: 3 | H7: 1х220 В, 50 Гц | I7: PL15-RW | J7: 47958 | K7: =ROUND(ROUND(J7,2)*НДС!$A$1,2) -> 55631.28 | L7: 1
A8: 015P1202 | B8: RWS 20-60S 130 | C8: 45/65/90 | D8: 130 | E8: G1” | F8: Чугун | G8: 3 | H8: 1х220 В, 50 Гц | I8: PL15-RW | J8: 47958 | K8: =ROUND(ROUND(J8,2)*НДС!$A$1,2) -> 55631.28 | L8: 1
A9: 015P1203 | B9: RWS 15-90S 130 | C9: 55/90/120 | D9: 130 | E9: G3/4” | F9: Чугун | G9: 3 | H9: 1х220 В, 50 Гц | I9: PL15-RW | J9: 55302 | K9: =ROUND(ROUND(J9,2)*НДС!$A$1,2) -> 64150.32 | L9: 1
A10: 015P1204 | B10: RWS 20-40SB 130 | C10: 30/45/60 | D10: 130 | E10: G1” | F10: Латунь | G10: 3 | H10: 1х220 В, 50 Гц | I10: PL15-RW | J10: 75528 | K10: =ROUND(ROUND(J10,2)*НДС!$A$1,2) -> 87612.48 | L10: 1
A11: 015P1205 | B11: RWS 20-60SB 130 | C11: 45/65/90 | D11: 130 | E11: G1” | F11: Латунь | G11: 3 | H11: 1х220 В, 50 Гц | I11: PL15-RW | J11: 75528 | K11: =ROUND(ROUND(J11,2)*НДС!$A$1,2) -> 87612.48 | L11: 1
A12: 015P1207 | B12: RWS 25-40S | C12: 30/45/60 | D12: 180 | E12: G1 ½” | F12: Чугун | G12: 3 | H12: 1х220 В, 50 Гц | I12: PL15-RW | J12: 49062 | K12: =ROUND(ROUND(J12,2)*НДС!$A$1,2) -> 56911.92 | L12: 1
A13: 015P1208 | B13: RWS 25-60S | C13: 45/65/90 | D13: 180 | E13: G1 ½” | F13: Чугун | G13: 3 | H13: 1х220 В, 50 Гц | I13: PL15-RW | J13: 49062 | K13: =ROUND(ROUND(J13,2)*НДС!$A$1,2) -> 56911.92 | L13: 1
A14: 015P1209 | B14: RWS 25-60SB | C14: 45/65/90 | D14: 180 | E14: G1 ½” | F14: Латунь | G14: 3 | H14: 1х220 В, 50 Гц | I14: PL15-RW | J14: 99702 | K14: =ROUND(ROUND(J14,2)*НДС!$A$1,2) -> 115654.32 | L14: 1
A15: 015P1210 | B15: RWS 32-40S | C15: 30/45/60 | D15: 180 | E15: G2” | F15: Чугун | G15: 3 | H15: 1х220 В, 50 Гц | I15: PL15-RW | J15: 52944 | K15: =ROUND(ROUND(J15,2)*НДС!$A$1,2) -> 61415.04 | L15: 3
A16: 015P1211 | B16: RWS 32-60S | C16: 45/65/90 | D16: 180 | E16: G2” | F16: Чугун | G16: 3 | H16: 1х220 В, 50 Гц | I16: PL15-RW | J16: 52944 | K16: =ROUND(ROUND(J16,2)*НДС!$A$1,2) -> 61415.04 | L16: 1
A17: 015P1212 | B17: RWS 25-80S | C17: 145/185/200 | D17: 180 | E17: G1 ½” | F17: Чугун | G17: 3 | H17: 1х220 В, 50 Гц | I17: PL15-RW | J17: 89436 | K17: =ROUND(ROUND(J17,2)*НДС!$A$1,2) -> 103745.76 | L17: 1
A18: 015P1213 | B18: RWS 25-80SB | C18: 145/185/200 | D18: 180 | E18: G1 ½” | F18: Латунь | G18: 3 | H18: 1х220 В, 50 Гц | I18: PL15-RW | J18: 149754 | K18: =ROUND(ROUND(J18,2)*НДС!$A$1,2) -> 173714.64 | L18: 1
... A23: 015P1237 | B23: RWS 25-120SB | C23: 140/210/245 | D23: 180 | E23: G1 ½” | F23: Латунь | G23: 3 | H23: 1х220 В, 50 Гц | I23: PL15-RW | J23: 241038 | K23: =ROUND(ROUND(J23,2)*НДС!$A$1,2) -> 279604.08 | L23: 1
A24: 015P1230 | B24: RW 25-120S 200 | C24: 300 | D24: 200 | E24: G1 ½” | F24: Чугун | G24: 1 | H24: 1х220 В, 50 Гц | I24: PL15-RW | J24: 175470 | K24: =ROUND(ROUND(J24,2)*НДС!$A$1,2) -> 203545.2 | L24: 1
A25: 015P1218 | B25: RW 32-120S 220 | C25: 500 | D25: 220 | E25: G2” | F25: Чугун | G25: 1 | H25: 1х220 В, 50 Гц | I25: PL15-RW | J25: 203742 | K25: =ROUND(ROUND(J25,2)*НДС!$A$1,2) -> 236340.72 | L25: 1
A26: 015P1220 | B26: RWS 32-160T 230 | C26: 500/550/700 | D26: 230 | E26: G2” | F26: Чугун | G26: 3 | H26: 3х380 В, 50 Гц | I26: PL15-RW | J26: 375204 | K26: =ROUND(ROUND(J26,2)*НДС!$A$1,2) -> 435236.64 | L26: 1
A27: 015P1221 | B27: RWS 32-180T 230 | C27: 700/800/1000 | D27: 230 | E27: G2” | F27: Чугун | G27: 3 | H27: 3х380 В, 50 Гц | I27: PL15-RW | J27: 420450 | K27: =ROUND(ROUND(J27,2)*НДС!$A$1,2) -> 487722 | L27: 1
A28: 015P1222 | B28: RWS 40-120FT | C28: 500/550/700 | D28: 250 | E28: DN40 PN06/10 | F28: Чугун | G28: 3 | H28: 3х380 В, 50 Гц | I28: PL15-RW | J28: 392136 | K28: =ROUND(ROUND(J28,2)*НДС!$A$1,2) -> 454877.76 | L28: 1
A29: 015P1223 | B29: RWS 40-160FT | C29: 700/800/1000 | D29: 250 | E29: DN40 PN06/10 | F29: Чугун | G29: 3 | H29: 3х380 В, 50 Гц | I29: PL15-RW | J29: 444000 | K29: =ROUND(ROUND(J29,2)*НДС!$A$1,2) -> 515040 | L29: 1
A30: 015P1231 | B30: RWS 40-180FT | C30: 900/1000/1300 | D30: 250 | E30: DN40 PN06/10 | F30: Чугун | G30: 3 | H30: 3х380 В, 50 Гц | I30: PL15-RW | J30: 506154 | K30: =ROUND(ROUND(J30,2)*НДС!$A$1,2) -> 587138.64 | L30: 1
A31: 015P1232 | B31: RWS 50-90FT | C31: 500/550/700 | D31: 280 | E31: DN50 PN06/10 | F31: Чугун | G31: 3 | H31: 3х380 В, 50 Гц | I31: PL15-RW | J31: 430896 | K31: =ROUND(ROUND(J31,2)*НДС!$A$1,2) -> 499839.36 | L31: 1
A32: 015P1224 | B32: RWS 50-120FT | C32: 700/800/1000 | D32: 280 | E32: DN50 PN06/10 | F32: Чугун | G32: 3 | H32: 3х380 В, 50 Гц | I32: PL15-RW | J32: 450084 | K32: =ROUND(ROUND(J32,2)*НДС!$A$1,2) -> 522097.44 | L32: 1
A33: 015P1225 | B33: RWS 50-160FT | C33: 900/1000/1300 | D33: 280 | E33: DN50 PN06/10 | F33: Чугун | G33: 3 | H33: 3х380 В, 50 Гц | I33: PL15-RW | J33: 529464 | K33: =ROUND(ROUND(J33,2)*НДС!$A$1,2) -> 614178.24 | L33: 1
A34: 015P1233 | B34: RWS 65-90FT | C34: 700/800/1000 | D34: 340 | E34: DN65 PN06/10 | F34: Чугун | G34: 3 | H34: 3х380 В, 50 Гц | I34: PL15-RW | J34: 549720 | K34: =ROUND(ROUND(J34,2)*НДС!$A$1,2) -> 637675.2 | L34: 1
A35: 015P1227 | B35: RWS 65-120FT | C35: 900/1000/1300 | D35: 340 | E35: DN65 PN06/10 | F35: Чугун | G35: 3 | H35: 3х380 В, 50 Гц | I35: PL15-RW | J35: 560160 | K35: =ROUND(ROUND(J35,2)*НДС!$A$1,2) -> 649785.6 | L35: 1
A36: 015P1228 | B36: RWS 80-120FT | C36: 900/1000/1300 | D36: 360 | E36: DN80 PN10 | F36: Чугун | G36: 3 | H36: 3х380 В, 50 Гц | I36: PL15-RW | J36: 572328 | K36: =ROUND(ROUND(J36,2)*НДС!$A$1,2) -> 663900.48 | L36: 1
B38: В таблицах используются следующие условные обозначения наличия позиции на складе:
C39: 1 – имеется в наличии на складе;
C40: 2 – поставка в течение 1–2 недель;
C41: 3 – поставка по спецзаказу.

Sheet 5.2
A1: 5.2. Насосы циркуляционные с мокрым ротором и электронным регулированием
A2: Кодовый номер | B2: Тип | C2: Мощность Р1, Вт | D2: Монтажная длина, мм | E2: Трубное присоединение | F2: Материал корпуса | G2: Напряжение питания | H2: Группа скидок | I2: Цена без НДС, KZT | J2: Цена с НДС, KZT | K2: наличие
A3: Насос циркуляционный с мокрым ротором и электронным регулированием серии RWE; Диапазон температур жидкости -20…110 °C; Степень защиты IP44; Класс изоляции F; PN 10 бар;
A4: 015P1301 | B4: RWE 25-60S | C4: 38 | D4: 180 | E4: G1 ½” | F4: Чугун | G4: 1х220 В, 50 Гц | H4: PL15-RW | I4: 135660 | J4: =ROUND(ROUND(I4,2)*НДС!$A$1,2) -> 157365.6 | K4: 1
A5: 015P1302 | B5: RWE 25-80S | C5: 80 | D5: 180 | E5: G1 ½” | F5: Чугун | G5: 1х220 В, 50 Гц | H5: PL15-RW | I5: 182580 | J5: =ROUND(ROUND(I5,2)*НДС!$A$1,2) -> 211792.8 | K5: 1
A6: 015P1303 | B6: RWE 25-120S | C6: 180 | D6: 180 | E6: G1 ½” | F6: Чугун | G6: 1х220 В, 50 Гц | H6: PL15-RW | I6: 254340 | J6: =ROUND(ROUND(I6,2)*НДС!$A$1,2) -> 295034.4 | K6: 1
A7: 015P1304 | B7: RWE 32-120S | C7: 320 | D7: 180 | E7: G2” | F7: Чугун | G7: 1х220 В, 50 Гц | H7: PL15-RW | I7: 598320 | J7: =ROUND(ROUND(I7,2)*НДС!$A$1,2) -> 694051.2 | K7: 1
A8: 015P1305 | B8: RWE 40-120FS | C8: 500 | D8: 250 | E8: DN40 PN06/10 | F8: Чугун | G8: 1х220 В, 50 Гц | H8: PL15-RW | I8: 1112940 | J8: =ROUND(ROUND(I8,2)*НДС!$A$1,2) -> 1291010.4 | K8: 1
A9: 015P1309 | B9: RWE 40-180FS | C9: 670 | D9: 250 | E9: DN40 PN06/10 | F9: Чугун | G9: 1х220 В, 50 Гц | H9: PL15-RW | I9: 1225920 | J9: =ROUND(ROUND(I9,2)*НДС!$A$1,2) -> 1422067.2 | K9: 1
A10: 015P1306 | B10: RWE 50-120FS | C10: 600 | D10: 280 | E10: DN50 PN06/10 | F10: Чугун | G10: 1х220 В, 50 Гц | H10: PL15-RW | I10: 1199760 | J10: =ROUND(ROUND(I10,2)*НДС!$A$1,2) -> 1391721.6 | K10: 1
A11: 015P1307 | B11: RWE 65-120FS | C11: 750 | D11: 340 | E11: DN65 PN06/10 | F11: Чугун | G11: 1х220 В, 50 Гц | H11: PL15-RW | I11: 1352520 | J11: =ROUND(ROUND(I11,2)*НДС!$A$1,2) -> 1568923.2 | K11: 1
A12: 015P1311 | B12: RWE 65-150FS | C12: 1365 | D12: 340 | E12: DN65 PN06/10 | F12: Чугун | G12: 1х220 В, 50 Гц | H12: PL15-RW | I12: 1517040 | J12: =ROUND(ROUND(I12,2)*НДС!$A$1,2) -> 1759766.4 | K12: 1
B14: В таблицах используются следующие условные обозначения наличия позиции на складе:
C15: 1 – имеется в наличии на складе;
C16: 2 – поставка в течение 1–2 недель;
C17: 3 – поставка по спецзаказу.

Sheet 5.3
A1: 5.3. Насосы одноступенчатые вертикальные ин-лайн
A2: Сроки, наличие и заказ оборудования в электронном магазине ridan.ru или по телефону (495) 792 57 57
A3: Кодовый номер | B3: Тип | C3: Мощность Р2, кВт | D3: DN,мм | E3: Торцевое уплотнение | F3: Частота вращения | G3: Группа скидок | H3: Цена без НДС, KZT | I3: Цена с НДС, KZT | J3: наличие
A4: Насос одноступенчатый вертикальный ин-лайн серии RV; Диапазон температур жидкости -15…120 °C; Степень защиты IP55; Класс изоляции F; PN 16 бар; Класс энергоэффективности IE3; Напряжение питания 3х380 В, 50 Гц; Корпус и рабочее колесо — чугун; Все чугунные элементы конструкции насоса покрыты защитным коррозионностойким покрытием, нанесённым методом катафореза
A5: 015P2247 | B5: RV 32-200/2 | C5: 1.1 | D5: 32 | E5: C/WC/EPDM | F5: 2900 | G5: PL15-RV | H5: 453660 | I5: =ROUND(ROUND(H5,2)*НДС!$A$1,2) -> 526245.6 | J5: 1
A6: 015P2248 | B6: RV 32-250/2 | C6: 1.5 | D6: 32 | E6: C/WC/EPDM | F6: 2900 | G6: PL15-RV | H6: 506556 | I6: =ROUND(ROUND(H6,2)*НДС!$A$1,2) -> 587604.96 | J6: 1
A7: 015P2249 | B7: RV 32-290/2 | C7: 2.2 | D7: 32 | E7: C/WC/EPDM | F7: 2900 | G7: PL15-RV | H7: 535548 | I7: =ROUND(ROUND(H7,2)*НДС!$A$1,2) -> 621235.68 | J7: 3
A8: 015P2250 | B8: RV 32-360/2 | C8: 3 | D8: 32 | E8: C/WC/EPDM | F8: 2900 | G8: PL15-RV | H8: 638088 | I8: =ROUND(ROUND(H8,2)*НДС!$A$1,2) -> 740182.08 | J8: 3
A9: 015P2251 | B9: RV 32-410/2 | C9: 3 | D9: 32 | E9: C/WC/EPDM | F9: 2900 | G9: PL15-RV | H9: 766368 | I9: =ROUND(ROUND(H9,2)*НДС!$A$1,2) -> 888986.88 | J9: 3
A10: 015P2252 | B10: RV 32-510/2 | C10: 4 | D10: 32 | E10: C/WC/EPDM | F10: 2900 | G10: PL15-RV | H10: 984858 | I10: =ROUND(ROUND(H10,2)*НДС!$A$1,2) -> 1142435.3 | J10: 3
A11: 015P2001 | B11: RV 40-180/2 | C11: 1.1 | D11: 40 | E11: C/WC/EPDM | F11: 2900 | G11: PL15-RV | H11: 457806 | I11: =ROUND(ROUND(H11,2)*НДС!$A$1,2) -> 531054.96 | J11: 3
A12: 015P2002 | B12: RV 40-230/2 | C12: 1.5 | D12: 40 | E12: C/WC/EPDM | F12: 2900 | G12: PL15-RV | H12: 521658 | I12: =ROUND(ROUND(H12,2)*НДС!$A$1,2) -> 605123.28 | J12: 1
A13: 015P2003 | B13: RV 40-240/2 | C13: 2.2 | D13: 40 | E13: C/WC/EPDM | F13: 2900 | G13: PL15-RV | H13: 583668 | I13: =ROUND(ROUND(H13,2)*НДС!$A$1,2) -> 677054.88 | J13: 1
A14: 015P2004 | B14: RV 40-300/2 | C14: 3 | D14: 40 | E14: C/WC/EPDM | F14: 2900 | G14: PL15-RV | H14: 717000 | I14: =ROUND(ROUND(H14,2)*НДС!$A$1,2) -> 831720 | J14: 1
A15: 015P2005 | B15: RV 40-360/2 | C15: 4 | D15: 40 | E15: C/WC/EPDM | F15: 2900 | G15: PL15-RV | H15: 827388 | I15: =ROUND(ROUND(H15,2)*НДС!$A$1,2) -> 959770.08 | J15: 1
A16: 015P2006 | B16: RV 40-410/2 | C16: 5.5 | D16: 40 | E16: C/WC/EPDM | F16: 2900 | G16: PL15-RV | H16: 1118934 | I16: =ROUND(ROUND(H16,2)*НДС!$A$1,2) -> 1297963.4 | J16: 1
... A101: 015P2091 | B101: RV 250-555/4 | C101: 132 | D101: 250 | E101: C/WC/EPDM | F101: 1450 | G101: PL15-RV | H101: 15809946 | I101: =ROUND(ROUND(H101,2)*НДС!$A$1,2) -> 18339537 | J101: 3
B103: В таблицах используются следующие условные обозначения наличия позиции на складе:
C104: 1 – имеется в наличии на складе;
C105: 2 – поставка в течение 1–2 недель;
C106: 3 – поставка по спецзаказу.

Sheet НДС
A1: 1.16

Sheet 5.4
A1: 5.4. Насосы многоступенчатые вертикальные RMV
A2: Сроки, наличие и заказ оборудования в электронном магазине ridan.ru или по телефону (495) 792 57 57
A3: Кодовый номер | B3: Тип | C3: Мощность Р2, кВт | D3: DN,мм | E3: Торцевое уплотнение | F3: Частота вращения | G3: Группа скидок | H3: Цена без НДС, KZT | I3: Цена с НДС, KZT | J3: наличие
A4: Насос многоступенчатый вертикальный серии RMV; Диапазон температур жидкости -15…120 °C; Степень защиты IP55; Класс изоляции F; PN 25 бар; Класс энергоэффективности IE3; Напряжение питания 3х380 В, 50 Гц; Основание и головная часть из чугуна, рабочие колеса и камеры из нержавеющей стали AISI304; Все чугунные элементы конструкции насоса покрыты защитным коррозионностойким покрытием, нанесённым методом катафореза.
A5: 015P2092 | B5: RMV 1-2F | C5: 0.37 | D5: 25 | E5: SiC/SiC/EPDM | F5: 2900 | G5: PL15-RM | H5: 277662 | I5: =ROUND(ROUND(H5,2)*НДС!$A$1,2) -> 322087.92 | J5: 1
A6: 015P2093 | B6: RMV 1-3F | C6: 0.37 | D6: 25 | E6: SiC/SiC/EPDM | F6: 2900 | G6: PL15-RM | H6: 342048 | I6: =ROUND(ROUND(H6,2)*НДС!$A$1,2) -> 396775.68 | J6: 1
A7: 015P2094 | B7: RMV 1-4F | C7: 0.37 | D7: 25 | E7: SiC/SiC/EPDM | F7: 2900 | G7: PL15-RM | H7: 363402 | I7: =ROUND(ROUND(H7,2)*НДС!$A$1,2) -> 421546.32 | J7: 1
A8: 015P2095 | B8: RMV 1-5F | C8: 0.37 | D8: 25 | E8: SiC/SiC/EPDM | F8: 2900 | G8: PL15-RM | H8: 402408 | I8: =ROUND(ROUND(H8,2)*НДС!$A$1,2) -> 466793.28 | J8: 1
A9: 015P2096 | B9: RMV 1-6F | C9: 0.37 | D9: 25 | E9: SiC/SiC/EPDM | F9: 2900 | G9: PL15-RM | H9: 449148 | I9: =ROUND(ROUND(H9,2)*НДС!$A$1,2) -> 521011.68 | J9: 1
A10: 015P2097 | B10: RMV 1-7F | C10: 0.37 | D10: 25 | E10: SiC/SiC/EPDM | F10: 2900 | G10: PL15-RM | H10: 480102 | I10: =ROUND(ROUND(H10,2)*НДС!$A$1,2) -> 556918.32 | J10: 1
A11: 015P2098 | B11: RMV 1-8F | C11: 0.37 | D11: 25 | E11: SiC/SiC/EPDM | F11: 2900 | G11: PL15-RM | H11: 513840 | I11: =ROUND(ROUND(H11,2)*НДС!$A$1,2) -> 596054.4 | J11: 1
A12: 015P2099 | B12: RMV 1-9F | C12: 0.55 | D12: 25 | E12: SiC/SiC/EPDM | F12: 2900 | G12: PL15-RM | H12: 531180 | I12: =ROUND(ROUND(H12,2)*НДС!$A$1,2) -> 616168.8 | J12: 1
A13: 015P2100 | B13: RMV 1-10F | C13: 0.55 | D13: 25 | E13: SiC/SiC/EPDM | F13: 2900 | G13: PL15-RM | H13: 556560 | I13: =ROUND(ROUND(H13,2)*НДС!$A$1,2) -> 645609.6 | J13: 1
A14: 015P2101 | B14: RMV 1-11F | C14: 0.55 | D14: 25 | E14: SiC/SiC/EPDM | F14: 2900 | G14: PL15-RM | H14: 595566 | I14: =ROUND(ROUND(H14,2)*НДС!$A$1,2) -> 690856.56 | J14: 3
A15: 015P2102 | B15: RMV 1-12F | C15: 0.75 | D15: 25 | E15: SiC/SiC/EPDM | F15: 2900 | G15: PL15-RM | H15: 621264 | I15: =ROUND(ROUND(H15,2)*НДС!$A$1,2) -> 720666.24 | J15: 3
A16: 015P2103 | B16: RMV 1-13F | C16: 0.75 | D16: 25 | E16: SiC/SiC/EPDM | F16: 2900 | G16: PL15-RM | H16: 634260 | I16: =ROUND(ROUND(H16,2)*НДС!$A$1,2) -> 735741.6 | J16: 3
... A213: 015P2345 | B213: RMV 95-8-2F | C213: 55 | D213: 100 | E213: SiC/SiC/EPDM | F213: 2900 | G213: PL15-RM | H213: 10067670 | I213: =ROUND(ROUND(H213,2)*НДС!$A$1,2) -> 11678497 | J213: 3
A215: Комплект КИПиА для насосной станции
A216: Кодовый номер | B216: Состав комплекта | C216: Тип | D216: Описание | G216: Группа скидок | H216: Цена без НДС, KZT | I216: Цена с НДС, KZT | J216: наличие
A217: 333U3516R | B217: 060-121766R – 1 шт. 064G6523R – 1 шт. | C217: Комплект КИПиА для насосной станции | D217: • Реле давления KPI35R, диап. настройки -0,2..7,5 бар, дифф. 0,7-4 бар, G1/4 — 1 шт. • Преобразователь давления MBS1900R 0-16 бар, 4-20 мА, aviation plug с кабелем 4 м, G ¼ — 1 шт. | G217: PL04R-20 | H217: 34980 | I217: =ROUND(ROUND(H217,2)*НДС!$A$1,2) -> 40576.8 | J217: 1
B219: В таблицах используются следующие условные обозначения наличия позиции на складе:
C220: 1 – имеется в наличии на складе;
C221: 2 – поставка в течение 1–2 недель;
C222: 3 – поставка по спецзаказу.

Sheet 5.5
A1: 5.5. Насосы многоступенчатые вертикальные RMVI
A2: Сроки, наличие и заказ оборудования в электронном магазине ridan.ru или по телефону (495) 792 57 57
A3: Кодовый номер | B3: Тип | C3: Мощность Р2, кВт | D3: DN,мм | E3: Торцевое уплотнение | F3: Частота вращения | G3: Группа скидок | H3: Цена без НДС, KZT | I3: Цена с НДС, KZT | J3: наличие
A4: Насос многоступенчатый вертикальный серии RMVI; Диапазон температур жидкости -15…120 °C; Степень защиты IP55; Класс изоляции F; PN 25 бар; Класс энергоэффективности IE3; Напряжение питания 3х380 В, 50 Гц; Основание и головная часть, рабочие колеса и камеры из нержавеющей стали AISI304
A5: 015P2692 | B5: RMVI 1-2F | C5: 0.37 | D5: 25 | E5: SiC/SiC/EPDM | F5: 2900 | G5: PL15-RM | H5: 347178 | I5: =ROUND(ROUND(H5,2)*НДС!$A$1,2) -> 402726.48 | J5: 3
A6: 015P2693 | B6: RMVI 1-3F | C6: 0.37 | D6: 25 | E6: SiC/SiC/EPDM | F6: 2900 | G6: PL15-RM | H6: 412614 | I6: =ROUND(ROUND(H6,2)*НДС!$A$1,2) -> 478632.24 | J6: 3
A7: 015P2694 | B7: RMVI 1-4F | C7: 0.37 | D7: 25 | E7: SiC/SiC/EPDM | F7: 2900 | G7: PL15-RM | H7: 445440 | I7: =ROUND(ROUND(H7,2)*НДС!$A$1,2) -> 516710.4 | J7: 3
A8: 015P2695 | B8: RMVI 1-5F | C8: 0.37 | D8: 25 | E8: SiC/SiC/EPDM | F8: 2900 | G8: PL15-RM | H8: 485214 | I8: =ROUND(ROUND(H8,2)*НДС!$A$1,2) -> 562848.24 | J8: 3
A9: 015P2696 | B9: RMVI 1-6F | C9: 0.37 | D9: 25 | E9: SiC/SiC/EPDM | F9: 2900 | G9: PL15-RM | H9: 534282 | I9: =ROUND(ROUND(H9,2)*НДС!$A$1,2) -> 619767.12 | J9: 3
A10: 015P2697 | B10: RMVI 1-7F | C10: 0.37 | D10: 25 | E10: SiC/SiC/EPDM | F10: 2900 | G10: PL15-RM | H10: 565386 | I10: =ROUND(ROUND(H10,2)*НДС!$A$1,2) -> 655847.76 | J10: 3
A11: 015P2698 | B11: RMVI 1-8F | C11: 0.37 | D11: 25 | E11: SiC/SiC/EPDM | F11: 2900 | G11: PL15-RM | H11: 600990 | I11: =ROUND(ROUND(H11,2)*НДС!$A$1,2) -> 697148.4 | J11: 3
A12: 015P2699 | B12: RMVI 1-9F | C12: 0.55 | D12: 25 | E12: SiC/SiC/EPDM | F12: 2900 | G12: PL15-RM | H12: 632694 | I12: =ROUND(ROUND(H12,2)*НДС!$A$1,2) -> 733925.04 | J12: 3
A13: 015P2700 | B13: RMVI 1-10F | C13: 0.55 | D13: 25 | E13: SiC/SiC/EPDM | F13: 2900 | G13: PL15-RM | H13: 659586 | I13: =ROUND(ROUND(H13,2)*НДС!$A$1,2) -> 765119.76 | J13: 3
A14: 015P2701 | B14: RMVI 1-11F | C14: 0.55 | D14: 25 | E14: SiC/SiC/EPDM | F14: 2900 | G14: PL15-RM | H14: 700560 | I14: =ROUND(ROUND(H14,2)*НДС!$A$1,2) -> 812649.6 | J14: 3
A15: 015P2702 | B15: RMVI 1-12F | C15: 0.75 | D15: 25 | E15: SiC/SiC/EPDM | F15: 2900 | G15: PL15-RM | H15: 727440 | I15: =ROUND(ROUND(H15,2)*НДС!$A$1,2) -> 843830.4 | J15: 3
A16: 015P2703 | B16: RMVI 1-13F | C16: 0.75 | D16: 25 | E16: SiC/SiC/EPDM | F16: 2900 | G16: PL15-RM | H16: 741534 | I16: =ROUND(ROUND(H16,2)*НДС!$A$1,2) -> 860179.44 | J16: 3
... A213: 015P2945 | B213: RMVI 95-8-2F | C213: 55 | D213: 100 | E213: SiC/SiC/EPDM | F213: 2900 | G213: PL15-RM | H213: 10781346 | I213: =ROUND(ROUND(H213,2)*НДС!$A$1,2) -> 12506361 | J213: 3
B216: В таблицах используются следующие условные обозначения наличия позиции на складе:
C217: 1 – имеется в наличии на складе;
C218: 2 – поставка в течение 1–2 недель;
C219: 3 – поставка по спецзаказу.

Sheet 5.6
A1: 5.6. Насосы многоступенчатые горизонтальные
A2: Сроки, наличие и заказ оборудования в электронном магазине ridan.ru или по телефону (495) 792 57 57
A3: Кодовый номер | B3: Тип | C3: Мощность Р2, кВт | D3: Присоединение | E3: Торцевое уплотнение | F3: Частота вращения | G3: Группа скидок | H3: Цена без НДС, KZT | I3: Цена с НДС, KZT | J3: наличие
A4: Насос многоступенчатый горизонтальный серии RMHI; Диапазон температур жидкости 0...120 °C; Степень защиты IP55; Класс изоляции F; PN 10 бар; Класс энергоэффективности IE2; Напряжение питания 3х380 В, 50 Гц; Все детали, контактирующие с рабочей средой, выполнены из нержавеющей стали AISI304.
A5: 015P2352 | B5: RMHI 2-2R | C5: 0.37 | D5: G1-G1 | E5: SiC/SiC/EPDM | F5: 2900 | G5: PL15-RM | H5: 183900 | I5: =ROUND(ROUND(H5,2)*НДС!$A$1,2) -> 213324 | J5: 1
A6: 015P2353 | B6: RMHI 2-3R | C6: 0.37 | D6: G1-G1 | E6: SiC/SiC/EPDM | F6: 2900 | G6: PL15-RM | H6: 207234 | I6: =ROUND(ROUND(H6,2)*НДС!$A$1,2) -> 240391.44 | J6: 1
A7: 015P2354 | B7: RMHI 2-4R | C7: 0.55 | D7: G1-G1 | E7: SiC/SiC/EPDM | F7: 2900 | G7: PL15-RM | H7: 220800 | I7: =ROUND(ROUND(H7,2)*НДС!$A$1,2) -> 256128 | J7: 1
A8: 015P2355 | B8: RMHI 2-5R | C8: 0.55 | D8: G1-G1 | E8: SiC/SiC/EPDM | F8: 2900 | G8: PL15-RM | H8: 255816 | I8: =ROUND(ROUND(H8,2)*НДС!$A$1,2) -> 296746.56 | J8: 1
A9: 015P2356 | B9: RMHI 2-6R | C9: 0.75 | D9: G1-G1 | E9: SiC/SiC/EPDM | F9: 2900 | G9: PL15-RM | H9: 290826 | I9: =ROUND(ROUND(H9,2)*НДС!$A$1,2) -> 337358.16 | J9: 3
A10: 015P2357 | B10: RMHI 4-2R | C10: 0.37 | D10: G1 1/4-G1 | E10: SiC/SiC/EPDM | F10: 2900 | G10: PL15-RM | H10: 213858 | I10: =ROUND(ROUND(H10,2)*НДС!$A$1,2) -> 248075.28 | J10: 1
A11: 015P2358 | B11: RMHI 4-3R | C11: 0.55 | D11: G1 1/4-G1 | E11: SiC/SiC/EPDM | F11: 2900 | G11: PL15-RM | H11: 237516 | I11: =ROUND(ROUND(H11,2)*НДС!$A$1,2) -> 275518.56 | J11: 1
A12: 015P2359 | B12: RMHI 4-4R | C12: 0.75 | D12: G1 1/4-G1 | E12: SiC/SiC/EPDM | F12: 2900 | G12: PL15-RM | H12: 267486 | I12: =ROUND(ROUND(H12,2)*НДС!$A$1,2) -> 310283.76 | J12: 1
A13: 015P2360 | B13: RMHI 4-5R | C13: 1.1 | D13: G1 1/4-G1 | E13: SiC/SiC/EPDM | F13: 2900 | G13: PL15-RM | H13: 327732 | I13: =ROUND(ROUND(H13,2)*НДС!$A$1,2) -> 380169.12 | J13: 1
A14: 015P2361 | B14: RMHI 4-6R | C14: 1.1 | D14: G1 1/4-G1 | E14: SiC/SiC/EPDM | F14: 2900 | G14: PL15-RM | H14: 337824 | I14: =ROUND(ROUND(H14,2)*НДС!$A$1,2) -> 391875.84 | J14: 3
A15: 015P2362 | B15: RMHI 8-2R | C15: 0.75 | D15: G1 1/2-G1 1/4 | E15: SiC/SiC/EPDM | F15: 2900 | G15: PL15-RM | H15: 400278 | I15: =ROUND(ROUND(H15,2)*НДС!$A$1,2) -> 464322.48 | J15: 3
A16: 015P2363 | B16: RMHI 8-3R | C16: 1.1 | D16: G1 1/2-G1 1/4 | E16: SiC/SiC/EPDM | F16: 2900 | G16: PL15-RM | H16: 430242 | I16: =ROUND(ROUND(H16,2)*НДС!$A$1,2) -> 499080.72 | J16: 3
A17: 015P2364 | B17: RMHI 8-4R | C17: 1.5 | D17: G1 1/2-G1 1/4 | E17: SiC/SiC/EPDM | F17: 2900 | G17: PL15-RM | H17: 448224 | I17: =ROUND(ROUND(H17,2)*НДС!$A$1,2) -> 519939.84 | J17: 3
A18: 015P2365 | B18: RMHI 8-5R | C18: 2.2 | D18: G1 1/2-G1 1/4 | E18: SiC/SiC/EPDM | F18: 2900 | G18: PL15-RM | H18: 535596 | I18: =ROUND(ROUND(H18,2)*НДС!$A$1,2) -> 621291.36 | J18: 3
A19: 015P2366 | B19: RMHI 12-2R | C19: 1.2 | D19: G1 1/2-G1 1/4 | E19: SiC/SiC/EPDM | F19: 2900 | G19: PL15-RM | H19: 440970 | I19: =ROUND(ROUND(H19,2)*НДС!$A$1,2) -> 511525.2 | J19: 1
A20: 015P2367 | B20: RMHI 12-3R | C20: 1.8 | D20: G1 1/2-G1 1/4 | E20: SiC/SiC/EPDM | F20: 2900 | G20: PL15-RM | H20: 510054 | I20: =ROUND(ROUND(H20,2)*НДС!$A$1,2) -> 591662.64 | J20: 1
A21: 015P2368 | B21: RMHI 12-4R | C21: 2.4 | D21: G1 1/2-G1 1/4 | E21: SiC/SiC/EPDM | F21: 2900 | G21: PL15-RM | H21: 610986 | I21: =ROUND(ROUND(H21,2)*НДС!$A$1,2) -> 708743.76 | J21: 1
A22: 015P2369 | B22: RMHI 12-5R | C22: 3 | D22: G1 1/2-G1 1/4 | E22: SiC/SiC/EPDM | F22: 2900 | G22: PL15-RM | H22: 733056 | I22: =ROUND(ROUND(H22,2)*НДС!$A$1,2) -> 850344.96 | J22: 3
A23: 015P2370 | B23: RMHI 16-2R | C23: 2.2 | D23: G1 1/2-G1 1/4 | E23: SiC/SiC/EPDM | F23: 2900 | G23: PL15-RM | H23: 523608 | I23: =ROUND(ROUND(H23,2)*НДС!$A$1,2) -> 607385.28 | J23: 1
A24: 015P2371 | B24: RMHI 16-3R | C24: 3 | D24: G1 1/2-G1 1/4 | E24: SiC/SiC/EPDM | F24: 2900 | G24: PL15-RM | H24: 640950 | I24: =ROUND(ROUND(H24,2)*НДС!$A$1,2) -> 743502 | J24: 1
A25: 015P2372 | B25: RMHI 20-1R | C25: 1.1 | D25: G2-G2 | E25: SiC/SiC/EPDM | F25: 2900 | G25: PL15-RM | H25: 598998 | I25: =ROUND(ROUND(H25,2)*НДС!$A$1,2) -> 694837.68 | J25: 3
A26: 015P2373 | B26: RMHI 20-2R | C26: 2.2 | D26: G2-G2 | E26: SiC/SiC/EPDM | F26: 2900 | G26: PL15-RM | H26: 623916 | I26: =ROUND(ROUND(H26,2)*НДС!$A$1,2) -> 723742.56 | J26: 3
A27: 015P2374 | B27: RMHI 20-3R | C27: 3.5 | D27: G2-G2 | E27: SiC/SiC/EPDM | F27: 2900 | G27: PL15-RM | H27: 822948 | I27: =ROUND(ROUND(H27,2)*НДС!$A$1,2) -> 954619.68 | J27: 3
B29: В таблицах используются следующие условные обозначения наличия позиции на складе:
C30: 1 – имеется в наличии на складе;
C31: 2 – поставка в течение 1–2 недель;
C32: 3 – поставка по спецзаказу.

Sheet 5.7
A1: 5.7. Насосы дренажные
A2: Сроки, наличие и заказ оборудования в электронном магазине ridan.ru или по телефону (495) 792 57 57
A3: Кодовый номер | B3: Тип | C3: Мощность Р2, кВт | D3: Присоединение | E3: Расход, м3/ч | F3: Напор, м | G3: Группа скидок | H3: Цена без НДС, KZT | I3: Цена с НДС, KZT | J3: наличие
A4: Насос погружной дренажный серии RD; Диапазон температур жидкости 2...100 °C; Степень защиты IPX8; Класс изоляции H; Напряжение питания 3х380 В, 50 Гц; Все детали, контактирующие с рабочей средой, выполнены из нержавеющей стали AISI304
A5: 015P3001 | B5: RD 15-40-075-D-H | C5: 0.75 | D5: G1 ½ x штуцер | E5: 0 — 19 | F5: 4 — 16 | G5: PL15-RM | H5: 1498800 | I5: =ROUND(ROUND(H5,2)*НДС!$A$1,2) -> 1738608 | J5: 1
B7: В таблицах используются следующие условные обозначения наличия позиции на складе:
C8: 1 – имеется в наличии на складе;
C9: 2 – поставка в течение 1–2 недель;
C10: 3 – поставка по спецзаказу.

Sheet 5.8
A1: 5.8. Насосы одноступенчатые горизонтальные консольно-моноблочные
A2: Сроки, наличие и заказ оборудования в электронном магазине ridan.ru или по телефону (495) 792 57 57
A3: Кодовый номер | B3: Тип | C3: Мощность Р2, кВт | D3: DNS, мм | E3: DND, мм | F3: Торцевое уплотнение | G3: Частота вращения | H3: Группа скидок | I3: Цена без НДС, KZT | J3: Цена с НДС, KZT | K3: наличие
A4: Насос одноступенчатый горизонтальный консольно-моноблочный серии RH; Диапазон температур жидкости -15…120 °C; Степень защиты IP55; Класс изоляции F; PN 16 бар; Класс энергоэффективности IE2; Напряжение питания 3х380 В, 50 Гц; Корпус и рабочее колесо — чугун; Все чугунные элементы конструкции насоса покрыты защитным коррозионностойким покрытием, нанесённым методом катафореза.
A5: 015P4002 | B5: RH 50-160-1,1/2 | C5: 1.1 | D5: 65 | E5: 50 | F5: SiC/SiC/EPDM | G5: 2900 | H5: PL15-RV | I5: 571638 | J5: =ROUND(ROUND(I5,2)*НДС!$A$1,2) -> 663100.08 | K5: 3
A6: 015P4003 | B6: RH 50-190-1,5/2 | C6: 1.5 | D6: 65 | E6: 50 | F6: SiC/SiC/EPDM | G6: 2900 | H6: PL15-RV | I6: 619470 | J6: =ROUND(ROUND(I6,2)*НДС!$A$1,2) -> 718585.2 | K6: 3
A7: 015P4004 | B7: RH 50-210-2,2/2 | C7: 2.2 | D7: 65 | E7: 50 | F7: SiC/SiC/EPDM | G7: 2900 | H7: PL15-RV | I7: 654078 | J7: =ROUND(ROUND(I7,2)*НДС!$A$1,2) -> 758730.48 | K7: 3
A8: 015P4005 | B8: RH 50-270-3/2 | C8: 3 | D8: 65 | E8: 50 | F8: SiC/SiC/EPDM | G8: 2900 | H8: PL15-RV | I8: 764130 | J8: =ROUND(ROUND(I8,2)*НДС!$A$1,2) -> 886390.8 | K8: 3
A9: 015P4006 | B9: RH 50-310-4/2 | C9: 4 | D9: 65 | E9: 50 | F9: SiC/SiC/EPDM | G9: 2900 | H9: PL15-RV | I9: 871986 | J9: =ROUND(ROUND(I9,2)*НДС!$A$1,2) -> 1011503.8 | K9: 3
A10: 015P4007 | B10: RH 50-380-5,5/2 | C10: 5.5 | D10: 65 | E10: 50 | F10: SiC/SiC/EPDM | G10: 2900 | H10: PL15-RV | I10: 1163304 | J10: =ROUND(ROUND(I10,2)*НДС!$A$1,2) -> 1349432.6 | K10: 3
A11: 015P4008 | B11: RH 50-440-7,5/2 | C11: 7.5 | D11: 65 | E11: 50 | F11: SiC/SiC/EPDM | G11: 2900 | H11: PL15-RV | I11: 1286190 | J11: =ROUND(ROUND(I11,2)*НДС!$A$1,2) -> 1491980.4 | K11: 3
A12: 015P4009 | B12: RH 50-530-11/2 | C12: 11 | D12: 65 | E12: 50 | F12: SiC/SiC/EPDM | G12: 2900 | H12: PL15-RV | I12: 1689786 | J12: =ROUND(ROUND(I12,2)*НДС!$A$1,2) -> 1960151.8 | K12: 3
A13: 015P4010 | B13: RH 50-650-15/2 | C13: 15 | D13: 65 | E13: 50 | F13: SiC/SiC/EPDM | G13: 2900 | H13: PL15-RV | I13: 1905726 | J13: =ROUND(ROUND(I13,2)*НДС!$A$1,2) -> 2210642.2 | K13: 3
A14: 015P4011 | B14: RH 50-760-18,5/2 | C14: 18.5 | D14: 65 | E14: 50 | F14: SiC/SiC/EPDM | G14: 2900 | H14: PL15-RV | I14: 2128332 | J14: =ROUND(ROUND(I14,2)*НДС!$A$1,2) -> 2468865.1 | K14: 3
A15: 015P4012 | B15: RH 50-850-22/2 | C15: 22 | D15: 65 | E15: 50 | F15: SiC/SiC/EPDM | G15: 2900 | H15: PL15-RV | I15: 2577474 | J15: =ROUND(ROUND(I15,2)*НДС!$A$1,2) -> 2989869.8 | K15: 3
A16: 015P4013 | B16: RH 50-90-0,75/4 | C16: 0.75 | D16: 65 | E16: 50 | F16: SiC/SiC/EPDM | G16: 1450 | H16: PL15-RV | I16: 647856 | J16: =ROUND(ROUND(I16,2)*НДС!$A$1,2) -> 751512.96 | K16: 3
... A184: 015P4181 | B184: RH 200-290-37/6 | C184: 37 | D184: 250 | E184: 200 | F184: SiC/SiC/EPDM | G184: 965 | H184: PL15-RV | I184: 5876964 | J184: =ROUND(ROUND(I184,2)*НДС!$A$1,2) -> 6817278.2 | K184: 3
B187: В таблицах используются следующие условные обозначения наличия позиции на складе:
C188: 1 – имеется в наличии на складе;
C189: 2 – поставка в течение 1–2 недель;
C190: 3 – поставка по спецзаказу.

Sheet 5.9
A1: 5.9. Насосы одноступенчатые горизонтальные консольные
A2: Сроки, наличие и заказ оборудования в электронном магазине ridan.ru или по телефону (495) 792 57 57
A3: Кодовый номер | B3: Тип | C3: Мощность Р2, кВт | D3: DNS, мм | E3: DND, мм | F3: Торцевое уплотнение | G3: Частота вращения | H3: Группа скидок | I3: Цена без НДС, KZT | J3: Цена с НДС, KZT | K3: наличие
A4: Насос одноступенчатый горизонтальный консольный серии RHK; Диапазон температур жидкости -15…120 °C; Степень защиты IP55; Класс изоляции F; PN 16 бар; Класс энергоэффективности IE2; Напряжение питания 3х380 В, 50 Гц; Корпус и рабочее колесо — чугун; Все чугунные элементы конструкции насоса покрыты защитным коррозионностойким покрытием, нанесённым методом катафореза.
A5: 015P4182 | B5: RHK 50-160-1,1/2 | C5: 1.1 | D5: 65 | E5: 50 | F5: SiC/SiC/EPDM | G5: 2900 | H5: PL15-RV | I5: 969450 | J5: =ROUND(ROUND(I5,2)*НДС!$A$1,2) -> 1124562 | K5: 3
A6: 015P4183 | B6: RHK 50-190-1,5/2 | C6: 1.5 | D6: 65 | E6: 50 | F6: SiC/SiC/EPDM | G6: 2900 | H6: PL15-RV | I6: 1008726 | J6: =ROUND(ROUND(I6,2)*НДС!$A$1,2) -> 1170122.2 | K6: 3
A7: 015P4184 | B7: RHK 50-210-2,2/2 | C7: 2.2 | D7: 65 | E7: 50 | F7: SiC/SiC/EPDM | G7: 2900 | H7: PL15-RV | I7: 1100496 | J7: =ROUND(ROUND(I7,2)*НДС!$A$1,2) -> 1276575.4 | K7: 3
A8: 015P4185 | B8: RHK 50-270-3/2 | C8: 3 | D8: 65 | E8: 50 | F8: SiC/SiC/EPDM | G8: 2900 | H8: PL15-RV | I8: 1140168 | J8: =ROUND(ROUND(I8,2)*НДС!$A$1,2) -> 1322594.9 | K8: 3
A9: 015P4186 | B9: RHK 50-310-4/2 | C9: 4 | D9: 65 | E9: 50 | F9: SiC/SiC/EPDM | G9: 2900 | H9: PL15-RV | I9: 1265772 | J9: =ROUND(ROUND(I9,2)*НДС!$A$1,2) -> 1468295.5 | K9: 3
A10: 015P4187 | B10: RHK 50-380-5,5/2 | C10: 5.5 | D10: 65 | E10: 50 | F10: SiC/SiC/EPDM | G10: 2900 | H10: PL15-RV | I10: 1658382 | J10: =ROUND(ROUND(I10,2)*НДС!$A$1,2) -> 1923723.1 | K10: 3
A11: 015P4188 | B11: RHK 50-440-7,5/2 | C11: 7.5 | D11: 65 | E11: 50 | F11: SiC/SiC/EPDM | G11: 2900 | H11: PL15-RV | I11: 1938306 | J11: =ROUND(ROUND(I11,2)*НДС!$A$1,2) -> 2248435 | K11: 3
A12: 015P4189 | B12: RHK 50-530-11/2 | C12: 11 | D12: 65 | E12: 50 | F12: SiC/SiC/EPDM | G12: 2900 | H12: PL15-RV | I12: 2261034 | J12: =ROUND(ROUND(I12,2)*НДС!$A$1,2) -> 2622799.4 | K12: 3
A13: 015P4190 | B13: RHK 50-650-15/2 | C13: 15 | D13: 65 | E13: 50 | F13: SiC/SiC/EPDM | G13: 2900 | H13: PL15-RV | I13: 2682300 | J13: =ROUND(ROUND(I13,2)*НДС!$A$1,2) -> 3111468 | K13: 3
A14: 015P4191 | B14: RHK 50-760-18,5/2 | C14: 18.5 | D14: 65 | E14: 50 | F14: SiC/SiC/EPDM | G14: 2900 | H14: PL15-RV | I14: 2556276 | J14: =ROUND(ROUND(I14,2)*НДС!$A$1,2) -> 2965280.2 | K14: 3
A15: 015P4192 | B15: RHK 50-850-22/2 | C15: 22 | D15: 65 | E15: 50 | F15: SiC/SiC/EPDM | G15: 2900 | H15: PL15-RV | I15: 3101220 | J15: =ROUND(ROUND(I15,2)*НДС!$A$1,2) -> 3597415.2 | K15: 3
A16: 015P4193 | B16: RHK 50-90-0,75/4 | C16: 0.75 | D16: 65 | E16: 50 | F16: SiC/SiC/EPDM | G16: 1450 | H16: PL15-RV | I16: 1257606 | J16: =ROUND(ROUND(I16,2)*НДС!$A$1,2) -> 1458823 | K16: 3
... A218: 015P4395 | B218: RHK 350-730-315/4 | C218: 315 | D218: 350 | E218: 350 | F218: SiC/SiC/EPDM | G218: 1450 | H218: PL15-RV | I218: 27637296 | J218: =ROUND(ROUND(I218,2)*НДС!$A$1,2) -> 32059263 | K218: 3
B221: В таблицах используются следующие условные обозначения наличия позиции на складе:
C222: 1 – имеется в наличии на складе;
C223: 2 – поставка в течение 1–2 недель;
C224: 3 – поставка по спецзаказу.
