Workbook

Sheet 9.1
A1: 9. Трубопроводная арматура
A2: Сроки, наличие и заказ оборудования в электронном магазине ridan.ru или по телефону (495) 792 57 57
A4: 9.1. Краны шаровые запорные
A6: 9.1.1. Краны шаровые стальные RJIP, перемещаемая среда – вода и гликолевые смеси
A7: Кодовый номер | B7: Тип | C7: DN, мм | D7: PN , бар | E7: Kvs, м3/ч | F7: Кол-во в упаковке, шт. | H7: Группа скидок | I7: Цена без НДС, KZT | J7: Цена с НДС, KZT | K7: наличие
A8: Шаровой кран RJIP Premium WW под приварку с рукояткой, стандартным проходом; материал – углеродистая сталь; Тмакс. = 180 °С
A9: 065N0100GR | B9: RJIP-WW | C9: 15 | D9: 40 | E9: 11 | F9: 1 | H9: RU PL08RJIP-M | I9: 28806 | J9: =ROUND(ROUND(I9,2)*НДС!$A$1,2) -> 33414.96 | K9: 1
A10: 065N0105GR | B10: RJIP-WW | C10: 20 | D10: 40 | E10: 15 | F10: 1 | H10: RU PL08RJIP-M | I10: 28806 | J10: =ROUND(ROUND(I10,2)*НДС!$A$1,2) -> 33414.96 | K10: 1
A11: 065N0110GR | B11: RJIP-WW | C11: 25 | D11: 40 | E11: 34 | F11: 1 | H11: RU PL08RJIP-M | I11: 31764 | J11: =ROUND(ROUND(I11,2)*НДС!$A$1,2) -> 36846.24 | K11: 1
A12: 065N0115GR | B12: RJIP-WW | C12: 32 | D12: 40 | E12: 52 | F12: 1 | H12: RU PL08RJIP-M | I12: 34524 | J12: =ROUND(ROUND(I12,2)*НДС!$A$1,2) -> 40047.84 | K12: 1
A13: 065N0120GR | B13: RJIP-WW | C13: 40 | D13: 40 | E13: 96 | F13: 1 | H13: RU PL08RJIP-M | I13: 46998 | J13: =ROUND(ROUND(I13,2)*НДС!$A$1,2) -> 54517.68 | K13: 1
A14: 065N0125GR | B14: RJIP-WW | C14: 50 | D14: 40 | E14: 124 | F14: 1 | H14: RU PL08RJIP-M | I14: 52818 | J14: =ROUND(ROUND(I14,2)*НДС!$A$1,2) -> 61268.88 | K14: 1
A15: 065N4280GR | B15: RJIP-WW | C15: 65 | D15: 25 | E15: 169 | F15: 1 | H15: RU PL08RJIP-M | I15: 85482 | J15: =ROUND(ROUND(I15,2)*НДС!$A$1,2) -> 99159.12 | K15: 1
A16: 065N4285GR | B16: RJIP-WW | C16: 80 | D16: 25 | E16: 302 | F16: 1 | H16: RU PL08RJIP-M | I16: 115326 | J16: =ROUND(ROUND(I16,2)*НДС!$A$1,2) -> 133778.16 | K16: 1
A17: 065N0140GR | B17: RJIP-WW | C17: 100 | D17: 25 | E17: 488 | F17: 1 | H17: RU PL08RJIP-M | I17: 145716 | J17: =ROUND(ROUND(I17,2)*НДС!$A$1,2) -> 169030.56 | K17: 1
A18: 065N0745GR | B18: RJIP-WW | C18: 125 | D18: 25 | E18: 874 | F18: 1 | H18: RU PL08RJIP-M | I18: 279318 | J18: =ROUND(ROUND(I18,2)*НДС!$A$1,2) -> 324008.88 | K18: 1
A19: 065N0750GR | B19: RJIP-WW | C19: 150 | D19: 25 | E19: 1257 | F19: 1 | H19: RU PL08RJIP-M | I19: 431664 | J19: =ROUND(ROUND(I19,2)*НДС!$A$1,2) -> 500730.24 | K19: 1
A20: Шаровой кран RJIP Premium FF фланцевый, с рукояткой стандартным проходом; материал – углеродистая сталь; Тмакс. = 180 °С
A21: 065N0300GR | B21: RJIP-FF | C21: 15 | D21: 40 | E21: 11 | F21: 1 | H21: RU PL08RJIP-M | I21: 47772 | J21: =ROUND(ROUND(I21,2)*НДС!$A$1,2) -> 55415.52 | K21: 1
A22: 065N0305GR | B22: RJIP-FF | C22: 20 | D22: 40 | E22: 15 | F22: 1 | H22: RU PL08RJIP-M | I22: 54750 | J22: =ROUND(ROUND(I22,2)*НДС!$A$1,2) -> 63510 | K22: 1
A23: 065N0310GR | B23: RJIP-FF | C23: 25 | D23: 40 | E23: 34 | F23: 1 | H23: RU PL08RJIP-M | I23: 56304 | J23: =ROUND(ROUND(I23,2)*НДС!$A$1,2) -> 65312.64 | K23: 1
A24: 065N0315GR | B24: RJIP-FF | C24: 32 | D24: 40 | E24: 52 | F24: 1 | H24: RU PL08RJIP-M | I24: 61374 | J24: =ROUND(ROUND(I24,2)*НДС!$A$1,2) -> 71193.84 | K24: 1
A25: 065N0320GR | B25: RJIP-FF | C25: 40 | D25: 40 | E25: 96 | F25: 1 | H25: RU PL08RJIP-M | I25: 85248 | J25: =ROUND(ROUND(I25,2)*НДС!$A$1,2) -> 98887.68 | K25: 1
A26: 065N0325GR | B26: RJIP-FF | C26: 50 | D26: 40 | E26: 124 | F26: 1 | H26: RU PL08RJIP-M | I26: 96132 | J26: =ROUND(ROUND(I26,2)*НДС!$A$1,2) -> 111513.12 | K26: 1
A27: 065N4281GR | B27: RJIP-FF | C27: 65 | D27: 25 | E27: 169 | F27: 1 | H27: RU PL08RJIP-M | I27: 135054 | J27: =ROUND(ROUND(I27,2)*НДС!$A$1,2) -> 156662.64 | K27: 1
A28: 065N4286GR | B28: RJIP-FF | C28: 80 | D28: 25 | E28: 302 | F28: 1 | H28: RU PL08RJIP-M | I28: 166020 | J28: =ROUND(ROUND(I28,2)*НДС!$A$1,2) -> 192583.2 | K28: 1
A29: 065N0340GR | B29: RJIP-FF | C29: 100 | D29: 25 | E29: 488 | F29: 1 | H29: RU PL08RJIP-M | I29: 236436 | J29: =ROUND(ROUND(I29,2)*НДС!$A$1,2) -> 274265.76 | K29: 1
A30: 065N0945GR | B30: RJIP-FF | C30: 125 | D30: 25 | E30: 874 | F30: 1 | H30: RU PL08RJIP-M | I30: 415878 | J30: =ROUND(ROUND(I30,2)*НДС!$A$1,2) -> 482418.48 | K30: 1
A31: 065N0950GR | B31: RJIP-FF | C31: 150 | D31: 25 | E31: 1257 | F31: 1 | H31: RU PL08RJIP-M | I31: 687078 | J31: =ROUND(ROUND(I31,2)*НДС!$A$1,2) -> 797010.48 | K31: 1
A32: Удлинитель штока для установки шаровых кранов RJIP Premium с рукояткой под теплоизоляцию трубопровода
A33: 065N0325GR-S1 | B33: RJIP Premium | C33: 50-65 | D33: - | E33: - | F33: Комплект | H33: RU PL08RJIP-M | I33: 10332 | J33: =ROUND(ROUND(I33,2)*НДС!$A$1,2) -> 11985.12 | K33: 1
A34: 065N4286GR-S1 | B34: RJIP Premium | C34: 80-100 | D34: - | E34: - | F34: Комплект | H34: RU PL08RJIP-M | I34: 16314 | J34: =ROUND(ROUND(I34,2)*НДС!$A$1,2) -> 18924.24 | K34: 1
A35: 065N0945GR-S1 | B35: RJIP Premium | C35: 125 | D35: - | E35: - | F35: Комплект | H35: RU PL08RJIP-M | I35: 19716 | J35: =ROUND(ROUND(I35,2)*НДС!$A$1,2) -> 22870.56 | K35: 1
A36: Шаровой кран RJIP Premium WW под приварку со стандартным проходом, редукторным приводом; материал – углеродистая сталь; Тмакс. = 180 °С
A37: 065N0131R | B37: RJIP-WW | C37: 65 | D37: 25 | E37: 160 | F37: 1 | H37: RU PL08RJIP-M | I37: 511674 | J37: =ROUND(ROUND(I37,2)*НДС!$A$1,2) -> 593541.84 | K37: 1
A38: 065N0136R | B38: RJIP-WW | C38: 80 | D38: 25 | E38: 280 | F38: 1 | H38: RU PL08RJIP-M | I38: 597810 | J38: =ROUND(ROUND(I38,2)*НДС!$A$1,2) -> 693459.6 | K38: 1
A39: 065N0141R | B39: RJIP-WW | C39: 100 | D39: 25 | E39: 450 | F39: 1 | H39: RU PL08RJIP-M | I39: 659766 | J39: =ROUND(ROUND(I39,2)*НДС!$A$1,2) -> 765328.56 | K39: 1
A40: 065N0146R | B40: RJIP-WW | C40: 125 | D40: 25 | E40: 690 | F40: 1 | H40: RU PL08RJIP-M | I40: 833052 | J40: =ROUND(ROUND(I40,2)*НДС!$A$1,2) -> 966340.32 | K40: 1
A41: 065N0151GR | B41: RJIP-WW | C41: 150 | D41: 25 | E41: 1190 | F41: 1 | H41: RU PL08RJIP-M | I41: 801114 | J41: =ROUND(ROUND(I41,2)*НДС!$A$1,2) -> 929292.24 | K41: 1
A42: 065N0156GR | B42: RJIP-WW | C42: 200 | D42: 25 | E42: 1680 | F42: 1 | H42: RU PL08RJIP-M | I42: 1057302 | J42: =ROUND(ROUND(I42,2)*НДС!$A$1,2) -> 1226470.3 | K42: 1
A43: 065N0161GR | B43: RJIP-WW | C43: 250 | D43: 25 | E43: 3210 | F43: 1 | H43: RU PL08RJIP-M | I43: 2650764 | J43: =ROUND(ROUND(I43,2)*НДС!$A$1,2) -> 3074886.2 | K43: 1
A44: 065N0166GR | B44: RJIP-WW | C44: 300 | D44: 25 | E44: 4850 | F44: 1 | H44: RU PL08RJIP-M | I44: 4351428 | J44: =ROUND(ROUND(I44,2)*НДС!$A$1,2) -> 5047656.5 | K44: 1
A45: 065N0171GR | B45: RJIP-WW | C45: 350 | D45: 25 | E45: 7560 | F45: 1 | H45: RU PL08RJIP-M | I45: 6665454 | J45: =ROUND(ROUND(I45,2)*НДС!$A$1,2) -> 7731926.6 | K45: 3
A46: 065N0176GR | B46: RJIP-WW | C46: 400 | D46: 25 | E46: 10523 | F46: 1 | H46: RU PL08RJIP-M | I46: 11400546 | J46: =ROUND(ROUND(I46,2)*НДС!$A$1,2) -> 13224633 | K46: 3
A47: 065N0181GR | B47: RJIP-WW | C47: 500 | D47: 25 | E47: 14258 | F47: 1 | H47: RU PL08RJIP-M | I47: 21379080 | J47: =ROUND(ROUND(I47,2)*НДС!$A$1,2) -> 24799733 | K47: 3
A48: 065N0186GR | B48: RJIP-WW | C48: 600 | D48: 25 | E48: 22445 | F48: 1 | H48: RU PL08RJIP-M | I48: 25150134 | J48: =ROUND(ROUND(I48,2)*НДС!$A$1,2) -> 29174155 | K48: 3
A49: Шаровой кран RJIP Premium FF фланцевый со стандартным проходом, редукторным приводом; материал – углеродистая сталь; Тмакс. = 180 °С
A50: 065N0331R2 | B50: RJIP-FF | C50: 65 | D50: 25 | E50: 160 | F50: 1 | H50: RU PL08RJIP-M | I50: 591102 | J50: =ROUND(ROUND(I50,2)*НДС!$A$1,2) -> 685678.32 | K50: 1
A51: 065N0336R2 | B51: RJIP-FF | C51: 80 | D51: 25 | E51: 280 | F51: 1 | H51: RU PL08RJIP-M | I51: 693156 | J51: =ROUND(ROUND(I51,2)*НДС!$A$1,2) -> 804060.96 | K51: 1
A52: 065N0341R2 | B52: RJIP-FF | C52: 100 | D52: 25 | E52: 450 | F52: 1 | H52: RU PL08RJIP-M | I52: 773034 | J52: =ROUND(ROUND(I52,2)*НДС!$A$1,2) -> 896719.44 | K52: 1
A53: 065N0346R2 | B53: RJIP-FF | C53: 125 | D53: 25 | E53: 690 | F53: 1 | H53: RU PL08RJIP-M | I53: 1018530 | J53: =ROUND(ROUND(I53,2)*НДС!$A$1,2) -> 1181494.8 | K53: 2
A54: 065N0351GR | B54: RJIP-FF | C54: 150 | D54: 25 | E54: 1190 | F54: 1 | H54: RU PL08RJIP-M | I54: 851070 | J54: =ROUND(ROUND(I54,2)*НДС!$A$1,2) -> 987241.2 | K54: 1
A55: 065N0356GR | B55: RJIP-FF | C55: 200 | D55: 25 | E55: 1680 | F55: 1 | H55: RU PL08RJIP-M | I55: 1299570 | J55: =ROUND(ROUND(I55,2)*НДС!$A$1,2) -> 1507501.2 | K55: 1
A56: 065N0361GR2 | B56: RJIP-FF | C56: 250 | D56: 25 | E56: 3210 | F56: 1 | H56: RU PL08RJIP-M | I56: 2854860 | J56: =ROUND(ROUND(I56,2)*НДС!$A$1,2) -> 3311637.6 | K56: 1
A57: 065N0366GR2 | B57: RJIP-FF | C57: 300 | D57: 25 | E57: 4850 | F57: 1 | H57: RU PL08RJIP-M | I57: 4514844 | J57: =ROUND(ROUND(I57,2)*НДС!$A$1,2) -> 5237219 | K57: 2
A58: 065N0371GR | B58: RJIP-FF | C58: 350 | D58: 25 | E58: 7560 | F58: 1 | H58: RU PL08RJIP-M | I58: 7683438 | J58: =ROUND(ROUND(I58,2)*НДС!$A$1,2) -> 8912788.1 | K58: 3
A59: 065N0376GR | B59: RJIP-FF | C59: 400 | D59: 25 | E59: 10523 | F59: 1 | H59: RU PL08RJIP-M | I59: 12633420 | J59: =ROUND(ROUND(I59,2)*НДС!$A$1,2) -> 14654767 | K59: 3
A60: 065N0381GR | B60: RJIP-FF | C60: 500 | D60: 25 | E60: 14258 | F60: 1 | H60: RU PL08RJIP-M | I60: 23270136 | J60: =ROUND(ROUND(I60,2)*НДС!$A$1,2) -> 26993358 | K60: 3
A61: 065N0241R | B61: RJIP-FF | C61: 100 | D61: 16 | E61: 450 | F61: 1 | H61: RU PL08RJIP-M | I61: 774528 | J61: =ROUND(ROUND(I61,2)*НДС!$A$1,2) -> 898452.48 | K61: 1
... A69: 065N0281GR | B69: RJIP-FF | C69: 500 | D69: 16 | E69: 14258 | F69: 1 | H69: RU PL08RJIP-M | I69: 22979130 | J69: =ROUND(ROUND(I69,2)*НДС!$A$1,2) -> 26655791 | K69: 3
A70: Шаровой кран RJIP Premium WW под приварку без редуктора со стандартным проходом, фланцем под электропривод; материал – углеродистая сталь; Тмакс. = 180 °С
A71: 065N0132R | B71: RJIP-WW | C71: 65 | D71: 25 | E71: 160 | F71: 1 | H71: RU PL08RJIP-M | I71: 229464 | J71: =ROUND(ROUND(I71,2)*НДС!$A$1,2) -> 266178.24 | K71: 3
A72: 065N0137R | B72: RJIP-WW | C72: 80 | D72: 25 | E72: 280 | F72: 1 | H72: RU PL08RJIP-M | I72: 262206 | J72: =ROUND(ROUND(I72,2)*НДС!$A$1,2) -> 304158.96 | K72: 3
A73: 065N0142R | B73: RJIP-WW | C73: 100 | D73: 25 | E73: 450 | F73: 1 | H73: RU PL08RJIP-M | I73: 324162 | J73: =ROUND(ROUND(I73,2)*НДС!$A$1,2) -> 376027.92 | K73: 3
A74: 065N0147R | B74: RJIP-WW | C74: 125 | D74: 25 | E74: 690 | F74: 1 | H74: RU PL08RJIP-M | I74: 456750 | J74: =ROUND(ROUND(I74,2)*НДС!$A$1,2) -> 529830 | K74: 3
A75: 065N0152GR | B75: RJIP-WW | C75: 150 | D75: 25 | E75: 1190 | F75: 1 | H75: RU PL08RJIP-M | I75: 595644 | J75: =ROUND(ROUND(I75,2)*НДС!$A$1,2) -> 690947.04 | K75: 3
A76: 065N0157GR | B76: RJIP-WW | C76: 200 | D76: 25 | E76: 1680 | F76: 1 | H76: RU PL08RJIP-M | I76: 851958 | J76: =ROUND(ROUND(I76,2)*НДС!$A$1,2) -> 988271.28 | K76: 3
A77: 065N0162GR | B77: RJIP-WW | C77: 250 | D77: 25 | E77: 3210 | F77: 1 | H77: RU PL08RJIP-M | I77: 2267742 | J77: =ROUND(ROUND(I77,2)*НДС!$A$1,2) -> 2630580.7 | K77: 3
A78: 065N0167GR | B78: RJIP-WW | C78: 300 | D78: 25 | E78: 4850 | F78: 1 | H78: RU PL08RJIP-M | I78: 3891582 | J78: =ROUND(ROUND(I78,2)*НДС!$A$1,2) -> 4514235.1 | K78: 3
A79: 065N0172GR | B79: RJIP-WW | C79: 350 | D79: 25 | E79: 7560 | F79: 1 | H79: RU PL08RJIP-M | I79: 6201186 | J79: =ROUND(ROUND(I79,2)*НДС!$A$1,2) -> 7193375.8 | K79: 3
A80: 065N0177GR | B80: RJIP-WW | C80: 400 | D80: 25 | E80: 10523 | F80: 1 | H80: RU PL08RJIP-M | I80: 10279806 | J80: =ROUND(ROUND(I80,2)*НДС!$A$1,2) -> 11924575 | K80: 3
A81: 065N0182GR | B81: RJIP-WW | C81: 500 | D81: 25 | E81: 14258 | F81: 1 | H81: RU PL08RJIP-M | I81: 19905024 | J81: =ROUND(ROUND(I81,2)*НДС!$A$1,2) -> 23089828 | K81: 3
A82: 065N0187GR | B82: RJIP-WW | C82: 600 | D82: 25 | E82: 22445 | F82: 1 | H82: RU PL08RJIP-M | I82: 23676042 | J82: =ROUND(ROUND(I82,2)*НДС!$A$1,2) -> 27464209 | K82: 3
A83: Шаровой кран RJIP Premium FF фланцевый без редуктора со стандартным проходом, фланцем под электропривод; материал – углеродистая сталь; Тмакс. = 180 °С
A84: 065N0332R2 | B84: RJIP-FF | C84: 65 | D84: 25 | E84: 160 | F84: 1 | H84: RU PL08RJIP-M | I84: 308892 | J84: =ROUND(ROUND(I84,2)*НДС!$A$1,2) -> 358314.72 | K84: 3
A85: 065N0337R2 | B85: RJIP-FF | C85: 80 | D85: 25 | E85: 280 | F85: 1 | H85: RU PL08RJIP-M | I85: 357552 | J85: =ROUND(ROUND(I85,2)*НДС!$A$1,2) -> 414760.32 | K85: 3
A86: 065N0342R2 | B86: RJIP-FF | C86: 100 | D86: 25 | E86: 450 | F86: 1 | H86: RU PL08RJIP-M | I86: 437430 | J86: =ROUND(ROUND(I86,2)*НДС!$A$1,2) -> 507418.8 | K86: 3
A87: 065N0347R2 | B87: RJIP-FF | C87: 125 | D87: 25 | E87: 690 | F87: 1 | H87: RU PL08RJIP-M | I87: 642228 | J87: =ROUND(ROUND(I87,2)*НДС!$A$1,2) -> 744984.48 | K87: 1
A88: 065N0352GR | B88: RJIP-FF | C88: 150 | D88: 25 | E88: 1190 | F88: 1 | H88: RU PL08RJIP-M | I88: 645600 | J88: =ROUND(ROUND(I88,2)*НДС!$A$1,2) -> 748896 | K88: 3
A89: 065N0357GR | B89: RJIP-FF | C89: 200 | D89: 25 | E89: 1680 | F89: 1 | H89: RU PL08RJIP-M | I89: 1094112 | J89: =ROUND(ROUND(I89,2)*НДС!$A$1,2) -> 1269169.9 | K89: 3
A90: 065N0362GR2 | B90: RJIP-FF | C90: 250 | D90: 25 | E90: 3210 | F90: 1 | H90: RU PL08RJIP-M | I90: 2471838 | J90: =ROUND(ROUND(I90,2)*НДС!$A$1,2) -> 2867332.1 | K90: 3
A91: 065N0367GR2 | B91: RJIP-FF | C91: 300 | D91: 25 | E91: 4850 | F91: 1 | H91: RU PL08RJIP-M | I91: 4054992 | J91: =ROUND(ROUND(I91,2)*НДС!$A$1,2) -> 4703790.7 | K91: 3
A92: 065N0372GR | B92: RJIP-FF | C92: 350 | D92: 25 | E92: 7560 | F92: 1 | H92: RU PL08RJIP-M | I92: 7219188 | J92: =ROUND(ROUND(I92,2)*НДС!$A$1,2) -> 8374258.1 | K92: 3
A93: 065N0377GR | B93: RJIP-FF | C93: 400 | D93: 25 | E93: 10523 | F93: 1 | H93: RU PL08RJIP-M | I93: 11512692 | J93: =ROUND(ROUND(I93,2)*НДС!$A$1,2) -> 13354723 | K93: 3
A94: 065N0382GR | B94: RJIP-FF | C94: 500 | D94: 25 | E94: 14258 | F94: 1 | H94: RU PL08RJIP-M | I94: 21796056 | J94: =ROUND(ROUND(I94,2)*НДС!$A$1,2) -> 25283425 | K94: 3
A95: 065N0242R | B95: RJIP-FF | C95: 100 | D95: 16 | E95: 450 | F95: 1 | H95: RU PL08RJIP-M | I95: 438924 | J95: =ROUND(ROUND(I95,2)*НДС!$A$1,2) -> 509151.84 | K95: 1
... A101: 065N0282GR | B101: RJIP-FF | C101: 500 | D101: 16 | E101: 14258 | F101: 1 | H101: RU PL08RJIP-M | I101: 21505020 | J101: =ROUND(ROUND(I101,2)*НДС!$A$1,2) -> 24945823 | K101: 3
A103: Краны шаровые стальные RJIP Standard, перемещаемая среда – вода
A104: Кодовый номер | B104: Тип | C104: DN, мм | D104: PN , бар | E104: Kvs, м3/ч | F104: Кол-во в упаковке, шт. | H104: Группа скидок | I104: Цена без НДС, KZT | J104: Цена с НДС, KZT | K104: наличие
A105: Шаровой кран RJIP Standard WW под приварку с рукояткой, стандартным проходом; материал – углеродистая сталь; Тмакс. = 150 °С
A106: 065N9600R | B106: RJIP-WW | C106: 15 | D106: 16 | E106: 11 | F106: 1 | H106: RU PL08R JIPStand-M | I106: 22368 | J106: =ROUND(ROUND(I106,2)*НДС!$A$1,2) -> 25946.88 | K106: 1
A107: 065N9601R | B107: RJIP-WW | C107: 20 | D107: 16 | E107: 15 | F107: 1 | H107: RU PL08R JIPStand-M | I107: 22368 | J107: =ROUND(ROUND(I107,2)*НДС!$A$1,2) -> 25946.88 | K107: 1
A108: 065N9602R | B108: RJIP-WW | C108: 25 | D108: 16 | E108: 34 | F108: 1 | H108: RU PL08R JIPStand-M | I108: 24678 | J108: =ROUND(ROUND(I108,2)*НДС!$A$1,2) -> 28626.48 | K108: 1
A109: 065N9603R | B109: RJIP-WW | C109: 32 | D109: 16 | E109: 52 | F109: 1 | H109: RU PL08R JIPStand-M | I109: 26802 | J109: =ROUND(ROUND(I109,2)*НДС!$A$1,2) -> 31090.32 | K109: 1
A110: 065N9604R | B110: RJIP-WW | C110: 40 | D110: 16 | E110: 96 | F110: 1 | H110: RU PL08R JIPStand-M | I110: 36480 | J110: =ROUND(ROUND(I110,2)*НДС!$A$1,2) -> 42316.8 | K110: 1
A111: 065N9605R | B111: RJIP-WW | C111: 50 | D111: 16 | E111: 104 | F111: 1 | H111: RU PL08R JIPStand-M | I111: 41016 | J111: =ROUND(ROUND(I111,2)*НДС!$A$1,2) -> 47578.56 | K111: 1
A112: 065N9606R | B112: RJIP-WW | C112: 65 | D112: 16 | E112: 136 | F112: 1 | H112: RU PL08R JIPStand-M | I112: 66390 | J112: =ROUND(ROUND(I112,2)*НДС!$A$1,2) -> 77012.4 | K112: 1
A113: 065N9607R | B113: RJIP-WW | C113: 80 | D113: 16 | E113: 252 | F113: 1 | H113: RU PL08R JIPStand-M | I113: 89580 | J113: =ROUND(ROUND(I113,2)*НДС!$A$1,2) -> 103912.8 | K113: 1
A114: 065N9608R | B114: RJIP-WW | C114: 100 | D114: 16 | E114: 403 | F114: 1 | H114: RU PL08R JIPStand-M | I114: 113178 | J114: =ROUND(ROUND(I114,2)*НДС!$A$1,2) -> 131286.48 | K114: 1
A115: 065N9609R | B115: RJIP-WW | C115: 125 | D115: 16 | E115: 716 | F115: 1 | H115: RU PL08R JIPStand-M | I115: 216948 | J115: =ROUND(ROUND(I115,2)*НДС!$A$1,2) -> 251659.68 | K115: 1
...

Sheet 9.2
A1: 9.2. Затворы дисковые, перемещаемая среда – вода, гликолевые растворы.
A2: Сроки, наличие и заказ оборудования в электронном магазине ridan.ru или по телефону (495) 792 57 57
A3: 9.2.1. Затворы дисковые с ручным управлением
A4: Кодовый номер | B4: Тип | C4: DN, мм | D4: PN, бар | E4: Вес нетто, кг. | F4: Группа скидок | G4: Цена без НДС, KZT | H4: Цена с НДС, KZT | I4: наличие
A5: Дисковый затвор Ридан ЗДМ с металлической рукояткой, корпус с центрирующими проушинами; материалы: корпус, диск — высокопрочный чугун (GGG40) с эпоксидным покрытием; уплотнение — EPDM; Т от- 15°C до 120 °С
A6: 082X4400R | B6: ЗДМ | C6: 40 | D6: 16 | E6: 1.8 | F6: RU PL08R-LVR | G6: 27282 | H6: =ROUND(ROUND(G6,2)*НДС!$A$1,2) -> 31647.12 | I6: 1
A7: 082X4401R | B7: ЗДМ | C7: 50 | D7: 16 | E7: 2.1 | F7: RU PL08R-LVR | G7: 27984 | H7: =ROUND(ROUND(G7,2)*НДС!$A$1,2) -> 32461.44 | I7: 1
A8: 082X4402R | B8: ЗДМ | C8: 65 | D8: 16 | E8: 2.4 | F8: RU PL08R-LVR | G8: 30780 | H8: =ROUND(ROUND(G8,2)*НДС!$A$1,2) -> 35704.8 | I8: 1
A9: 082X4403R | B9: ЗДМ | C9: 80 | D9: 16 | E9: 3.2 | F9: RU PL08R-LVR | G9: 36786 | H9: =ROUND(ROUND(G9,2)*НДС!$A$1,2) -> 42671.76 | I9: 1
A10: 082X4404R | B10: ЗДМ | C10: 100 | D10: 16 | E10: 4.3 | F10: RU PL08R-LVR | G10: 48648 | H10: =ROUND(ROUND(G10,2)*НДС!$A$1,2) -> 56431.68 | I10: 1
A11: 082X4405R | B11: ЗДМ | C11: 125 | D11: 16 | E11: 6.3 | F11: RU PL08R-LVR | G11: 60438 | H11: =ROUND(ROUND(G11,2)*НДС!$A$1,2) -> 70108.08 | I11: 1
A12: 082X4406R | B12: ЗДМ | C12: 150 | D12: 16 | E12: 7.8 | F12: RU PL08R-LVR | G12: 72966 | H12: =ROUND(ROUND(G12,2)*НДС!$A$1,2) -> 84640.56 | I12: 1
A13: 082X4407R | B13: ЗДМ | C13: 200 | D13: 16 | E13: 15 | F13: RU PL08R-LVR | G13: 126630 | H13: =ROUND(ROUND(G13,2)*НДС!$A$1,2) -> 146890.8 | I13: 1
A14: 082X4408R | B14: ЗДМ | C14: 250 | D14: 16 | E14: 23.5 | F14: RU PL08R-LVR | G14: 224988 | H14: =ROUND(ROUND(G14,2)*НДС!$A$1,2) -> 260986.08 | I14: 1
A15: 082X4409R | B15: ЗДМ | C15: 300 | D15: 16 | E15: 42 | F15: RU PL08R-LVR | G15: 300318 | H15: =ROUND(ROUND(G15,2)*НДС!$A$1,2) -> 348368.88 | I15: 1
A16: Дисковый затвор Ридан ЗДМ с металлической рукояткой, корпус с центрирующими проушинами; материалы: корпус — высокопрочный чугун (GGG40); диск — нержавеющая сталь 316 ; уплотнение — EPDM; Т от- 15°C до 120 °С
A17: 082X4420R | B17: ЗДМ | C17: 40 | D17: 16 | E17: 1.8 | F17: RU PL08R-LVR | G17: 35472 | H17: =ROUND(ROUND(G17,2)*НДС!$A$1,2) -> 41147.52 | I17: 1
A18: 082X4421R | B18: ЗДМ | C18: 50 | D18: 16 | E18: 2.1 | F18: RU PL08R-LVR | G18: 41550 | H18: =ROUND(ROUND(G18,2)*НДС!$A$1,2) -> 48198 | I18: 1
A19: 082X4422R | B19: ЗДМ | C19: 65 | D19: 16 | E19: 2.4 | F19: RU PL08R-LVR | G19: 46620 | H19: =ROUND(ROUND(G19,2)*НДС!$A$1,2) -> 54079.2 | I19: 1
A20: 082X4423R | B20: ЗДМ | C20: 80 | D20: 16 | E20: 3.2 | F20: RU PL08R-LVR | G20: 51690 | H20: =ROUND(ROUND(G20,2)*НДС!$A$1,2) -> 59960.4 | I20: 1
A21: 082X4424R | B21: ЗДМ | C21: 100 | D21: 16 | E21: 4.3 | F21: RU PL08R-LVR | G21: 67392 | H21: =ROUND(ROUND(G21,2)*НДС!$A$1,2) -> 78174.72 | I21: 1
A22: 082X4425R | B22: ЗДМ | C22: 125 | D22: 16 | E22: 6.3 | F22: RU PL08R-LVR | G22: 89178 | H22: =ROUND(ROUND(G22,2)*НДС!$A$1,2) -> 103446.48 | I22: 1
A23: 082X4426R | B23: ЗДМ | C23: 150 | D23: 16 | E23: 7.8 | F23: RU PL08R-LVR | G23: 116040 | H23: =ROUND(ROUND(G23,2)*НДС!$A$1,2) -> 134606.4 | I23: 1
A24: 082X4427R | B24: ЗДМ | C24: 200 | D24: 16 | E24: 15 | F24: RU PL08R-LVR | G24: 206736 | H24: =ROUND(ROUND(G24,2)*НДС!$A$1,2) -> 239813.76 | I24: 1
A25: 082X4428R | B25: ЗДМ | C25: 250 | D25: 16 | E25: 23.5 | F25: RU PL08R-LVR | G25: 316194 | H25: =ROUND(ROUND(G25,2)*НДС!$A$1,2) -> 366785.04 | I25: 3
A26: 082X4429R | B26: ЗДМ | C26: 300 | D26: 16 | E26: 42 | F26: RU PL08R-LVR | G26: 481326 | H26: =ROUND(ROUND(G26,2)*НДС!$A$1,2) -> 558338.16 | I26: 3
A28: Кодовый номер | B28: Тип | C28: DN, мм | D28: PN, бар | E28: Вес нетто, кг. | F28: Группа скидок | G28: Цена без НДС, KZT | H28: Цена с НДС, KZT | I28: наличие
A29: Дисковый затвор Ридан ЗДМ с ручным редукторным приводом, корпус с центрирующими проушинами; материалы: корпус — высокопрочный чугун (GGG40); диск — высокопрочный чугун (GGG40) с эпоксидным покрытием; уплотнение — EPDM; Т от -15°С до 120 °С
A30: 082X4410R | B30: ЗДМ | C30: 100 | D30: 16 | E30: 8.1 | F30: RU PL08R-LVR | G30: 104940 | H30: =ROUND(ROUND(G30,2)*НДС!$A$1,2) -> 121730.4 | I30: 1
A31: 082X4411R | B31: ЗДМ | C31: 125 | D31: 16 | E31: 9.6 | F31: RU PL08R-LVR | G31: 129426 | H31: =ROUND(ROUND(G31,2)*НДС!$A$1,2) -> 150134.16 | I31: 3
A32: 082X4412R | B32: ЗДМ | C32: 150 | D32: 16 | E32: 11.1 | F32: RU PL08R-LVR | G32: 149988 | H32: =ROUND(ROUND(G32,2)*НДС!$A$1,2) -> 173986.08 | I32: 3
A33: 082X4413R | B33: ЗДМ | C33: 200 | D33: 16 | E33: 22.3 | F33: RU PL08R-LVR | G33: 206736 | H33: =ROUND(ROUND(G33,2)*НДС!$A$1,2) -> 239813.76 | I33: 1
A34: 082X4414R | B34: ЗДМ | C34: 250 | D34: 16 | E34: 32.8 | F34: RU PL08R-LVR | G34: 310782 | H34: =ROUND(ROUND(G34,2)*НДС!$A$1,2) -> 360507.12 | I34: 1
A35: 082X4415R | B35: ЗДМ | C35: 300 | D35: 16 | E35: 42 | F35: RU PL08R-LVR | G35: 369726 | H35: =ROUND(ROUND(G35,2)*НДС!$A$1,2) -> 428882.16 | I35: 1
A36: 082X4416R | B36: ЗДМ | C36: 350 | D36: 16 | E36: 72 | F36: RU PL08R-LVR | G36: 559422 | H36: =ROUND(ROUND(G36,2)*НДС!$A$1,2) -> 648929.52 | I36: 1
A37: 082X4417R | B37: ЗДМ | C37: 400 | D37: 16 | E37: 121 | F37: RU PL08R-LVR | G37: 734580 | H37: =ROUND(ROUND(G37,2)*НДС!$A$1,2) -> 852112.8 | I37: 1
A38: 082X4418R | B38: ЗДМ | C38: 500 | D38: 16 | E38: 188 | F38: RU PL08R-LVR | G38: 1672044 | H38: =ROUND(ROUND(G38,2)*НДС!$A$1,2) -> 1939571 | I38: 1
A39: 082X4419R | B39: ЗДМ | C39: 600 | D39: 16 | E39: 301 | F39: RU PL08R-LVR | G39: 2721444 | H39: =ROUND(ROUND(G39,2)*НДС!$A$1,2) -> 3156875 | I39: 3
A40: Дисковый затвор Ридан ЗДМ с ручным редукторным приводом, корпус с центрирующими проушинами; материалы: корпус — высокопрочный чугун (GGG40); диск — нержавеющая сталь 316; уплотнение — EPDM; Т от -15°С до 120 °С
A41: 082X4430R | B41: ЗДМ | C41: 100 | D41: 16 | E41: 8.1 | F41: RU PL08R-LVR | G41: 144918 | H41: =ROUND(ROUND(G41,2)*НДС!$A$1,2) -> 168104.88 | I41: 3
A42: 082X4431R | B42: ЗДМ | C42: 125 | D42: 16 | E42: 9.6 | F42: RU PL08R-LVR | G42: 166710 | H42: =ROUND(ROUND(G42,2)*НДС!$A$1,2) -> 193383.6 | I42: 3
A43: 082X4432R | B43: ЗДМ | C43: 150 | D43: 16 | E43: 11.1 | F43: RU PL08R-LVR | G43: 193566 | H43: =ROUND(ROUND(G43,2)*НДС!$A$1,2) -> 224536.56 | I43: 3
A44: 082X4433R | B44: ЗДМ | C44: 200 | D44: 16 | E44: 22.3 | F44: RU PL08R-LVR | G44: 301494 | H44: =ROUND(ROUND(G44,2)*НДС!$A$1,2) -> 349733.04 | I44: 3
A45: 082X4434R | B45: ЗДМ | C45: 250 | D45: 16 | E45: 32.8 | F45: RU PL08R-LVR | G45: 410952 | H45: =ROUND(ROUND(G45,2)*НДС!$A$1,2) -> 476704.32 | I45: 3
A46: 082X4435R | B46: ЗДМ | C46: 300 | D46: 16 | E46: 42 | F46: RU PL08R-LVR | G46: 533070 | H46: =ROUND(ROUND(G46,2)*НДС!$A$1,2) -> 618361.2 | I46: 3
A47: 082X4436R | B47: ЗДМ | C47: 350 | D47: 16 | E47: 72 | F47: RU PL08R-LVR | G47: 884226 | H47: =ROUND(ROUND(G47,2)*НДС!$A$1,2) -> 1025702.2 | I47: 3
A48: 082X4437R | B48: ЗДМ | C48: 400 | D48: 16 | E48: 121 | F48: RU PL08R-LVR | G48: 1379796 | H48: =ROUND(ROUND(G48,2)*НДС!$A$1,2) -> 1600563.4 | I48: 3
A49: 082X4438R | B49: ЗДМ | C49: 500 | D49: 16 | E49: 188 | F49: RU PL08R-LVR | G49: 2763420 | H49: =ROUND(ROUND(G49,2)*НДС!$A$1,2) -> 3205567.2 | I49: 3
A50: 082X4439R | B50: ЗДМ | C50: 600 | D50: 16 | E50: 301 | F50: RU PL08R-LVR | G50: 4371798 | H50: =ROUND(ROUND(G50,2)*НДС!$A$1,2) -> 5071285.7 | I50: 3
A53: 9.2.2. Затворы дисковые с электроприводами
A54: Кодовый номер | B54: Тип | C54: DN, мм | D54: PN, бар | E54: Вес нетто, кг. | F54: Группа скидок | G54: Цена без НДС, KZT | H54: Цена с НДС, KZT | I54: наличие
A55: Сборный комплект: дисковый затвор Ридан ЗДМ корпус с центрирующими проушинами; материал: корпус, диск — высокопрочный чугун (GGG40) с эпоксидным покрытием; уплотнение — EPDM; электропривод АМБ 230 В переменный ток;1) IP 68 ; T от -15°С до 120 °С
A56: 082X4530R | B56: ЗДМ + АМБ | C56: 40 | D56: 16 | E56: 3.9 | F56: RU PL08R-LVR | G56: 274308 | H56: =ROUND(ROUND(G56,2)*НДС!$A$1,2) -> 318197.28 | I56: 1
A57: 082X4531R | B57: ЗДМ + АМБ | C57: 50 | D57: 16 | E57: 4.2 | F57: RU PL08R-LVR | G57: 275004 | H57: =ROUND(ROUND(G57,2)*НДС!$A$1,2) -> 319004.64
A58: 082X4532R | B58: ЗДМ + АМБ | C58: 65 | D58: 16 | E58: 6 | F58: RU PL08R-LVR | G58: 368310 | H58: =ROUND(ROUND(G58,2)*НДС!$A$1,2) -> 427239.6 | I58: 1
A59: 082X4533R | B59: ЗДМ + АМБ | C59: 80 | D59: 16 | E59: 6.8 | F59: RU PL08R-LVR | G59: 374310 | H59: =ROUND(ROUND(G59,2)*НДС!$A$1,2) -> 434199.6 | I59: 1
A60: 082X4534R | B60: ЗДМ + АМБ | C60: 100 | D60: 16 | E60: 7.9 | F60: RU PL08R-LVR | G60: 427644 | H60: =ROUND(ROUND(G60,2)*НДС!$A$1,2) -> 496067.04 | I60: 1
A61: 082X4535R | B61: ЗДМ + АМБ | C61: 125 | D61: 16 | E61: 10.9 | F61: RU PL08R-LVR | G61: 550818 | H61: =ROUND(ROUND(G61,2)*НДС!$A$1,2) -> 638948.88 | I61: 1
A62: 082X4536R | B62: ЗДМ + АМБ | C62: 150 | D62: 16 | E62: 12.4 | F62: RU PL08R-LVR | G62: 606984 | H62: =ROUND(ROUND(G62,2)*НДС!$A$1,2) -> 704101.44 | I62: 1
A63: 082X4537R | B63: ЗДМ + АМБ | C63: 200 | D63: 16 | E63: 28.8 | F63: RU PL08R-LVR | G63: 739062 | H63: =ROUND(ROUND(G63,2)*НДС!$A$1,2) -> 857311.92 | I63: 1
A64: 082X4538R | B64: ЗДМ + АМБ | C64: 250 | D64: 16 | E64: 37.5 | F64: RU PL08R-LVR | G64: 971076 | H64: =ROUND(ROUND(G64,2)*НДС!$A$1,2) -> 1126448.2 | I64: 1
A65: 082X4539R | B65: ЗДМ + АМБ | C65: 300 | D65: 16 | E65: 56 | F65: RU PL08R-LVR | G65: 1046406 | H65: =ROUND(ROUND(G65,2)*НДС!$A$1,2) -> 1213831 | I65: 1
A66: Сборный комплект: дисковый затвор Ридан ЗДМ корпус с центрирующими проушинами; материал: корпус — высокопрочный чугун (GGG40); диск — нержавеющая сталь 316; уплотнение — EPDM; электропривод АМБ 230 В переменный ток1); IP 68 ; T от -15°С до 120 °С
A67: 082X4542R | B67: ЗДМ + АМБ | C67: 40 | D67: 16 | E67: 3.9 | F67: RU PL08R-LVR | G67: 282492 | H67: =ROUND(ROUND(G67,2)*НДС!$A$1,2) -> 327690.72 | I67: 1
A68: 082X4543R | B68: ЗДМ + АМБ | C68: 50 | D68: 16 | E68: 4.2 | F68: RU PL08R-LVR | G68: 288570 | H68: =ROUND(ROUND(G68,2)*НДС!$A$1,2) -> 334741.2 | I68: 1
A69: 082X4544R | B69: ЗДМ + АМБ | C69: 65 | D69: 16 | E69: 6 | F69: RU PL08R-LVR | G69: 384144 | H69: =ROUND(ROUND(G69,2)*НДС!$A$1,2) -> 445607.04 | I69: 1
A70: 082X4545R | B70: ЗДМ + АМБ | C70: 80 | D70: 16 | E70: 6.8 | F70: RU PL08R-LVR | G70: 389214 | H70: =ROUND(ROUND(G70,2)*НДС!$A$1,2) -> 451488.24 | I70: 1
A71: 082X4546R | B71: ЗДМ + АМБ | C71: 100 | D71: 16 | E71: 7.9 | F71: RU PL08R-LVR | G71: 446394 | H71: =ROUND(ROUND(G71,2)*НДС!$A$1,2) -> 517817.04 | I71: 1
A72: 082X4547R | B72: ЗДМ + АМБ | C72: 125 | D72: 16 | E72: 10.9 | F72: RU PL08R-LVR | G72: 579564 | H72: =ROUND(ROUND(G72,2)*НДС!$A$1,2) -> 672294.24 | I72: 1
A73: 082X4548R | B73: ЗДМ + АМБ | C73: 150 | D73: 16 | E73: 12.4 | F73: RU PL08R-LVR | G73: 650058 | H73: =ROUND(ROUND(G73,2)*НДС!$A$1,2) -> 754067.28 | I73: 1
A74: 082X4549R | B74: ЗДМ + АМБ | C74: 200 | D74: 16 | E74: 28.8 | F74: RU PL08R-LVR | G74: 819180 | H74: =ROUND(ROUND(G74,2)*НДС!$A$1,2) -> 950248.8 | I74: 1
A75: 082X4550R | B75: ЗДМ + АМБ | C75: 250 | D75: 16 | E75: 37.5 | F75: RU PL08R-LVR | G75: 1062282 | H75: =ROUND(ROUND(G75,2)*НДС!$A$1,2) -> 1232247.1 | I75: 3
A76: 082X4551R | B76: ЗДМ + АМБ | C76: 300 | D76: 16 | E76: 56 | F76: RU PL08R-LVR | G76: 1227414 | H76: =ROUND(ROUND(G76,2)*НДС!$A$1,2) -> 1423800.2 | I76: 3
A77: Сборный комплект: дисковый затвор Ридан ЗДМ корпус с центрирующими проушинами; материал: корпус, диск — высокопрочный чугун (GGG40) с эпоксидным покрытием; уплотнение — EPDM; электропривод АМБ 24 В постоянный ток1); IP 68 ; T от -15°С до 120 °С
A78: 082X4554R | B78: ЗДМ + АМБ | C78: 40 | D78: 16 | E78: 3.9 | F78: RU PL08R-LVR | G78: 341646 | H78: =ROUND(ROUND(G78,2)*НДС!$A$1,2) -> 396309.36 | I78: 1
A79: 082X4555R | B79: ЗДМ + АМБ | C79: 50 | D79: 16 | E79: 4.2 | F79: RU PL08R-LVR | G79: 342348 | H79: =ROUND(ROUND(G79,2)*НДС!$A$1,2) -> 397123.68 | I79: 1
A80: 082X4556R | B80: ЗДМ + АМБ | C80: 65 | D80: 16 | E80: 6 | F80: RU PL08R-LVR | G80: 439956 | H80: =ROUND(ROUND(G80,2)*НДС!$A$1,2) -> 510348.96 | I80: 1
A81: 082X4557R | B81: ЗДМ + АМБ | C81: 80 | D81: 16 | E81: 6.8 | F81: RU PL08R-LVR | G81: 445956 | H81: =ROUND(ROUND(G81,2)*НДС!$A$1,2) -> 517308.96 | I81: 1
A82: 082X4558R | B82: ЗДМ + АМБ | C82: 100 | D82: 16 | E82: 7.9 | F82: RU PL08R-LVR | G82: 505218 | H82: =ROUND(ROUND(G82,2)*НДС!$A$1,2) -> 586052.88 | I82: 1
A83: 082X4559R | B83: ЗДМ + АМБ | C83: 125 | D83: 16 | E83: 10.9 | F83: RU PL08R-LVR | G83: 614382 | H83: =ROUND(ROUND(G83,2)*НДС!$A$1,2) -> 712683.12 | I83: 1
A84: 082X4560R | B84: ЗДМ + АМБ | C84: 150 | D84: 16 | E84: 12.4 | F84: RU PL08R-LVR | G84: 676476 | H84: =ROUND(ROUND(G84,2)*НДС!$A$1,2) -> 784712.16 | I84: 1
A85: 082X4561R | B85: ЗДМ + АМБ | C85: 200 | D85: 16 | E85: 28.8 | F85: RU PL08R-LVR | G85: 820410 | H85: =ROUND(ROUND(G85,2)*НДС!$A$1,2) -> 951675.6 | I85: 1
A86: 082X4562R | B86: ЗДМ + АМБ | C86: 250 | D86: 16 | E86: 37.5 | F86: RU PL08R-LVR | G86: 1042182 | H86: =ROUND(ROUND(G86,2)*НДС!$A$1,2) -> 1208931.1 | I86: 1
A87: 082X4563R | B87: ЗДМ + АМБ | C87: 300 | D87: 16 | E87: 56 | F87: RU PL08R-LVR | G87: 1117518 | H87: =ROUND(ROUND(G87,2)*НДС!$A$1,2) -> 1296320.9 | I87: 1
A88: 1) - электропривод поставляется отдельно

Sheet 9.3
A1: 9.3. Клапаны обратные
A2: Сроки, наличие и заказ оборудования в электронном магазине ridan.ru или по телефону (495) 792 57 57
A3: Кодовый номер | B3: Тип | C3: DN, мм | D3: Присоеди-нение, дюймы | E3: PN, бар | F3: Вес нетто, кг | G3: Группа скидок | H3: Цена без НДС, KZT | I3: Цена с НДС, KZT | J3: наличие
A4: Обратный клапан пружинный NRV-R с внутренней резьбой, материал корпуса – латунь;Тмакс. = 110 °С
A5: 065B8324R | B5: NRV-R | C5: 15 | D5: G ½ | E5: 25 | F5: 0.15 | G5: RU PL08R BrassBV | H5: 8784 | I5: =ROUND(ROUND(H5,2)*НДС!$A$1,2) -> 10189.44 | J5: 1
A6: 065B8325R | B6: NRV-R | C6: 20 | D6: G ¾ | E6: 25 | F6: 0.225 | G6: RU PL08R BrassBV | H6: 11496 | I6: =ROUND(ROUND(H6,2)*НДС!$A$1,2) -> 13335.36 | J6: 1
A7: 065B8326R | B7: NRV-R | C7: 25 | D7: G 1 | E7: 25 | F7: 0.33 | G7: RU PL08R BrassBV | H7: 15066 | I7: =ROUND(ROUND(H7,2)*НДС!$A$1,2) -> 17476.56 | J7: 1
A8: 065B8327R | B8: NRV-R | C8: 32 | D8: G 1¼ | E8: 25 | F8: 0.545 | G8: RU PL08R BrassBV | H8: 22464 | I8: =ROUND(ROUND(H8,2)*НДС!$A$1,2) -> 26058.24 | J8: 1
A9: 065B8328R | B9: NRV-R | C9: 40 | D9: G 1½ | E9: 25 | F9: 0.685 | G9: RU PL08R BrassBV | H9: 28158 | I9: =ROUND(ROUND(H9,2)*НДС!$A$1,2) -> 32663.28 | J9: 1
A10: 065B8329R | B10: NRV-R | C10: 50 | D10: G 2 | E10: 25 | F10: 1.025 | G10: RU PL08R BrassBV | H10: 40368 | I10: =ROUND(ROUND(H10,2)*НДС!$A$1,2) -> 46826.88 | J10: 1
A11: Кодовый номер | B11: Тип | C11: DN, мм | D11: материал пластин | E11: PN, бар | F11: Вес нетто, кг | G11: Группа скидок | H11: Цена без НДС, KZT | I11: Цена с НДС, KZT | J11: наличие
A12: Обратный затвор двустворчатый ЗОД для установки между фланцами; материал корпуса: чугун, пластины: нержавеющая сталь или чугун с антикоррозионным покрытием; Т =от -20 до +120°С
A13: 082X4050R | B13: ЗОД | C13: 50 | D13: нерж. сталь | E13: 16 | F13: 1.3 | G13: RU PL08R-LVR | H13: 27444 | I13: =ROUND(ROUND(H13,2)*НДС!$A$1,2) -> 31835.04 | J13: 1
A14: 082X4051R | B14: ЗОД | C14: 65 | D14: нерж. сталь | E14: 16 | F14: 1.9 | G14: RU PL08R-LVR | H14: 32742 | I14: =ROUND(ROUND(H14,2)*НДС!$A$1,2) -> 37980.72 | J14: 1
A15: 082X4052R | B15: ЗОД | C15: 80 | D15: нерж. сталь | E15: 16 | F15: 2.8 | G15: RU PL08R-LVR | H15: 45786 | I15: =ROUND(ROUND(H15,2)*НДС!$A$1,2) -> 53111.76 | J15: 1
A16: 082X4053R | B16: ЗОД | C16: 100 | D16: нерж. сталь | E16: 16 | F16: 4.4 | G16: RU PL08R-LVR | H16: 63174 | I16: =ROUND(ROUND(H16,2)*НДС!$A$1,2) -> 73281.84 | J16: 1
A17: 082X4054R | B17: ЗОД | C17: 125 | D17: нерж. сталь | E17: 16 | F17: 6.3 | G17: RU PL08R-LVR | H17: 82788 | I17: =ROUND(ROUND(H17,2)*НДС!$A$1,2) -> 96034.08 | J17: 1
A18: 082X4055R | B18: ЗОД | C18: 150 | D18: нерж. сталь | E18: 16 | F18: 9.1 | G18: RU PL08R-LVR | H18: 119028 | I18: =ROUND(ROUND(H18,2)*НДС!$A$1,2) -> 138072.48 | J18: 1
A19: 082X4056R | B19: ЗОД | C19: 200 | D19: нерж. сталь | E19: 16 | F19: 14.9 | G19: RU PL08R-LVR | H19: 203274 | I19: =ROUND(ROUND(H19,2)*НДС!$A$1,2) -> 235797.84 | J19: 1
A20: 082X4057R | B20: ЗОД | C20: 250 | D20: нерж. сталь | E20: 16 | F20: 27 | G20: RU PL08R-LVR | H20: 334188 | I20: =ROUND(ROUND(H20,2)*НДС!$A$1,2) -> 387658.08 | J20: 1
A21: 082X4058R | B21: ЗОД | C21: 300 | D21: нерж. сталь | E21: 16 | F21: 33.2 | G21: RU PL08R-LVR | H21: 446364 | I21: =ROUND(ROUND(H21,2)*НДС!$A$1,2) -> 517782.24 | J21: 1
A22: 082X4044R | B22: ЗОД | C22: 350 | D22: нерж. сталь | E22: 16 | F22: 65 | G22: RU PL08R-LVR | H22: 1193028 | I22: =ROUND(ROUND(H22,2)*НДС!$A$1,2) -> 1383912.5 | J22: 1
A23: 082X4045R | B23: ЗОД | C23: 400 | D23: нерж. сталь | E23: 16 | F23: 70 | G23: RU PL08R-LVR | H23: 1577712 | I23: =ROUND(ROUND(H23,2)*НДС!$A$1,2) -> 1830145.9 | J23: 1
A24: 082X4046R | B24: ЗОД | C24: 450 | D24: нерж. сталь | E24: 16 | F24: 103 | G24: RU PL08R-LVR | H24: 2534790 | I24: =ROUND(ROUND(H24,2)*НДС!$A$1,2) -> 2940356.4 | J24: 3
... A35: 082X4043R | B35: ЗОД | C35: 600 | D35: чугун | E35: 16 | F35: 190 | G35: RU PL08R-LVR | H35: 3687990 | I35: =ROUND(ROUND(H35,2)*НДС!$A$1,2) -> 4278068.4 | J35: 3
A37: Кодовый номер | B37: Тип | C37: DN, мм | D37: Присоеди-нение, дюймы | E37: PN, бар | F37: Вес нетто, кг | G37: Группа скидок | H37: Цена без НДС, KZT | I37: Цена с НДС, KZT
A38: Обратный клапан пружинный NVD-402R фланцевый; материал корпуса – чугун; материал затвора DN40-100 нержавеющая сталь, DN125-250 - чугун; Т =от -15 до +100°С
A39: 082X8470R | B39: NVD-402R | C39: 40 | D39: — | E39: 16 | F39: 5.6 | G39: RU PL08R YZK | H39: 76368 | I39: =ROUND(ROUND(H39,2)*НДС!$A$1,2) -> 88586.88 | J39: 1
A40: 082X8471R | B40: NVD-402R | C40: 50 | D40: — | E40: 16 | F40: 5.6 | G40: RU PL08R YZK | H40: 79596 | I40: =ROUND(ROUND(H40,2)*НДС!$A$1,2) -> 92331.36 | J40: 1
A41: 082X8472R | B41: NVD-402R | C41: 65 | D41: — | E41: 16 | F41: 7.6 | G41: RU PL08R YZK | H41: 89352 | I41: =ROUND(ROUND(H41,2)*НДС!$A$1,2) -> 103648.32 | J41: 1
A42: 082X8473R | B42: NVD-402R | C42: 80 | D42: — | E42: 16 | F42: 9.8 | G42: RU PL08R YZK | H42: 129966 | I42: =ROUND(ROUND(H42,2)*НДС!$A$1,2) -> 150760.56 | J42: 1
A43: 082X8474R | B43: NVD-402R | C43: 100 | D43: — | E43: 16 | F43: 13.8 | G43: RU PL08R YZK | H43: 180276 | I43: =ROUND(ROUND(H43,2)*НДС!$A$1,2) -> 209120.16 | J43: 1
A44: 082X8475R | B44: NVD-402R | C44: 125 | D44: — | E44: 16 | F44: 20.6 | G44: RU PL08R YZK | H44: 224202 | I44: =ROUND(ROUND(H44,2)*НДС!$A$1,2) -> 260074.32 | J44: 1
A45: 082X8476R | B45: NVD-402R | C45: 150 | D45: — | E45: 16 | F45: 28.5 | G45: RU PL08R YZK | H45: 309486 | I45: =ROUND(ROUND(H45,2)*НДС!$A$1,2) -> 359003.76 | J45: 1
A46: 082X8477R | B46: NVD-402R | C46: 200 | D46: — | E46: 16 | F46: 48.6 | G46: RU PL08R YZK | H46: 510024 | I46: =ROUND(ROUND(H46,2)*НДС!$A$1,2) -> 591627.84 | J46: 1
A47: 082X8478R | B47: NVD-402R | C47: 250 | D47: — | E47: 16 | F47: 81.4 | G47: RU PL08R YZK | H47: 1236510 | I47: =ROUND(ROUND(H47,2)*НДС!$A$1,2) -> 1434351.6 | J47: 3
A48: Обратный клапан пружинный NVD-812R из нержавеющей стали CF8M для установки между фланцами; Т =от -40 до +240°С
A49: 082X8530R2 | B49: NVD-812R | C49: 15 | D49: — | E49: 40 | F49: 0.09 | G49: RU PL08R YZK | H49: 43656 | I49: =ROUND(ROUND(H49,2)*НДС!$A$1,2) -> 50640.96 | J49: 1
A50: 082X8531R2 | B50: NVD-812R | C50: 20 | D50: — | E50: 40 | F50: 0.12 | G50: RU PL08R YZK | H50: 48168 | I50: =ROUND(ROUND(H50,2)*НДС!$A$1,2) -> 55874.88 | J50: 1
A51: 082X8532R2 | B51: NVD-812R | C51: 25 | D51: — | E51: 40 | F51: 0.16 | G51: RU PL08R YZK | H51: 52866 | I51: =ROUND(ROUND(H51,2)*НДС!$A$1,2) -> 61324.56 | J51: 1
A52: 082X8533R2 | B52: NVD-812R | C52: 32 | D52: — | E52: 40 | F52: 0.31 | G52: RU PL08R YZK | H52: 65172 | I52: =ROUND(ROUND(H52,2)*НДС!$A$1,2) -> 75599.52 | J52: 1
A53: 082X8534R2 | B53: NVD-812R | C53: 40 | D53: — | E53: 40 | F53: 0.43 | G53: RU PL08R YZK | H53: 68604 | I53: =ROUND(ROUND(H53,2)*НДС!$A$1,2) -> 79580.64 | J53: 1
A54: 082X8535R2 | B54: NVD-812R | C54: 50 | D54: — | E54: 40 | F54: 0.78 | G54: RU PL08R YZK | H54: 86454 | I54: =ROUND(ROUND(H54,2)*НДС!$A$1,2) -> 100286.64 | J54: 1
A55: 082X8536R2 | B55: NVD-812R | C55: 65 | D55: — | E55: 40 | F55: 1.03 | G55: RU PL08R YZK | H55: 134298 | I55: =ROUND(ROUND(H55,2)*НДС!$A$1,2) -> 155785.68 | J55: 1
A56: 082X8537R2 | B56: NVD-812R | C56: 80 | D56: — | E56: 40 | F56: 1.54 | G56: RU PL08R YZK | H56: 252192 | I56: =ROUND(ROUND(H56,2)*НДС!$A$1,2) -> 292542.72 | J56: 1
A57: 082X8538R2 | B57: NVD-812R | C57: 100 | D57: — | E57: 40 | F57: 2.25 | G57: RU PL08R YZK | H57: 317382 | I57: =ROUND(ROUND(H57,2)*НДС!$A$1,2) -> 368163.12 | J57: 1
A58: 082X8539R2 | B58: NVD-812R | C58: 125 | D58: — | E58: 40 | F58: 5.5 | G58: RU PL08R YZK | H58: 648306 | I58: =ROUND(ROUND(H58,2)*НДС!$A$1,2) -> 752034.96 | J58: 1
A59: 082X8540R2 | B59: NVD-812R | C59: 150 | D59: — | E59: 40 | F59: 8.3 | G59: RU PL08R YZK | H59: 998178 | I59: =ROUND(ROUND(H59,2)*НДС!$A$1,2) -> 1157886.5 | J59: 1
A60: 082X8541R2 | B60: NVD-812R | C60: 200 | D60: — | E60: 40 | F60: 16.1 | G60: RU PL08R YZK | H60: 1612164 | I60: =ROUND(ROUND(H60,2)*НДС!$A$1,2) -> 1870110.2 | J60: 1
A61: Обратный клапан пружинный NVD-802R для установки между фланцами; материал корпуса чугун GG25; материал затвора нерж.сталь CF8M; уплотнение EPDM ; класс герметичности А; Т =от -15 до +100°С
A62: 082X8520R | B62: NVD-802R | C62: 32 | D62: — | E62: 16 | F62: 0.49 | G62: RU PL08R YZK | H62: 76488 | I62: =ROUND(ROUND(H62,2)*НДС!$A$1,2) -> 88726.08 | J62: 1
A63: 082X8521R | B63: NVD-802R | C63: 40 | D63: — | E63: 16 | F63: 0.64 | G63: RU PL08R YZK | H63: 77604 | I63: =ROUND(ROUND(H63,2)*НДС!$A$1,2) -> 90020.64 | J63: 1
A64: 082X8522R | B64: NVD-802R | C64: 50 | D64: — | E64: 16 | F64: 1.06 | G64: RU PL08R YZK | H64: 79866 | I64: =ROUND(ROUND(H64,2)*НДС!$A$1,2) -> 92644.56 | J64: 1
A65: 082X8523R | B65: NVD-802R | C65: 65 | D65: — | E65: 16 | F65: 1.59 | G65: RU PL08R YZK | H65: 92208 | I65: =ROUND(ROUND(H65,2)*НДС!$A$1,2) -> 106961.28 | J65: 1
A66: 082X8524R | B66: NVD-802R | C66: 80 | D66: — | E66: 16 | F66: 2.3 | G66: RU PL08R YZK | H66: 122610 | I66: =ROUND(ROUND(H66,2)*НДС!$A$1,2) -> 142227.6 | J66: 1
A67: 082X8525R | B67: NVD-802R | C67: 100 | D67: — | E67: 16 | F67: 3.3 | G67: RU PL08R YZK | H67: 173898 | I67: =ROUND(ROUND(H67,2)*НДС!$A$1,2) -> 201721.68 | J67: 1
A68: 082X8526R | B68: NVD-802R | C68: 125 | D68: — | E68: 16 | F68: 6.9 | G68: RU PL08R YZK | H68: 248706 | I68: =ROUND(ROUND(H68,2)*НДС!$A$1,2) -> 288498.96 | J68: 1
A69: 082X8527R | B69: NVD-802R | C69: 150 | D69: — | E69: 16 | F69: 10 | G69: RU PL08R YZK | H69: 339984 | I69: =ROUND(ROUND(H69,2)*НДС!$A$1,2) -> 394381.44 | J69: 1
A70: 082X8528R | B70: NVD-802R | C70: 200 | D70: — | E70: 16 | F70: 17.7 | G70: RU PL08R YZK | H70: 572952 | I70: =ROUND(ROUND(H70,2)*НДС!$A$1,2) -> 664624.32
A71: Обратный затвор двустворчатый NVD-895R для установки между фланцами; материал корпуса: чугун, пластины: нержавеющая сталь 316; Т =от -15 до +100°С
A72: 082X8495R | B72: NVD-895R | C72: 50 | D72: — | E72: 16 | F72: 1.5 | G72: RU PL08R YZK | H72: 75462 | I72: =ROUND(ROUND(H72,2)*НДС!$A$1,2) -> 87535.92 | J72: 1
A73: 082X8496R | B73: NVD-895R | C73: 65 | D73: — | E73: 16 | F73: 2.2 | G73: RU PL08R YZK | H73: 78894 | I73: =ROUND(ROUND(H73,2)*НДС!$A$1,2) -> 91517.04 | J73: 1
A74: 082X8497R | B74: NVD-895R | C74: 80 | D74: — | E74: 16 | F74: 3.7 | G74: RU PL08R YZK | H74: 82332 | I74: =ROUND(ROUND(H74,2)*НДС!$A$1,2) -> 95505.12 | J74: 1
A75: 082X8498R | B75: NVD-895R | C75: 100 | D75: — | E75: 16 | F75: 4.4 | G75: RU PL08R YZK | H75: 104610 | I75: =ROUND(ROUND(H75,2)*НДС!$A$1,2) -> 121347.6 | J75: 1
A76: 082X8499R | B76: NVD-895R | C76: 125 | D76: — | E76: 16 | F76: 6.1 | G76: RU PL08R YZK | H76: 144066 | I76: =ROUND(ROUND(H76,2)*НДС!$A$1,2) -> 167116.56 | J76: 1
A77: 082X8500R | B77: NVD-895R | C77: 150 | D77: — | E77: 16 | F77: 9 | G77: RU PL08R YZK | H77: 154350 | I77: =ROUND(ROUND(H77,2)*НДС!$A$1,2) -> 179046 | J77: 1
A78: 082X8501R | B78: NVD-895R | C78: 200 | D78: — | E78: 16 | F78: 14.4 | G78: RU PL08R YZK | H78: 283062 | I78: =ROUND(ROUND(H78,2)*НДС!$A$1,2) -> 328351.92 | J78: 1
A79: 082X8502R | B79: NVD-895R | C79: 250 | D79: — | E79: 16 | F79: 27.1 | G79: RU PL08R YZK | H79: 480222 | I79: =ROUND(ROUND(H79,2)*НДС!$A$1,2) -> 557057.52 | J79: 1
A80: 082X8503R | B80: NVD-895R | C80: 300 | D80: — | E80: 16 | F80: 36 | G80: RU PL08R YZK | H80: 694698 | I80: =ROUND(ROUND(H80,2)*НДС!$A$1,2) -> 805849.68 | J80: 3
A81: 082X8505R | B81: NVD-895R | C81: 400 | D81: — | E81: 16 | F81: 59.4 | G81: RU PL08R YZK | H81: 2021844 | I81: =ROUND(ROUND(H81,2)*НДС!$A$1,2) -> 2345339 | J81: 3

Sheet 9.4
A1: 9.4. Фильтры сетчатые
A2: Сроки, наличие и заказ оборудования в электронном магазине ridan.ru или по телефону (495) 792 57 57
A3: Кодовый номер | B3: Тип | C3: DN, мм | D3: Присоеди-нение, дюймы | E3: PN, бар | F3: Кол-во в упаковке, шт. | G3: Группа скидок | H3: Цена без НДС, KZT | I3: Цена с НДС, KZT
A4: Фильтр сетчатый Ридан ФСФ с пробкой , PN = 16 бар; материал – чугун; фланцевый; Тмакс. = 200 °С
A5: 082X4060R | B5: ФСФ | C5: 15 | D5: — | E5: 16 | F5: 1 | G5: RU PL08R-LVR | H5: 16890 | I5: =ROUND(ROUND(H5,2)*НДС!$A$1,2) -> 19592.4 | J5: 1
A6: 082X4061R | B6: ФСФ | C6: 20 | D6: — | E6: 16 | F6: 1 | G6: RU PL08R-LVR | H6: 21564 | I6: =ROUND(ROUND(H6,2)*НДС!$A$1,2) -> 25014.24 | J6: 1
A7: 082X4062R | B7: ФСФ | C7: 25 | D7: — | E7: 16 | F7: 1 | G7: RU PL08R-LVR | H7: 25236 | I7: =ROUND(ROUND(H7,2)*НДС!$A$1,2) -> 29273.76 | J7: 1
A8: 082X4063R | B8: ФСФ | C8: 32 | D8: — | E8: 16 | F8: 1 | G8: RU PL08R-LVR | H8: 29862 | I8: =ROUND(ROUND(H8,2)*НДС!$A$1,2) -> 34639.92 | J8: 1
A9: 082X4064R | B9: ФСФ | C9: 40 | D9: — | E9: 16 | F9: 1 | G9: RU PL08R-LVR | H9: 40554 | I9: =ROUND(ROUND(H9,2)*НДС!$A$1,2) -> 47042.64 | J9: 1
A10: 082X4065R | B10: ФСФ | C10: 50 | D10: — | E10: 16 | F10: 1 | G10: RU PL08R-LVR | H10: 51072 | I10: =ROUND(ROUND(H10,2)*НДС!$A$1,2) -> 59243.52 | J10: 1
A11: 082X4066R | B11: ФСФ | C11: 65 | D11: — | E11: 16 | F11: 1 | G11: RU PL08R-LVR | H11: 70662 | I11: =ROUND(ROUND(H11,2)*НДС!$A$1,2) -> 81967.92 | J11: 1
A12: 082X4067R | B12: ФСФ | C12: 80 | D12: — | E12: 16 | F12: 1 | G12: RU PL08R-LVR | H12: 92346 | I12: =ROUND(ROUND(H12,2)*НДС!$A$1,2) -> 107121.36 | J12: 1
A13: 082X4068R | B13: ФСФ | C13: 100 | D13: — | E13: 16 | F13: 1 | G13: RU PL08R-LVR | H13: 132222 | I13: =ROUND(ROUND(H13,2)*НДС!$A$1,2) -> 153377.52 | J13: 1
A14: 082X4069R | B14: ФСФ | C14: 125 | D14: — | E14: 16 | F14: 1 | G14: RU PL08R-LVR | H14: 206382 | I14: =ROUND(ROUND(H14,2)*НДС!$A$1,2) -> 239403.12 | J14: 1
A15: 082X4070R | B15: ФСФ | C15: 150 | D15: — | E15: 16 | F15: 1 | G15: RU PL08R-LVR | H15: 278442 | I15: =ROUND(ROUND(H15,2)*НДС!$A$1,2) -> 322992.72 | J15: 1
A16: 082X4071R | B16: ФСФ | C16: 200 | D16: — | E16: 16 | F16: 1 | G16: RU PL08R-LVR | H16: 500214 | I16: =ROUND(ROUND(H16,2)*НДС!$A$1,2) -> 580248.24 | J16: 1
... A20: 082X4075R | B20: ФСФ | C20: 400 | D20: — | E20: 16 | F20: 1 | G20: RU PL08R-LVR | H20: 2567532 | I20: =ROUND(ROUND(H20,2)*НДС!$A$1,2) -> 2978337.1 | J20: 1
A23: Кодовый номер | B23: Тип | C23: DN, мм | D23: Присоеди-нение, дюймы | E23: PN, бар | F23: Вес нетто, кг | G23: Группа скидок | H23: Цена без НДС, KZT | I23: Цена с НДС, KZT | J23: наличие
A24: Фильтр сетчатый FVR-DR со спускным краном, с внутренней резьбой; материал – латунь DZR; Тмакс. = 130 °С
A25: 065B8341R | B25: FVR-DR | C25: 15 | D25: Rp ½ | E25: 25 | F25: 0.253 | G25: RU PL08R YZK | H25: 43398 | I25: =ROUND(ROUND(H25,2)*НДС!$A$1,2) -> 50341.68 | J25: 1
A26: 065B8342R | B26: FVR-DR | C26: 20 | D26: Rp ¾ | E26: 25 | F26: 0.36 | G26: RU PL08R YZK | H26: 43398 | I26: =ROUND(ROUND(H26,2)*НДС!$A$1,2) -> 50341.68 | J26: 1
A27: 065B8343R | B27: FVR-DR | C27: 25 | D27: Rp 1 | E27: 25 | F27: 0.525 | G27: RU PL08R YZK | H27: 49092 | I27: =ROUND(ROUND(H27,2)*НДС!$A$1,2) -> 56946.72 | J27: 1
A28: 065B8344R | B28: FVR-DR | C28: 32 | D28: Rp 1¼ | E28: 25 | F28: 0.725 | G28: RU PL08R YZK | H28: 54738 | I28: =ROUND(ROUND(H28,2)*НДС!$A$1,2) -> 63496.08 | J28: 1
A29: 065B8345R | B29: FVR-DR | C29: 40 | D29: Rp 1½ | E29: 25 | F29: 1.108 | G29: RU PL08R YZK | H29: 94626 | I29: =ROUND(ROUND(H29,2)*НДС!$A$1,2) -> 109766.16 | J29: 1
A30: 065B8346R | B30: FVR-DR | C30: 50 | D30: Rp 2 | E30: 25 | F30: 1.703 | G30: RU PL08R YZK | H30: 118704 | I30: =ROUND(ROUND(H30,2)*НДС!$A$1,2) -> 137696.64 | J30: 1
A31: Фильтр сетчатый FVR с внутренней резьбой; материал – латунь DZR; Тмакс. = 130 °С
A32: 065B8335R | B32: FVR-R | C32: 15 | D32: Rp ½ | E32: 25 | F32: 0.18 | G32: RU PL08R YZK | H32: 25626 | I32: =ROUND(ROUND(H32,2)*НДС!$A$1,2) -> 29726.16 | J32: 1
A33: 065B8336R | B33: FVR-R | C33: 20 | D33: Rp ¾ | E33: 25 | F33: 0.294 | G33: RU PL08R YZK | H33: 25626 | I33: =ROUND(ROUND(H33,2)*НДС!$A$1,2) -> 29726.16 | J33: 1
A34: 065B8337R | B34: FVR-R | C34: 25 | D34: Rp 1 | E34: 25 | F34: 0.46 | G34: RU PL08R YZK | H34: 36144 | I34: =ROUND(ROUND(H34,2)*НДС!$A$1,2) -> 41927.04 | J34: 1
A35: 065B8338R | B35: FVR-R | C35: 32 | D35: Rp 1¼ | E35: 25 | F35: 0.66 | G35: RU PL08R YZK | H35: 46452 | I35: =ROUND(ROUND(H35,2)*НДС!$A$1,2) -> 53884.32 | J35: 1
A36: 065B8339R | B36: FVR-R | C36: 40 | D36: Rp 1½ | E36: 25 | F36: 1.021 | G36: RU PL08R YZK | H36: 65166 | I36: =ROUND(ROUND(H36,2)*НДС!$A$1,2) -> 75592.56 | J36: 1
A37: 065B8340R | B37: FVR-R | C37: 50 | D37: Rp 2 | E37: 25 | F37: 1.606 | G37: RU PL08R YZK | H37: 96324 | I37: =ROUND(ROUND(H37,2)*НДС!$A$1,2) -> 111735.84 | J37: 1
A38: Фильтр сетчатый FVS-R с внутренней резьбой; материал – нержавеющая сталь; Тмакс. = 180 °С
A39: 082X4310R | B39: FVS-R | C39: 8 | D39: Rp ¼ | E39: 40 | F39: 0.15 | G39: RU PL08R YZK | H39: 61158 | I39: =ROUND(ROUND(H39,2)*НДС!$A$1,2) -> 70943.28
A40: 082X4311R | B40: FVS-R | C40: 10 | D40: Rp 3/8 | E40: 40 | F40: 0.15 | G40: RU PL08R YZK | H40: 61158 | I40: =ROUND(ROUND(H40,2)*НДС!$A$1,2) -> 70943.28 | J40: 3
A41: 082X4312R | B41: FVS-R | C41: 15 | D41: Rp ½ | E41: 40 | F41: 0.21 | G41: RU PL08R YZK | H41: 66222 | I41: =ROUND(ROUND(H41,2)*НДС!$A$1,2) -> 76817.52 | J41: 1
A42: 082X4313R | B42: FVS-R | C42: 20 | D42: Rp ¾ | E42: 40 | F42: 0.28 | G42: RU PL08R YZK | H42: 80322 | I42: =ROUND(ROUND(H42,2)*НДС!$A$1,2) -> 93173.52 | J42: 1
A43: 082X4314R | B43: FVS-R | C43: 25 | D43: Rp 1 | E43: 40 | F43: 0.46 | G43: RU PL08R YZK | H43: 90648 | I43: =ROUND(ROUND(H43,2)*НДС!$A$1,2) -> 105151.68 | J43: 1
A44: 082X4315R | B44: FVS-R | C44: 32 | D44: Rp 1¼ | E44: 40 | F44: 0.68 | G44: RU PL08R YZK | H44: 118566 | I44: =ROUND(ROUND(H44,2)*НДС!$A$1,2) -> 137536.56 | J44: 1
A45: 082X4316R | B45: FVS-R | C45: 40 | D45: Rp 1½ | E45: 40 | F45: 0.92 | G45: RU PL08R YZK | H45: 160548 | I45: =ROUND(ROUND(H45,2)*НДС!$A$1,2) -> 186235.68 | J45: 1
A46: 082X4317R | B46: FVS-R | C46: 50 | D46: Rp 2 | E46: 40 | F46: 1.45 | G46: RU PL08R YZK | H46: 219960 | I46: =ROUND(ROUND(H46,2)*НДС!$A$1,2) -> 255153.6 | J46: 1

Sheet 9.5
A1: 9.5. Воздухоотводчики
A2: Сроки, наличие и заказ оборудования в электронном магазине ridan.ru или по телефону (495) 792 57 57
A3: Кодовый номер | B3: Тип | C3: DN, мм | D3: Присоединение, дюймы | E3: PN, бар | F3: Kvs, м3/ч | G3: Кол-во в упаковке, шт. | H3: Группа скидок | I3: Цена без НДС, KZT | J3: Цена с НДС, KZT | K3: наличие
A4: Воздухоотводчик Airvent-R для стояков системы отопления; материал – латунь; Тмакс. = 110 °С
A5: 065B8322R | B5: Airvent-R с обратным клапаном | C5: 10 | D5: Обратный клапан G½ | E5: 10 | F5: — | G5: 1 | H5: RU PL08R BrassBV | I5: 7650 | J5: =ROUND(ROUND(I5,2)*НДС!$A$1,2) -> 8874 | K5: 1
A6: 065B8323R | B6: Airvent-R без обратного клапана | C6: 15 | D6: G½ | E6: 10 | F6: — | G6: 1 | H6: RU PL08R BrassBV | I6: 6210 | J6: =ROUND(ROUND(I6,2)*НДС!$A$1,2) -> 7203.6 | K6: 1

Sheet 9.6
A1: 9.6. Осевые сильфонные компенсаторы
A2: Сроки, наличие и заказ оборудования в электронном магазине ridan.ru или по телефону (495) 792 57 57
A3: Кодовый номер | B3: Тип | C3: DN, мм | D3: Осевой ход ,мм | E3: Монтажная длина , мм | F3: Кол-во в упаковке, шт. | G3: Группа скидок | H3: Цена без НДС, KZT | I3: Цена с НДС, KZT | J3: наличие
A4: Осевой компенсатор Ридан с патрубками под приварку, с защитным кожухом и внутренней гильзой ; материал сильфона – нержавеющая сталь, патрубки под приварку — углеродистая сталь; PN = 16 бар, Тмакс. = 95 °С
A5: 065H0019R | B5: Ридан | C5: 15 | D5: +15/-35 | E5: 280 | F5: 1 | G5: RU PL08R ARR | H5: 49464 | I5: =ROUND(ROUND(H5,2)*НДС!$A$1,2) -> 57378.24 | J5: 1
A6: 065H0001R | B6: Ридан | C6: 15 | D6: +19/-45 | E6: 365 | F6: 1 | G6: RU PL08R ARR | H6: 64314 | I6: =ROUND(ROUND(H6,2)*НДС!$A$1,2) -> 74604.24 | J6: 1
A7: 065H0021R | B7: Ридан | C7: 20 | D7: +15/-35 | E7: 280 | F7: 1 | G7: RU PL08R ARR | H7: 49464 | I7: =ROUND(ROUND(H7,2)*НДС!$A$1,2) -> 57378.24 | J7: 1
A8: 065H0003R | B8: Ридан | C8: 20 | D8: +24/-56 | E8: 450 | F8: 1 | G8: RU PL08R ARR | H8: 64314 | I8: =ROUND(ROUND(H8,2)*НДС!$A$1,2) -> 74604.24 | J8: 1
A9: 065H0022R | B9: Ридан | C9: 25 | D9: +12/-28 | E9: 275 | F9: 1 | G9: RU PL08R ARR | H9: 51540 | I9: =ROUND(ROUND(H9,2)*НДС!$A$1,2) -> 59786.4 | J9: 1
A10: 065H0023R | B10: Ридан | C10: 25 | D10: +19/-45 | E10: 358 | F10: 1 | G10: RU PL08R ARR | H10: 70854 | I10: =ROUND(ROUND(H10,2)*НДС!$A$1,2) -> 82190.64 | J10: 1
A11: 065H0024R | B11: Ридан | C11: 32 | D11: +12/-28 | E11: 310 | F11: 1 | G11: RU PL08R ARR | H11: 64974 | I11: =ROUND(ROUND(H11,2)*НДС!$A$1,2) -> 75369.84 | J11: 1
A12: 065H0025R | B12: Ридан | C12: 32 | D12: +19/-45 | E12: 400 | F12: 1 | G12: RU PL08R ARR | H12: 90660 | I12: =ROUND(ROUND(H12,2)*НДС!$A$1,2) -> 105165.6 | J12: 1
A13: 065H0026R | B13: Ридан | C13: 40 | D13: +11/-25 | E13: 310 | F13: 1 | G13: RU PL08R ARR | H13: 91518 | I13: =ROUND(ROUND(H13,2)*НДС!$A$1,2) -> 106160.88 | J13: 1
A14: 065H0027R | B14: Ридан | C14: 40 | D14: +19/-45 | E14: 400 | F14: 1 | G14: RU PL08R ARR | H14: 148962 | I14: =ROUND(ROUND(H14,2)*НДС!$A$1,2) -> 172795.92 | J14: 1
A15: 065H0028R | B15: Ридан | C15: 50 | D15: +12/-28 | E15: 310 | F15: 1 | G15: RU PL08R ARR | H15: 147108 | I15: =ROUND(ROUND(H15,2)*НДС!$A$1,2) -> 170645.28 | J15: 1
A16: 065H0029R | B16: Ридан | C16: 50 | D16: +19/-45 | E16: 400 | F16: 1 | G16: RU PL08R ARR | H16: 147114 | I16: =ROUND(ROUND(H16,2)*НДС!$A$1,2) -> 170652.24 | J16: 1
... A32: 082X9256R | B32: Ридан | C32: 300 | D32: +24/-56 | E32: 400 | F32: 1 | G32: RU PL08R ARR | H32: 827076 | I32: =ROUND(ROUND(H32,2)*НДС!$A$1,2) -> 959408.16 | J32: 3
A33: Осевой компенсатор Ридан с патрубками под приварку; без защитного кожуха; с внутренней гильзой ; материал сильфона – нержавеющая сталь, патрубки под приварку — углеродистая сталь; PN = 16 бар, Тмакс. = 95 °С
A34: 065H0040R | B34: Ридан | C34: 15 | D34: +12/-28 | E34: 280 | F34: 1 | G34: RU PL08R ARR | H34: 34842 | I34: =ROUND(ROUND(H34,2)*НДС!$A$1,2) -> 40416.72 | J34: 1
A35: 065H0041R | B35: Ридан | C35: 20 | D35: +12/-28 | E35: 280 | F35: 1 | G35: RU PL08R ARR | H35: 34842 | I35: =ROUND(ROUND(H35,2)*НДС!$A$1,2) -> 40416.72 | J35: 1
A36: 065H0042R | B36: Ридан | C36: 25 | D36: +12/-28 | E36: 275 | F36: 1 | G36: RU PL08R ARR | H36: 48126 | I36: =ROUND(ROUND(H36,2)*НДС!$A$1,2) -> 55826.16 | J36: 1
A37: 065H0043R | B37: Ридан | C37: 32 | D37: +12/-28 | E37: 310 | F37: 1 | G37: RU PL08R ARR | H37: 60390 | I37: =ROUND(ROUND(H37,2)*НДС!$A$1,2) -> 70052.4 | J37: 1
A38: 065H0044R | B38: Ридан | C38: 40 | D38: +12/-28 | E38: 310 | F38: 1 | G38: RU PL08R ARR | H38: 83592 | I38: =ROUND(ROUND(H38,2)*НДС!$A$1,2) -> 96966.72 | J38: 1
A39: 065H0045R | B39: Ридан | C39: 50 | D39: +12/-28 | E39: 310 | F39: 1 | G39: RU PL08R ARR | H39: 132540 | I39: =ROUND(ROUND(H39,2)*НДС!$A$1,2) -> 153746.4 | J39: 1
A40: 065H0046R | B40: Ридан | C40: 65 | D40: +12/-28 | E40: 250 | F40: 1 | G40: RU PL08R ARR | H40: 152352 | I40: =ROUND(ROUND(H40,2)*НДС!$A$1,2) -> 176728.32 | J40: 1
A41: 065H0047R | B41: Ридан | C41: 80 | D41: +12/-28 | E41: 255 | F41: 1 | G41: RU PL08R ARR | H41: 152778 | I41: =ROUND(ROUND(H41,2)*НДС!$A$1,2) -> 177222.48 | J41: 1
A42: 065H0048R | B42: Ридан | C42: 100 | D42: +12/-28 | E42: 255 | F42: 1 | G42: RU PL08R ARR | H42: 200982 | I42: =ROUND(ROUND(H42,2)*НДС!$A$1,2) -> 233139.12 | J42: 1
A43: 082X9242R | B43: Ридан | C43: 125 | D43: +12/-28 | E43: 255 | F43: 1 | G43: RU PL08R ARR | H43: 205536 | I43: =ROUND(ROUND(H43,2)*НДС!$A$1,2) -> 238421.76 | J43: 3
A44: 082X9243R | B44: Ридан | C44: 150 | D44: +12/-28 | E44: 270 | F44: 1 | G44: RU PL08R ARR | H44: 211788 | I44: =ROUND(ROUND(H44,2)*НДС!$A$1,2) -> 245674.08 | J44: 3
A45: 082X9244R | B45: Ридан | C45: 200 | D45: +12/-28 | E45: 260 | F45: 1 | G45: RU PL08R ARR | H45: 246588 | I45: =ROUND(ROUND(H45,2)*НДС!$A$1,2) -> 286042.08 | J45: 3
... A47: 082X9246R | B47: Ридан | C47: 300 | D47: +12/-28 | E47: 270 | F47: 1 | G47: RU PL08R ARR | H47: 418074 | I47: =ROUND(ROUND(H47,2)*НДС!$A$1,2) -> 484965.84 | J47: 3
A48: Осевой компенсатор Ридан; материал сильфона – нержавеющая сталь, патрубки с внешней резьбой — нержавеющая сталь; с внутренней гильзой и наружным защитным кожухом; PN = 16 бар, Тмакс. = 95 °С
A49: 082X9206R | B49: Ридан НС | C49: 15 | D49: +15/-35 | E49: G ½ | F49: 1 | G49: RU PL08R ARR | H49: 82218 | I49: =ROUND(ROUND(H49,2)*НДС!$A$1,2) -> 95372.88 | J49: 1
A50: 082X9212R | B50: Ридан НС | C50: 15 | D50: +19/-45 | E50: G ½ | F50: 1 | G50: RU PL08R ARR | H50: 108522 | I50: =ROUND(ROUND(H50,2)*НДС!$A$1,2) -> 125885.52 | J50: 1
A51: 082X9207R | B51: Ридан НС | C51: 20 | D51: +15/-35 | E51: G ¾ | F51: 1 | G51: RU PL08R ARR | H51: 104670 | I51: =ROUND(ROUND(H51,2)*НДС!$A$1,2) -> 121417.2 | J51: 1
A52: 082X9213R | B52: Ридан НС | C52: 20 | D52: +24/-56 | E52: G ¾ | F52: 1 | G52: RU PL08R ARR | H52: 138162 | I52: =ROUND(ROUND(H52,2)*НДС!$A$1,2) -> 160267.92 | J52: 1
A53: 082X9208R | B53: Ридан НС | C53: 25 | D53: +12/-28 | E53: G 1 | F53: 1 | G53: RU PL08R ARR | H53: 115368 | I53: =ROUND(ROUND(H53,2)*НДС!$A$1,2) -> 133826.88 | J53: 1
A54: 082X9214R | B54: Ридан НС | C54: 25 | D54: +19/-45 | E54: G 1 | F54: 1 | G54: RU PL08R ARR | H54: 151392 | I54: =ROUND(ROUND(H54,2)*НДС!$A$1,2) -> 175614.72 | J54: 1
A55: 082X9209R | B55: Ридан НС | C55: 32 | D55: +12/-28 | E55: G 1¼ | F55: 1 | G55: RU PL08R ARR | H55: 147084 | I55: =ROUND(ROUND(H55,2)*НДС!$A$1,2) -> 170617.44 | J55: 1
A56: 082X9215R | B56: Ридан НС | C56: 32 | D56: +19/-45 | E56: G 1¼ | F56: 1 | G56: RU PL08R ARR | H56: 199062 | I56: =ROUND(ROUND(H56,2)*НДС!$A$1,2) -> 230911.92 | J56: 1
A57: 082X9210R | B57: Ридан НС | C57: 40 | D57: +11/-25 | E57: G 1½ | F57: 1 | G57: RU PL08R ARR | H57: 209724 | I57: =ROUND(ROUND(H57,2)*НДС!$A$1,2) -> 243279.84 | J57: 1
A58: 082X9216R | B58: Ридан НС | C58: 40 | D58: +19/-45 | E58: G 1½ | F58: 1 | G58: RU PL08R ARR | H58: 278256 | I58: =ROUND(ROUND(H58,2)*НДС!$A$1,2) -> 322776.96 | J58: 1
A59: 082X9211R | B59: Ридан НС | C59: 50 | D59: +12/-28 | E59: G 2 | F59: 1 | G59: RU PL08R ARR | H59: 221844 | I59: =ROUND(ROUND(H59,2)*НДС!$A$1,2) -> 257339.04 | J59: 1
A60: 082X9217R | B60: Ридан НС | C60: 50 | D60: +19/-45 | E60: G 2 | F60: 1 | G60: RU PL08R ARR | H60: 302556 | I60: =ROUND(ROUND(H60,2)*НДС!$A$1,2) -> 350964.96 | J60: 1
A61: Осевой компенсатор Ридан; материал сильфона – нержавеющая сталь, патрубки с внешней резьбой — нержавеющая сталь; с внутренней гильзой и без защитного наружного кожуха; PN = 16 бар, Тмакс. = 95 °С
A62: 082X9200R | B62: Ридан НС | C62: 15 | D62: +12/-28 | E62: G ½ | F62: 1 | G62: RU PL08R ARR | H62: 78444 | I62: =ROUND(ROUND(H62,2)*НДС!$A$1,2) -> 90995.04 | J62: 1
A63: 082X9201R | B63: Ридан НС | C63: 20 | D63: +12/-28 | E63: G ¾ | F63: 1 | G63: RU PL08R ARR | H63: 99882 | I63: =ROUND(ROUND(H63,2)*НДС!$A$1,2) -> 115863.12 | J63: 1
A64: 082X9202R | B64: Ридан НС | C64: 25 | D64: +12/-28 | E64: G 1 | F64: 1 | G64: RU PL08R ARR | H64: 111492 | I64: =ROUND(ROUND(H64,2)*НДС!$A$1,2) -> 129330.72 | J64: 1
A65: 082X9203R | B65: Ридан НС | C65: 32 | D65: +12/-28 | E65: G 1¼ | F65: 1 | G65: RU PL08R ARR | H65: 142374 | I65: =ROUND(ROUND(H65,2)*НДС!$A$1,2) -> 165153.84 | J65: 1
A66: 082X9204R | B66: Ридан НС | C66: 40 | D66: +12/-28 | E66: G 1½ | F66: 1 | G66: RU PL08R ARR | H66: 205722 | I66: =ROUND(ROUND(H66,2)*НДС!$A$1,2) -> 238637.52 | J66: 1
A67: 082X9205R | B67: Ридан НС | C67: 50 | D67: +12/-28 | E67: G 2 | F67: 1 | G67: RU PL08R ARR | H67: 217836 | I67: =ROUND(ROUND(H67,2)*НДС!$A$1,2) -> 252689.76 | J67: 1
A68: Осевой компенсатор Ридан; материал сильфона – нержавеющая сталь, фланцевое присоединение - нержавеющая сталь; с внутренней гильзой и защитным наружным кожухом; PN = 16 бар, Тмакс. = 95 °С
A69: 082X9218R | B69: Ридан НС | C69: 65 | D69: +12/-28 | E69: 180 | F69: 1 | G69: RU PL08R ARR | H69: 336084 | I69: =ROUND(ROUND(H69,2)*НДС!$A$1,2) -> 389857.44 | J69: 3
A70: 082X9221R | B70: Ридан НС | C70: 65 | D70: +24/-56 | E70: 182 | F70: 1 | G70: RU PL08R ARR | H70: 447864 | I70: =ROUND(ROUND(H70,2)*НДС!$A$1,2) -> 519522.24 | J70: 3
A71: 082X9219R | B71: Ридан НС | C71: 80 | D71: +12/-28 | E71: 272 | F71: 1 | G71: RU PL08R ARR | H71: 376494 | I71: =ROUND(ROUND(H71,2)*НДС!$A$1,2) -> 436733.04 | J71: 3
A72: 082X9222R | B72: Ридан НС | C72: 80 | D72: +19/-45 | E72: 290 | F72: 1 | G72: RU PL08R ARR | H72: 500988 | I72: =ROUND(ROUND(H72,2)*НДС!$A$1,2) -> 581146.08 | J72: 3
A73: 082X9220R | B73: Ридан НС | C73: 100 | D73: +15/-33 | E73: 261 | F73: 1 | G73: RU PL08R ARR | H73: 463806 | I73: =ROUND(ROUND(H73,2)*НДС!$A$1,2) -> 538014.96 | J73: 3
A74: 082X9223R | B74: Ридан НС | C74: 100 | D74: +24/-56 | E74: 272 | F74: 1 | G74: RU PL08R ARR | H74: 615516 | I74: =ROUND(ROUND(H74,2)*НДС!$A$1,2) -> 713998.56 | J74: 3
A75: Осевой компенсатор Ридан; материал сильфона – нержавеющая сталь, присоединение патрубки для разборных муфт (грувлок) - нержавеющая сталь; с внутренней гильзой и защитным наружным кожухом; PN = 16 бар, Тмакс. = 95 °С
A76: 082X9224R | B76: Ридан НС | C76: 25 | D76: +12/-28 | E76: 325 | F76: 1 | G76: RU PL08R ARR | H76: 108114 | I76: =ROUND(ROUND(H76,2)*НДС!$A$1,2) -> 125412.24 | J76: 3
A77: 082X9233R | B77: Ридан НС | C77: 25 | D77: +19/-45 | E77: 408 | F77: 1 | G77: RU PL08R ARR | H77: 141606 | I77: =ROUND(ROUND(H77,2)*НДС!$A$1,2) -> 164262.96 | J77: 3
A78: 082X9225R | B78: Ридан НС | C78: 32 | D78: +12/-28 | E78: 360 | F78: 1 | G78: RU PL08R ARR | H78: 137844 | I78: =ROUND(ROUND(H78,2)*НДС!$A$1,2) -> 159899.04 | J78: 3
A79: 082X9234R | B79: Ридан НС | C79: 32 | D79: +19/-45 | E79: 460 | F79: 1 | G79: RU PL08R ARR | H79: 186204 | I79: =ROUND(ROUND(H79,2)*НДС!$A$1,2) -> 215996.64 | J79: 3
A80: 082X9226R | B80: Ридан НС | C80: 40 | D80: +11/-25 | E80: 360 | F80: 1 | G80: RU PL08R ARR | H80: 196686 | I80: =ROUND(ROUND(H80,2)*НДС!$A$1,2) -> 228155.76 | J80: 3
A81: 082X9235R | B81: Ридан НС | C81: 40 | D81: +19/-45 | E81: 460 | F81: 1 | G81: RU PL08R ARR | H81: 260724 | I81: =ROUND(ROUND(H81,2)*НДС!$A$1,2) -> 302439.84 | J81: 3
A82: 082X9227R | B82: Ридан НС | C82: 50 | D82: +12/-28 | E82: 360 | F82: 1 | G82: RU PL08R ARR | H82: 207876 | I82: =ROUND(ROUND(H82,2)*НДС!$A$1,2) -> 241136.16 | J82: 3
A83: 082X9236R | B83: Ридан НС | C83: 50 | D83: +19/-45 | E83: 460 | F83: 1 | G83: RU PL08R ARR | H83: 283056 | I83: =ROUND(ROUND(H83,2)*НДС!$A$1,2) -> 328344.96 | J83: 3
A84: 082X9228R | B84: Ридан НС | C84: 65 | D84: +12/-28 | E84: 300 | F84: 1 | G84: RU PL08R ARR | H84: 233076 | I84: =ROUND(ROUND(H84,2)*НДС!$A$1,2) -> 270368.16 | J84: 3
A85: 082X9237R | B85: Ридан НС | C85: 65 | D85: +24/-56 | E85: 410 | F85: 1 | G85: RU PL08R ARR | H85: 247908 | I85: =ROUND(ROUND(H85,2)*НДС!$A$1,2) -> 287573.28 | J85: 3
A86: 082X9229R | B86: Ридан НС | C86: 80 | D86: +12/-28 | E86: 305 | F86: 1 | G86: RU PL08R ARR | H86: 234636 | I86: =ROUND(ROUND(H86,2)*НДС!$A$1,2) -> 272177.76 | J86: 3
A87: 082X9238R | B87: Ридан НС | C87: 80 | D87: +19/-45 | E87: 380 | F87: 1 | G87: RU PL08R ARR | H87: 250788 | I87: =ROUND(ROUND(H87,2)*НДС!$A$1,2) -> 290914.08 | J87: 3
... A93: 082X9241R | B93: Ридан НС | C93: 150 | D93: +24/-56 | E93: 490 | F93: 1 | G93: RU PL08R ARR | H93: 588522 | I93: =ROUND(ROUND(H93,2)*НДС!$A$1,2) -> 682685.52 | J93: 3

Sheet 9.7
A1: 9.7. Редукционные клапаны
A2: Сроки, наличие и заказ оборудования в электронном магазине ridan.ru или по телефону (495) 792 57 57
A3: Кодовый номер | B3: Тип | C3: DN, мм | D3: Присоеди-нение, дюймы | E3: PN, бар | F3: Диапазон настройки давления, бар | G3: Заводская настройка давления, бар | H3: Группа скидок | I3: Цена без НДС, KZT | J3: Цена с НДС, KZT | K3: наличие
A4: Клапан редукционный Ридан 7biz мембранный для поддержания давления «после себя», применяется в системах горячего и холодного водоснабжения, в том числе питьевого; материал корпуса — латунь CW602N; Тмакс. = 80 °С
A5: 082X4140R | B5: 7biz | C5: 15 | D5: G ½" | E5: 16 | F5: 1,0–5,5 | G5: 3 | H5: RU PL08R BrassBV | I5: 28686 | J5: =ROUND(ROUND(I5,2)*НДС!$A$1,2) -> 33275.76 | K5: 1
A6: 082X4141R | B6: 7biz | C6: 20 | D6: G ¾" | E6: 16 | F6: 1,0–5,5 | G6: 3 | H6: RU PL08R BrassBV | I6: 32970 | J6: =ROUND(ROUND(I6,2)*НДС!$A$1,2) -> 38245.2 | K6: 1
A7: 082X4142R | B7: 7biz | C7: 25 | D7: G 1" | E7: 16 | F7: 1,0–5,5 | G7: 3 | H7: RU PL08R BrassBV | I7: 46242 | J7: =ROUND(ROUND(I7,2)*НДС!$A$1,2) -> 53640.72 | K7: 1
A8: 082X4143R | B8: 7biz | C8: 32 | D8: G 1 ¼" | E8: 16 | F8: 1,0–5,5 | G8: 3 | H8: RU PL08R BrassBV | I8: 85632 | J8: =ROUND(ROUND(I8,2)*НДС!$A$1,2) -> 99333.12 | K8: 1
A9: 082X4144R | B9: 7biz | C9: 40 | D9: G 1½" | E9: 16 | F9: 1,0–5,5 | G9: 3 | H9: RU PL08R BrassBV | I9: 121596 | J9: =ROUND(ROUND(I9,2)*НДС!$A$1,2) -> 141051.36 | K9: 1
A10: 082X4145R | B10: 7biz | C10: 50 | D10: G 2" | E10: 16 | F10: 1,0–5,5 | G10: 3 | H10: RU PL08R BrassBV | I10: 162270 | J10: =ROUND(ROUND(I10,2)*НДС!$A$1,2) -> 188233.2 | K10: 1

Sheet 9.8
A1: 9.8. Гибкие антивибрационные вставки ZKV и контрольные стержни
A2: Сроки, наличие и заказ оборудования в электронном магазине ridan.ru или по телефону (495) 792 57 57
A3: Кодовый номер | B3: Тип | C3: DN, мм | D3: PN, бар | F3: Группа скидок | G3: Цена без НДС, KZT | H3: Цена с НДС, KZT | I3: наличие
A4: Гибкая антивибрационная вставка ZKV. Рабочие среды - вода, растворы гликоля до 50 %. Максимальное давление 16 бар, температуры рабочих сред от -20 до 100 °С
A5: 082X9030R | B5: ZKV | C5: 32 | D5: 16 | F5: RU PL08R-LVR | G5: 58860 | H5: =ROUND(ROUND(G5,2)*НДС!$A$1,2) -> 68277.6 | I5: 1
A6: 082X9031R | B6: ZKV | C6: 40 | D6: 16 | F6: RU PL08R-LVR | G6: 60360 | H6: =ROUND(ROUND(G6,2)*НДС!$A$1,2) -> 70017.6 | I6: 1
A7: 082X9032R | B7: ZKV | C7: 50 | D7: 16 | F7: RU PL08R-LVR | G7: 66078 | H7: =ROUND(ROUND(G7,2)*НДС!$A$1,2) -> 76650.48 | I7: 1
A8: 082X9033R | B8: ZKV | C8: 65 | D8: 16 | F8: RU PL08R-LVR | G8: 77064 | H8: =ROUND(ROUND(G8,2)*НДС!$A$1,2) -> 89394.24 | I8: 1
A9: 082X9034R | B9: ZKV | C9: 80 | D9: 16 | F9: RU PL08R-LVR | G9: 93390 | H9: =ROUND(ROUND(G9,2)*НДС!$A$1,2) -> 108332.4 | I9: 1
A10: 082X9035R | B10: ZKV | C10: 100 | D10: 16 | F10: RU PL08R-LVR | G10: 115500 | H10: =ROUND(ROUND(G10,2)*НДС!$A$1,2) -> 133980 | I10: 1
A11: 082X9036R | B11: ZKV | C11: 125 | D11: 16 | F11: RU PL08R-LVR | G11: 148602 | H11: =ROUND(ROUND(G11,2)*НДС!$A$1,2) -> 172378.32 | I11: 1
A12: 082X9037R | B12: ZKV | C12: 150 | D12: 16 | F12: RU PL08R-LVR | G12: 191046 | H12: =ROUND(ROUND(G12,2)*НДС!$A$1,2) -> 221613.36 | I12: 1
A13: 082X9038R | B13: ZKV | C13: 200 | D13: 10 | F13: RU PL08R-LVR | G13: 265554 | H13: =ROUND(ROUND(G13,2)*НДС!$A$1,2) -> 308042.64 | I13: 1
A14: 082X9046R | B14: ZKV | C14: 200 | D14: 16 | F14: RU PL08R-LVR | G14: 278778 | H14: =ROUND(ROUND(G14,2)*НДС!$A$1,2) -> 323382.48 | I14: 1
A15: 082X9039R | B15: ZKV | C15: 250 | D15: 10 | F15: RU PL08R-LVR | G15: 398916 | H15: =ROUND(ROUND(G15,2)*НДС!$A$1,2) -> 462742.56 | I15: 1
A16: 082X9047R | B16: ZKV | C16: 250 | D16: 16 | F16: RU PL08R-LVR | G16: 418842 | H16: =ROUND(ROUND(G16,2)*НДС!$A$1,2) -> 485856.72 | I16: 1
... A28: 082X9053R | B28: ZKV | C28: 600 | D28: 16 | F28: RU PL08R-LVR | G28: 2470836 | H28: =ROUND(ROUND(G28,2)*НДС!$A$1,2) -> 2866169.8 | I28: 2
A30: Кодовый номер | B30: Для ZKV с DN, мм | C30: PN, бар | D30: Необходимое количество комплектов стержней на одну гибкую вставку | E30: Давление, при котором применение контрольных стержней обязательно, бар | F30: Группа скидок | G30: Цена без НДС, KZT | H30: Цена с НДС, KZT | I30: наличие
A31: Комплект контрольных стержней для гибких антивибрационных вставок ZKV. Предохраняет от выхода деформаций вставки за эксплуатационные ограничения. Применение обязательно при использовании на рабочих средах, отличных от воды и при превышении давления выше указанного в таблице. Один комплект контрольных стержней состоит из двух стержней и соответствующего крепежного материала
A32: 082X9000 | B32: 32 | C32: 16 | D32: 1 | E32: 10.3 | F32: RU PL08R-LVR | G32: 62736 | H32: =ROUND(ROUND(G32,2)*НДС!$A$1,2) -> 72773.76 | I32: 1
A33: 082X9001 | B33: 40 | C33: 16 | D33: 1 | E33: 10.3 | F33: RU PL08R-LVR | G33: 62736 | H33: =ROUND(ROUND(G33,2)*НДС!$A$1,2) -> 72773.76 | I33: 1
A34: 082X9002 | B34: 50 | C34: 16 | D34: 1 | E34: 10.3 | F34: RU PL08R-LVR | G34: 86874 | H34: =ROUND(ROUND(G34,2)*НДС!$A$1,2) -> 100773.84 | I34: 1
A35: 082X9003 | B35: 65 | C35: 16 | D35: 1 | E35: 10.3 | F35: RU PL08R-LVR | G35: 86874 | H35: =ROUND(ROUND(G35,2)*НДС!$A$1,2) -> 100773.84 | I35: 1
A36: 082X9004 | B36: 80 | C36: 16 | D36: 1 | E36: 10.3 | F36: RU PL08R-LVR | G36: 90390 | H36: =ROUND(ROUND(G36,2)*НДС!$A$1,2) -> 104852.4 | I36: 1
A37: 082X9005 | B37: 100 | C37: 16 | D37: 1 | E37: 10.3 | F37: RU PL08R-LVR | G37: 90390 | H37: =ROUND(ROUND(G37,2)*НДС!$A$1,2) -> 104852.4 | I37: 1
A38: 082X9006 | B38: 125 | C38: 16 | D38: 1 | E38: 9.3 | F38: RU PL08R-LVR | G38: 94776 | H38: =ROUND(ROUND(G38,2)*НДС!$A$1,2) -> 109940.16 | I38: 1
A39: 082X9007 | B39: 150 | C39: 16 | D39: 1 | E39: 9.3 | F39: RU PL08R-LVR | G39: 106434 | H39: =ROUND(ROUND(G39,2)*НДС!$A$1,2) -> 123463.44 | I39: 1
A40: 082X9008 | B40: 200 | C40: 10 | D40: 2 | E40: 9.3 | F40: RU PL08R-LVR | G40: 115224 | H40: =ROUND(ROUND(G40,2)*НДС!$A$1,2) -> 133659.84 | I40: 1
A41: 082X9016 | B41: 200 | C41: 16 | D41: 2 | E41: 9.3 | F41: RU PL08R-LVR | G41: 132474 | H41: =ROUND(ROUND(G41,2)*НДС!$A$1,2) -> 153669.84 | I41: 1
A42: 082X9009 | B42: 250 | C42: 10 | D42: 2 | E42: 9.3 | F42: RU PL08R-LVR | G42: 123924 | H42: =ROUND(ROUND(G42,2)*НДС!$A$1,2) -> 143751.84 | I42: 1
A43: 082X9017 | B43: 250 | C43: 16 | D43: 2 | E43: 9.3 | F43: RU PL08R-LVR | G43: 142614 | H43: =ROUND(ROUND(G43,2)*НДС!$A$1,2) -> 165432.24 | I43: 1
... A55: 082X9023 | B55: 600 | C55: 16 | D55: 2 | E55: 3.1 | F55: RU PL08R-LVR | G55: 374478 | H55: =ROUND(ROUND(G55,2)*НДС!$A$1,2) -> 434394.48 | I55: 2

Sheet НДС
A1: 1.16

Sheet 9.9
A1: 9.9. Пилотные регулирующие клапаны
A2: Сроки, наличие и заказ оборудования в электронном магазине ridan.ru или по телефону (495) 792 57 57
A3: Кодовый номер | B3: Тип | C3: DN, мм | D3: Макси-мальное давление, бар | E3: Диапазон настроек, бар | F3: Kvs, м3/ч | G3: Макс. расход через клапан, м3/ч | H3: Группа скидок | I3: Цена без НДС, KZT | J3: Цена с НДС, KZT | K3: наличие
A4: Клапан пилотный регулирующий давление "после себя" С101-R; материал: корпус — высокопрочный чугун, седло — нержавеющая сталь, пилотный контур - нержавеющая сталь. Рабочая среда — вода; Тмакс. = 80 °С; Снижает и поддерживает постоянное давление «после себя» вне зависимости от изменения расхода среды и изменения давления перед клапаном. Применяется в системах водоснабжения, в том числе питьевого. Поставляется в комплекте: основной клапан, пилотный управляющий клапан, пилотный контур.
A5: 082X6100RL | B5: С101-R | C5: 50 | D5: 16 | E5: 1 - 8 | F5: 65 | G5: 45 | H5: RU PL08R RV | I5: 1669926 | J5: =ROUND(ROUND(I5,2)*НДС!$A$1,2) -> 1937114.2
A6: 082X6101RL | B6: С101-R | C6: 65 | D6: 16 | E6: 1 - 8 | F6: 130 | G6: 50 | H6: RU PL08R RV | I6: 1825992 | J6: =ROUND(ROUND(I6,2)*НДС!$A$1,2) -> 2118150.7
A7: 082X6102RL | B7: С101-R | C7: 80 | D7: 16 | E7: 1 - 8 | F7: 140 | G7: 90 | H7: RU PL08R RV | I7: 2494332 | J7: =ROUND(ROUND(I7,2)*НДС!$A$1,2) -> 2893425.1
A8: 082X6103RL | B8: С101-R | C8: 100 | D8: 16 | E8: 1 - 8 | F8: 210 | G8: 150 | H8: RU PL08R RV | I8: 3184116 | J8: =ROUND(ROUND(I8,2)*НДС!$A$1,2) -> 3693574.6
A9: 082X6104RL | B9: С101-R | C9: 125 | D9: 16 | E9: 1 - 8 | F9: 350 | G9: 220 | H9: RU PL08R RV | I9: 3941208 | J9: =ROUND(ROUND(I9,2)*НДС!$A$1,2) -> 4571801.3
A10: 082X6105RL | B10: С101-R | C10: 150 | D10: 16 | E10: 1 - 8 | F10: 510 | G10: 320 | H10: RU PL08R RV | I10: 4675974 | J10: =ROUND(ROUND(I10,2)*НДС!$A$1,2) -> 5424129.8
A11: 082X6106RL | B11: С101-R | C11: 200 | D11: 16 | E11: 1 - 8 | F11: 850 | G11: 550 | H11: RU PL08R RV | I11: 6584208 | J11: =ROUND(ROUND(I11,2)*НДС!$A$1,2) -> 7637681.3
A12: 082X6107RL | B12: С101-R | C12: 250 | D12: 16 | E12: 1 - 8 | F12: 1300 | G12: 950 | H12: RU PL08R RV | I12: 8572674 | J12: =ROUND(ROUND(I12,2)*НДС!$A$1,2) -> 9944301.8
A13: 082X6108RL | B13: С101-R | C13: 300 | D13: 16 | E13: 1 - 8 | F13: 1980 | G13: 1200 | H13: RU PL08R RV | I13: 11578050 | J13: =ROUND(ROUND(I13,2)*НДС!$A$1,2) -> 13430538
A14: 082X6100RL2 | B14: С101-R | C14: 50 | D14: 16 | E14: 2 - 16 | F14: 65 | G14: 45 | H14: RU PL08R RV | I14: 1669926 | J14: =ROUND(ROUND(I14,2)*НДС!$A$1,2) -> 1937114.2
A15: 082X6101RL2 | B15: С101-R | C15: 65 | D15: 16 | E15: 2 - 16 | F15: 130 | G15: 50 | H15: RU PL08R RV | I15: 1825992 | J15: =ROUND(ROUND(I15,2)*НДС!$A$1,2) -> 2118150.7
A16: 082X6102RL2 | B16: С101-R | C16: 80 | D16: 16 | E16: 2 - 16 | F16: 140 | G16: 90 | H16: RU PL08R RV | I16: 2494332 | J16: =ROUND(ROUND(I16,2)*НДС!$A$1,2) -> 2893425.1
... A36: 082X6115RL2 | B36: С101-R | C36: 200 | D36: 25 | E36: 2 - 16 | F36: 850 | G36: 550 | H36: RU PL08R RV | I36: 6913422 | J36: =ROUND(ROUND(I36,2)*НДС!$A$1,2) -> 8019569.5
A37: Кодовый номер | B37: Тип | C37: DN, мм | D37: Макси-мальное давление, бар | E37: Диапазон настроек, бар | F37: Kvs, м3/ч | G37: Макс. расход через клапан, м3/ч | H37: Группа скидок | I37: Цена без НДС, KZT | J37: Цена с НДС, KZT | K37: наличие
A38: Клапан пилотный регулирующий давление "до себя" С301-R; материал: корпус — высокопрочный чугун, седло — нержавеющая сталь, пилотный контур - нержавеющая сталь. Рабочая среда — вода; Тмакс. = 80 °С; Поддерживает постоянное давление «до себя» вне зависимости от изменения расхода среды и изменения давления перед клапаном. Применяется в системах водоснабжения, в том числе питьевого. Поставляется в комплекте: основной клапан, пилотный управляющий клапан, пилотный контур.
A39: 082X6140RL | B39: С301-R | C39: 50 | D39: 16 | E39: 1 - 8 | F39: 65 | G39: 45 | H39: RU PL08R RV | I39: 1714626 | J39: =ROUND(ROUND(I39,2)*НДС!$A$1,2) -> 1988966.2
A40: 082X6141RL | B40: С301-R | C40: 65 | D40: 16 | E40: 1 - 8 | F40: 130 | G40: 50 | H40: RU PL08R RV | I40: 1981692 | J40: =ROUND(ROUND(I40,2)*НДС!$A$1,2) -> 2298762.7
A41: 082X6142RL | B41: С301-R | C41: 80 | D41: 16 | E41: 1 - 8 | F41: 140 | G41: 90 | H41: RU PL08R RV | I41: 2672118 | J41: =ROUND(ROUND(I41,2)*НДС!$A$1,2) -> 3099656.9
A42: 082X6143RL | B42: С301-R | C42: 100 | D42: 16 | E42: 1 - 8 | F42: 210 | G42: 150 | H42: RU PL08R RV | I42: 3339708 | J42: =ROUND(ROUND(I42,2)*НДС!$A$1,2) -> 3874061.3
A43: 082X6144RL | B43: С301-R | C43: 125 | D43: 16 | E43: 1 - 8 | F43: 350 | G43: 220 | H43: RU PL08R RV | I43: 4007886 | J43: =ROUND(ROUND(I43,2)*НДС!$A$1,2) -> 4649147.8
A44: 082X6145RL | B44: С301-R | C44: 150 | D44: 16 | E44: 1 - 8 | F44: 510 | G44: 320 | H44: RU PL08R RV | I44: 4897686 | J44: =ROUND(ROUND(I44,2)*НДС!$A$1,2) -> 5681315.8
A45: 082X6146RL | B45: С301-R | C45: 200 | D45: 16 | E45: 1 - 8 | F45: 850 | G45: 550 | H45: RU PL08R RV | I45: 7029348 | J45: =ROUND(ROUND(I45,2)*НДС!$A$1,2) -> 8154043.7
A46: 082X6147RL | B46: С301-R | C46: 250 | D46: 16 | E46: 1 - 8 | F46: 1300 | G46: 950 | H46: RU PL08R RV | I46: 9151368 | J46: =ROUND(ROUND(I46,2)*НДС!$A$1,2) -> 10615587
A47: 082X6148RL | B47: С301-R | C47: 300 | D47: 16 | E47: 1 - 8 | F47: 1980 | G47: 1200 | H47: RU PL08R RV | I47: 12800088 | J47: =ROUND(ROUND(I47,2)*НДС!$A$1,2) -> 14848102
A48: 082X6140RL2 | B48: С301-R | C48: 50 | D48: 16 | E48: 2 - 16 | F48: 65 | G48: 45 | H48: RU PL08R RV | I48: 1714626 | J48: =ROUND(ROUND(I48,2)*НДС!$A$1,2) -> 1988966.2
A49: 082X6141RL2 | B49: С301-R | C49: 65 | D49: 16 | E49: 2 - 16 | F49: 130 | G49: 50 | H49: RU PL08R RV | I49: 1981692 | J49: =ROUND(ROUND(I49,2)*НДС!$A$1,2) -> 2298762.7
A50: 082X6142RL2 | B50: С301-R | C50: 80 | D50: 16 | E50: 2 - 16 | F50: 140 | G50: 90 | H50: RU PL08R RV | I50: 2672118 | J50: =ROUND(ROUND(I50,2)*НДС!$A$1,2) -> 3099656.9
... A70: 082X6155RL2 | B70: С301-R | C70: 200 | D70: 25 | E70: 2 - 16 | F70: 850 | G70: 550 | H70: RU PL08R RV | I70: 7380816 | J70: =ROUND(ROUND(I70,2)*НДС!$A$1,2) -> 8561746.6

Sheet 9.10
A1: 9.10. Латунные предохранительные клапаны для воды
A2: Сроки, наличие и заказ оборудования в электронном магазине ridan.ru или по телефону (495) 792 57 57
A3: Кодовый номер | B3: Тип | C3: DN, мм | D3: PN, бар | E3: Группа скидок | F3: Цена без НДС, KZT | G3: Цена с НДС, KZT | H3: наличие
A4: Латунные предохранительные клапаны RSV. Рабочие среды - вода, растворы гликоля до 50 %. Максимальное давление 16 бар, температуры рабочих сред от -10 до +150 °С
A5: 082X4320R | B5: RSV | C5: 15 | D5: 16 | E5: RU PL08R YZK | F5: 22992 | G5: =ROUND(ROUND(F5,2)*НДС!$A$1,2) -> 26670.72 | H5: 1
A6: 082X4321R | B6: RSV | C6: 20 | D6: 16 | E6: RU PL08R YZK | F6: 34518 | G6: =ROUND(ROUND(F6,2)*НДС!$A$1,2) -> 40040.88 | H6: 1
A7: 082X4322R | B7: RSV | C7: 25 | D7: 16 | E7: RU PL08R YZK | F7: 48984 | G7: =ROUND(ROUND(F7,2)*НДС!$A$1,2) -> 56821.44 | H7: 1
A8: 082X4323R | B8: RSV | C8: 32 | D8: 16 | E8: RU PL08R YZK | F8: 81234 | G8: =ROUND(ROUND(F8,2)*НДС!$A$1,2) -> 94231.44 | H8: 1
A9: 082X4324R | B9: RSV | C9: 40 | D9: 16 | E9: RU PL08R YZK | F9: 105750 | G9: =ROUND(ROUND(F9,2)*НДС!$A$1,2) -> 122670 | H9: 1
A10: 082X4325R | B10: RSV | C10: 50 | D10: 16 | E10: RU PL08R YZK | F10: 167196 | G10: =ROUND(ROUND(F10,2)*НДС!$A$1,2) -> 193947.36 | H10: 1
