Workbook

Sheet 9.1
A1: 9. Трубопроводная арматура
A2: Сроки, наличие и заказ оборудования в электронном магазине ridan.ru или по телефону (495) 792 57 57
A4: 9.1. Краны шаровые запорные
A6: 9.1.1. Краны шаровые стальные RJIP, перемещаемая среда – вода и гликолевые смеси
A7: Кодовый номер | B7: Тип | C7: DN, мм | D7: PN , бар | E7: Kvs, м3/ч | F7: Кол-во в упаковке, шт. | H7: Группа скидок | I7: Цена без НДС, KZT | J7: Цена с НДС, KZT | K7: наличие
A8: Шаровой кран RJIP Premium WW под приварку с рукояткой, стандартным проходом; материал – углеродистая сталь; Тмакс. = 180 °С
A9: 065N0100GR | B9: RJIP-WW | C9: 15 | D9: 40 | E9: 11 | F9: 1 | H9: RU PL08RJIP-M | I9: 28806 | J9: =ROUND(ROUND(I9,2)*НДС!$A$1,2) -> 33414.96 | K9: 1
A10: 065N0105GR | B10: RJIP-WW | C10: 20 | D10: 40 | E10: 15 | F10: 1 | H10: RU PL08RJIP-M | I10: 28806 | J10: =ROUND(ROUND(I10,2)*НДС!$A$1,2) -> 33414.96 | K10: 1
A11: 065N0110GR | B11: RJIP-WW | C11: 25 | D11: 40 | E11: 34 | F11: 1 | H11: RU PL08RJIP-M | I11: 31764 | J11: =ROUND(ROUND(I11,2)*НДС!$A$1,2) -> 36846.24 | K11: 1
A12: 065N0115GR | B12: RJIP-WW | C12: 32 | D12: 40 | E12: 52 | F12: 1 | H12: RU PL08RJIP-M | I12: 34524 | J12: =ROUND(ROUND(I12,2)*НДС!$A$1,2) -> 40047.84 | K12: 1
A13: 065N0120GR | B13: RJIP-WW | C13: 40 | D13: 40 | E13: 96 | F13: 1 | H13: RU PL08RJIP-M | I13: 46998 | J13: =ROUND(ROUND(I13,2)*НДС!$A$1,2) -> 54517.68 | K13: 1
A14: 065N0125GR | B14: RJIP-WW | C14: 50 | D14: 40 | E14: 124 | F14: 1 | H14: RU PL08RJIP-M | I14: 52818 | J14: =ROUND(ROUND(I14,2)*НДС!$A$1,2) -> 61268.88 | K14: 1
A15: 065N4280GR | B15: RJIP-WW | C15: 65 | D15: 25 | E15: 169 | F15: 1 | H15: RU PL08RJIP-M | I15: 85482 | J15: =ROUND(ROUND(I15,2)*НДС!$A$1,2) -> 99159.12 | K15: 1
A16: 065N4285GR | B16: RJIP-WW | C16: 80 | D16: 25 | E16: 302 | F16: 1 | H16: RU PL08RJIP-M | I16: 115326 | J16: =ROUND(ROUND(I16,2)*НДС!$A$1,2) -> 133778.16 | K16: 1
A17: 065N0140GR | B17: RJIP-WW | C17: 100 | D17: 25 | E17: 488 | F17: 1 | H17: RU PL08RJIP-M | I17: 145716 | J17: =ROUND(ROUND(I17,2)*НДС!$A$1,2) -> 169030.56 | K17: 1
A18: 065N0745GR | B18: RJIP-WW | C18: 125 | D18: 25 | E18: 874 | F18: 1 | H18: RU PL08RJIP-M | I18: 279318 | J18: =ROUND(ROUND(I18,2)*НДС!$A$1,2) -> 324008.88 | K18: 1
A19: 065N0750GR | B19: RJIP-WW | C19: 150 | D19: 25 | E19: 1257 | F19: 1 | H19: RU PL08RJIP-M | I19: 431664 | J19: =ROUND(ROUND(I19,2)*НДС!$A$1,2) -> 500730.24 | K19: 1
A20: Шаровой кран RJIP Premium FF фланцевый, с рукояткой стандартным проходом; материал – углеродистая сталь; Тмакс. = 180 °С
A21: 065N0300GR | B21: RJIP-FF | C21: 15 | D21: 40 | E21: 11 | F21: 1 | H21: RU PL08RJIP-M | I21: 47772 | J21: =ROUND(ROUND(I21,2)*НДС!$A$1,2) -> 55415.52 | K21: 1
A22: 065N0305GR | B22: RJIP-FF | C22: 20 | D22: 40 | E22: 15 | F22: 1 | H22: RU PL08RJIP-M | I22: 54750 | J22: =ROUND(ROUND(I22,2)*НДС!$A$1,2) -> 63510 | K22: 1
A23: 065N0310GR | B23: RJIP-FF | C23: 25 | D23: 40 | E23: 34 | F23: 1 | H23: RU PL08RJIP-M | I23: 56304 | J23: =ROUND(ROUND(I23,2)*НДС!$A$1,2) -> 65312.64 | K23: 1
A24: 065N0315GR | B24: RJIP-FF | C24: 32 | D24: 40 | E24: 52 | F24: 1 | H24: RU PL08RJIP-M | I24: 61374 | J24: =ROUND(ROUND(I24,2)*НДС!$A$1,2) -> 71193.84 | K24: 1
A25: 065N0320GR | B25: RJIP-FF | C25: 40 | D25: 40 | E25: 96 | F25: 1 | H25: RU PL08RJIP-M | I25: 85248 | J25: =ROUND(ROUND(I25,2)*НДС!$A$1,2) -> 98887.68 | K25: 1
A26: 065N0325GR | B26: RJIP-FF | C26: 50 | D26: 40 | E26: 124 | F26: 1 | H26: RU PL08RJIP-M | I26: 96132 | J26: =ROUND(ROUND(I26,2)*НДС!$A$1,2) -> 111513.12 | K26: 1
A27: 065N4281GR | B27: RJIP-FF | C27: 65 | D27: 25 | E27: 169 | F27: 1 | H27: RU PL08RJIP-M | I27: 135054 | J27: =ROUND(ROUND(I27,2)*НДС!$A$1,2) -> 156662.64 | K27: 1
A28: 065N4286GR | B28: RJIP-FF | C28: 80 | D28: 25 | E28: 302 | F28: 1 | H28: RU PL08RJIP-M | I28: 166020 | J28: =ROUND(ROUND(I28,2)*НДС!$A$1,2) -> 192583.2 | K28: 1
A29: 065N0340GR | B29: RJIP-FF | C29: 100 | D29: 25 | E29: 488 | F29: 1 | H29: RU PL08RJIP-M | I29: 236436 | J29: =ROUND(ROUND(I29,2)*НДС!$A$1,2) -> 274265.76 | K29: 1
A30: 065N0945GR | B30: RJIP-FF | C30: 125 | D30: 25 | E30: 874 | F30: 1 | H30: RU PL08RJIP-M | I30: 415878 | J30: =ROUND(ROUND(I30,2)*НДС!$A$1,2) -> 482418.48 | K30: 1
A31: 065N0950GR | B31: RJIP-FF | C31: 150 | D31: 25 | E31: 1257 | F31: 1 | H31: RU PL08RJIP-M | I31: 687078 | J31: =ROUND(ROUND(I31,2)*НДС!$A$1,2) -> 797010.48 | K31: 1
A32: Удлинитель штока для установки шаровых кранов RJIP Premium с рукояткой под теплоизоляцию трубопровода
A33: 065N0325GR-S1 | B33: RJIP Premium | C33: 50-65 | D33: - | E33: - | F33: Комплект | H33: RU PL08RJIP-M | I33: 10332 | J33: =ROUND(ROUND(I33,2)*НДС!$A$1,2) -> 11985.12 | K33: 1
A34: 065N4286GR-S1 | B34: RJIP Premium | C34: 80-100 | D34: - | E34: - | F34: Комплект | H34: RU PL08RJIP-M | I34: 16314 | J34: =ROUND(ROUND(I34,2)*НДС!$A$1,2) -> 18924.24 | K34: 1
A35: 065N0945GR-S1 | B35: RJIP Premium | C35: 125 | D35: - | E35: - | F35: Комплект | H35: RU PL08RJIP-M | I35: 19716 | J35: =ROUND(ROUND(I35,2)*НДС!$A$1,2) -> 22870.56 | K35: 1
A36: Шаровой кран RJIP Premium WW под приварку со стандартным проходом, редукторным приводом; материал – углеродистая сталь; Тмакс. = 180 °С
A37: 065N0131R | B37: RJIP-WW | C37: 65 | D37: 25 | E37: 160 | F37: 1 | H37: RU PL08RJIP-M | I37: 511674 | J37: =ROUND(ROUND(I37,2)*НДС!$A$1,2) -> 593541.84 | K37: 1
A38: 065N0136R | B38: RJIP-WW | C38: 80 | D38: 25 | E38: 280 | F38: 1 | H38: RU PL08RJIP-M | I38: 597810 | J38: =ROUND(ROUND(I38,2)*НДС!$A$1,2) -> 693459.6 | K38: 1
A39: 065N0141R | B39: RJIP-WW | C39: 100 | D39: 25 | E39: 450 | F39: 1 | H39: RU PL08RJIP-M | I39: 659766 | J39: =ROUND(ROUND(I39,2)*НДС!$A$1,2) -> 765328.56 | K39: 1
A40: 065N0146R | B40: RJIP-WW | C40: 125 | D40: 25 | E40: 690 | F40: 1 | H40: RU PL08RJIP-M | I40: 833052 | J40: =ROUND(ROUND(I40,2)*НДС!$A$1,2) -> 966340.32 | K40: 1
A41: 065N0151GR | B41: RJIP-WW | C41: 150 | D41: 25 | E41: 1190 | F41: 1 | H41: RU PL08RJIP-M | I41: 801114 | J41: =ROUND(ROUND(I41,2)*НДС!$A$1,2) -> 929292.24 | K41: 1
A42: 065N0156GR | B42: RJIP-WW | C42: 200 | D42: 25 | E42: 1680 | F42: 1 | H42: RU PL08RJIP-M | I42: 1057302 | J42: =ROUND(ROUND(I42,2)*НДС!$A$1,2) -> 1226470.3 | K42: 1
...

Sheet 9.2
A1: 9.2. Затворы дисковые, перемещаемая среда – вода, гликолевые растворы.
A2: Сроки, наличие и заказ оборудования в электронном магазине ridan.ru или по телефону (495) 792 57 57
A3: 9.2.1. Затворы дисковые с ручным управлением
A4: Кодовый номер | B4: Тип | C4: DN, мм | D4: PN, бар | E4: Вес нетто, кг. | F4: Группа скидок | G4: Цена без НДС, KZT | H4: Цена с НДС, KZT | I4: наличие
A5: Дисковый затвор Ридан ЗДМ с металлической рукояткой, корпус с центрирующими проушинами; материалы: корпус, диск — высокопрочный чугун (GGG40) с эпоксидным покрытием; уплотнение — EPDM; Т от- 15°C до 120 °С
A6: 082X4400R | B6: ЗДМ | C6: 40 | D6: 16 | E6: 1.8 | F6: RU PL08R-LVR | G6: 27282 | H6: =ROUND(ROUND(G6,2)*НДС!$A$1,2) -> 31647.12 | I6: 1
A7: 082X4401R | B7: ЗДМ | C7: 50 | D7: 16 | E7: 2.1 | F7: RU PL08R-LVR | G7: 27984 | H7: =ROUND(ROUND(G7,2)*НДС!$A$1,2) -> 32461.44 | I7: 1
A8: 082X4402R | B8: ЗДМ | C8: 65 | D8: 16 | E8: 2.4 | F8: RU PL08R-LVR | G8: 30780 | H8: =ROUND(ROUND(G8,2)*НДС!$A$1,2) -> 35704.8 | I8: 1
A9: 082X4403R | B9: ЗДМ | C9: 80 | D9: 16 | E9: 3.2 | F9: RU PL08R-LVR | G9: 36786 | H9: =ROUND(ROUND(G9,2)*НДС!$A$1,2) -> 42671.76 | I9: 1
A10: 082X4404R | B10: ЗДМ | C10: 100 | D10: 16 | E10: 4.3 | F10: RU PL08R-LVR | G10: 48648 | H10: =ROUND(ROUND(G10,2)*НДС!$A$1,2) -> 56431.68 | I10: 1
A11: 082X4405R | B11: ЗДМ | C11: 125 | D11: 16 | E11: 6.3 | F11: RU PL08R-LVR | G11: 60438 | H11: =ROUND(ROUND(G11,2)*НДС!$A$1,2) -> 70108.08 | I11: 1
A12: 082X4406R | B12: ЗДМ | C12: 150 | D12: 16 | E12: 7.8 | F12: RU PL08R-LVR | G12: 72966 | H12: =ROUND(ROUND(G12,2)*НДС!$A$1,2) -> 84640.56 | I12: 1
A13: 082X4407R | B13: ЗДМ | C13: 200 | D13: 16 | E13: 15 | F13: RU PL08R-LVR | G13: 126630 | H13: =ROUND(ROUND(G13,2)*НДС!$A$1,2) -> 146890.8 | I13: 1
A14: 082X4408R | B14: ЗДМ | C14: 250 | D14: 16 | E14: 23.5 | F14: RU PL08R-LVR | G14: 224988 | H14: =ROUND(ROUND(G14,2)*НДС!$A$1,2) -> 260986.08 | I14: 1
A15: 082X4409R | B15: ЗДМ | C15: 300 | D15: 16 | E15: 42 | F15: RU PL08R-LVR | G15: 300318 | H15: =ROUND(ROUND(G15,2)*НДС!$A$1,2) -> 348368.88 | I15: 1
A16: Дисковый затвор Ридан ЗДМ с металлической рукояткой, корпус с центрирующими проушинами; материалы: корпус — высокопрочный чугун (GGG40); диск — нержавеющая сталь 316 ; уплотнение — EPDM; Т от- 15°C до 120 °С
A17: 082X4420R | B17: ЗДМ | C17: 40 | D17: 16 | E17: 1.8 | F17: RU PL08R-LVR | G17: 35472 | H17: =ROUND(ROUND(G17,2)*НДС!$A$1,2) -> 41147.52 | I17: 1
A18: 082X4421R | B18: ЗДМ | C18: 50 | D18: 16 | E18: 2.1 | F18: RU PL08R-LVR | G18: 41550 | H18: =ROUND(ROUND(G18,2)*НДС!$A$1,2) -> 48198 | I18: 1
A19: 082X4422R | B19: ЗДМ | C19: 65 | D19: 16 | E19: 2.4 | F19: RU PL08R-LVR | G19: 46620 | H19: =ROUND(ROUND(G19,2)*НДС!$A$1,2) -> 54079.2 | I19: 1
A20: 082X4423R | B20: ЗДМ | C20: 80 | D20: 16 | E20: 3.2 | F20: RU PL08R-LVR | G20: 51690 | H20: =ROUND(ROUND(G20,2)*НДС!$A$1,2) -> 59960.4 | I20: 1
A21: 082X4424R | B21: ЗДМ | C21: 100 | D21: 16 | E21: 4.3 | F21: RU PL08R-LVR | G21: 67392 | H21: =ROUND(ROUND(G21,2)*НДС!$A$1,2) -> 78174.72 | I21: 1
A22: 082X4425R | B22: ЗДМ | C22: 125 | D22: 16 | E22: 6.3 | F22: RU PL08R-LVR | G22: 89178 | H22: =ROUND(ROUND(G22,2)*НДС!$A$1,2) -> 103446.48 | I22: 1
A23: 082X4426R | B23: ЗДМ | C23: 150 | D23: 16 | E23: 7.8 | F23: RU PL08R-LVR | G23: 116040 | H23: =ROUND(ROUND(G23,2)*НДС!$A$1,2) -> 134606.4 | I23: 1
A24: 082X4427R | B24: ЗДМ | C24: 200 | D24: 16 | E24: 15 | F24: RU PL08R-LVR | G24: 206736 | H24: =ROUND(ROUND(G24,2)*НДС!$A$1,2) -> 239813.76 | I24: 1
A25: 082X4428R | B25: ЗДМ | C25: 250 | D25: 16 | E25: 23.5 | F25: RU PL08R-LVR | G25: 316194 | H25: =ROUND(ROUND(G25,2)*НДС!$A$1,2) -> 366785.04 | I25: 3
A26: 082X4429R | B26: ЗДМ | C26: 300 | D26: 16 | E26: 42 | F26: RU PL08R-LVR | G26: 481326 | H26: =ROUND(ROUND(G26,2)*НДС!$A$1,2) -> 558338.16 | I26: 3
A28: Кодовый номер | B28: Тип | C28: DN, мм | D28: PN, бар | E28: Вес нетто, кг. | F28: Группа скидок | G28: Цена без НДС, KZT | H28: Цена с НДС, KZT | I28: наличие
A29: Дисковый затвор Ридан ЗДМ с ручным редукторным приводом, корпус с центрирующими проушинами; материалы: корпус — высокопрочный чугун (GGG40); диск — высокопрочный чугун (GGG40) с эпоксидным покрытием; уплотнение — EPDM; Т от -15°С до 120 °С
A30: 082X4410R | B30: ЗДМ | C30: 100 | D30: 16 | E30: 8.1 | F30: RU PL08R-LVR | G30: 104940 | H30: =ROUND(ROUND(G30,2)*НДС!$A$1,2) -> 121730.4 | I30: 1
A31: 082X4411R | B31: ЗДМ | C31: 125 | D31: 16 | E31: 9.6 | F31: RU PL08R-LVR | G31: 129426 | H31: =ROUND(ROUND(G31,2)*НДС!$A$1,2) -> 150134.16 | I31: 3
A32: 082X4412R | B32: ЗДМ | C32: 150 | D32: 16 | E32: 11.1 | F32: RU PL08R-LVR | G32: 149988 | H32: =ROUND(ROUND(G32,2)*НДС!$A$1,2) -> 173986.08 | I32: 3
A33: 082X4413R | B33: ЗДМ | C33: 200 | D33: 16 | E33: 22.3 | F33: RU PL08R-LVR | G33: 206736 | H33: =ROUND(ROUND(G33,2)*НДС!$A$1,2) -> 239813.76 | I33: 1
A34: 082X4414R | B34: ЗДМ | C34: 250 | D34: 16 | E34: 32.8 | F34: RU PL08R-LVR | G34: 310782 | H34: =ROUND(ROUND(G34,2)*НДС!$A$1,2) -> 360507.12 | I34: 1
A35: 082X4415R | B35: ЗДМ | C35: 300 | D35: 16 | E35: 42 | F35: RU PL08R-LVR | G35: 369726 | H35: =ROUND(ROUND(G35,2)*НДС!$A$1,2) -> 428882.16 | I35: 1
A36: 082X4416R | B36: ЗДМ | C36: 350 | D36: 16 | E36: 72 | F36: RU PL08R-LVR | G36: 559422 | H36: =ROUND(ROUND(G36,2)*НДС!$A$1,2) -> 648929.52 | I36: 1
A37: 082X4417R | B37: ЗДМ | C37: 400 | D37: 16 | E37: 121 | F37: RU PL08R-LVR | G37: 734580 | H37: =ROUND(ROUND(G37,2)*НДС!$A$1,2) -> 852112.8 | I37: 1
A38: 082X4418R | B38: ЗДМ | C38: 500 | D38: 16 | E38: 188 | F38: RU PL08R-LVR | G38: 1672044 | H38: =ROUND(ROUND(G38,2)*НДС!$A$1,2) -> 1939571 | I38: 1
A39: 082X4419R | B39: ЗДМ | C39: 600 | D39: 16 | E39: 301 | F39: RU PL08R-LVR | G39: 2721444 | H39: =ROUND(ROUND(G39,2)*НДС!$A$1,2) -> 3156875 | I39: 3
A40: Дисковый затвор Ридан ЗДМ с ручным редукторным приводом, корпус с центрирующими проушинами; материалы: корпус — высокопрочный чугун (GGG40); диск — нержавеющая сталь 316; уплотнение — EPDM; Т от -15°С до 120 °С
A41: 082X4430R | B41: ЗДМ | C41: 100 | D41: 16 | E41: 8.1 | F41: RU PL08R-LVR | G41: 144918 | H41: =ROUND(ROUND(G41,2)*НДС!$A$1,2) -> 168104.88 | I41: 3
...

Sheet 9.3
A1: 9.3. Клапаны обратные
A2: Сроки, наличие и заказ оборудования в электронном магазине ridan.ru или по телефону (495) 792 57 57
A3: Кодовый номер | B3: Тип | C3: DN, мм | D3: Присоеди-нение, дюймы | E3: PN, бар | F3: Вес нетто, кг | G3: Группа скидок | H3: Цена без НДС, KZT | I3: Цена с НДС, KZT | J3: наличие
A4: Обратный клапан пружинный NRV-R с внутренней резьбой, материал корпуса – латунь;Тмакс. = 110 °С
A5: 065B8324R | B5: NRV-R | C5: 15 | D5: G ½ | E5: 25 | F5: 0.15 | G5: RU PL08R BrassBV | H5: 8784 | I5: =ROUND(ROUND(H5,2)*НДС!$A$1,2) -> 10189.44 | J5: 1
A6: 065B8325R | B6: NRV-R | C6: 20 | D6: G ¾ | E6: 25 | F6: 0.225 | G6: RU PL08R BrassBV | H6: 11496 | I6: =ROUND(ROUND(H6,2)*НДС!$A$1,2) -> 13335.36 | J6: 1
A7: 065B8326R | B7: NRV-R | C7: 25 | D7: G 1 | E7: 25 | F7: 0.33 | G7: RU PL08R BrassBV | H7: 15066 | I7: =ROUND(ROUND(H7,2)*НДС!$A$1,2) -> 17476.56 | J7: 1
A8: 065B8327R | B8: NRV-R | C8: 32 | D8: G 1¼ | E8: 25 | F8: 0.545 | G8: RU PL08R BrassBV | H8: 22464 | I8: =ROUND(ROUND(H8,2)*НДС!$A$1,2) -> 26058.24 | J8: 1
A9: 065B8328R | B9: NRV-R | C9: 40 | D9: G 1½ | E9: 25 | F9: 0.685 | G9: RU PL08R BrassBV | H9: 28158 | I9: =ROUND(ROUND(H9,2)*НДС!$A$1,2) -> 32663.28 | J9: 1
A10: 065B8329R | B10: NRV-R | C10: 50 | D10: G 2 | E10: 25 | F10: 1.025 | G10: RU PL08R BrassBV | H10: 40368 | I10: =ROUND(ROUND(H10,2)*НДС!$A$1,2) -> 46826.88 | J10: 1
A11: Кодовый номер | B11: Тип | C11: DN, мм | D11: материал пластин | E11: PN, бар | F11: Вес нетто, кг | G11: Группа скидок | H11: Цена без НДС, KZT | I11: Цена с НДС, KZT | J11: наличие
A12: Обратный затвор двустворчатый ЗОД для установки между фланцами; материал корпуса: чугун, пластины: нержавеющая сталь или чугун с антикоррозионным покрытием; Т =от -20 до +120°С
A13: 082X4050R | B13: ЗОД | C13: 50 | D13: нерж. сталь | E13: 16 | F13: 1.3 | G13: RU PL08R-LVR | H13: 27444 | I13: =ROUND(ROUND(H13,2)*НДС!$A$1,2) -> 31835.04 | J13: 1
A14: 082X4051R | B14: ЗОД | C14: 65 | D14: нерж. сталь | E14: 16 | F14: 1.9 | G14: RU PL08R-LVR | H14: 32742 | I14: =ROUND(ROUND(H14,2)*НДС!$A$1,2) -> 37980.72 | J14: 1
A15: 082X4052R | B15: ЗОД | C15: 80 | D15: нерж. сталь | E15: 16 | F15: 2.8 | G15: RU PL08R-LVR | H15: 45786 | I15: =ROUND(ROUND(H15,2)*НДС!$A$1,2) -> 53111.76 | J15: 1
A16: 082X4053R | B16: ЗОД | C16: 100 | D16: нерж. сталь | E16: 16 | F16: 4.4 | G16: RU PL08R-LVR | H16: 63174 | I16: =ROUND(ROUND(H16,2)*НДС!$A$1,2) -> 73281.84 | J16: 1
A17: 082X4054R | B17: ЗОД | C17: 125 | D17: нерж. сталь | E17: 16 | F17: 6.3 | G17: RU PL08R-LVR | H17: 82788 | I17: =ROUND(ROUND(H17,2)*НДС!$A$1,2) -> 96034.08 | J17: 1
A18: 082X4055R | B18: ЗОД | C18: 150 | D18: нерж. сталь | E18: 16 | F18: 9.1 | G18: RU PL08R-LVR | H18: 119028 | I18: =ROUND(ROUND(H18,2)*НДС!$A$1,2) -> 138072.48 | J18: 1
A19: 082X4056R | B19: ЗОД | C19: 200 | D19: нерж. сталь | E19: 16 | F19: 14.9 | G19: RU PL08R-LVR | H19: 203274 | I19: =ROUND(ROUND(H19,2)*НДС!$A$1,2) -> 235797.84 | J19: 1
A20: 082X4057R | B20: ЗОД | C20: 250 | D20: нерж. сталь | E20: 16 | F20: 27 | G20: RU PL08R-LVR | H20: 334188 | I20: =ROUND(ROUND(H20,2)*НДС!$A$1,2) -> 387658.08 | J20: 1
A21: 082X4058R | B21: ЗОД | C21: 300 | D21: нерж. сталь | E21: 16 | F21: 33.2 | G21: RU PL08R-LVR | H21: 446364 | I21: =ROUND(ROUND(H21,2)*НДС!$A$1,2) -> 517782.24 | J21: 1
A22: 082X4044R | B22: ЗОД | C22: 350 | D22: нерж. сталь | E22: 16 | F22: 65 | G22: RU PL08R-LVR | H22: 1193028 | I22: =ROUND(ROUND(H22,2)*НДС!$A$1,2) -> 1383912.5 | J22: 1
A23: 082X4045R | B23: ЗОД | C23: 400 | D23: нерж. сталь | E23: 16 | F23: 70 | G23: RU PL08R-LVR | H23: 1577712 | I23: =ROUND(ROUND(H23,2)*НДС!$A$1,2) -> 1830145.9 | J23: 1
A24: 082X4046R | B24: ЗОД | C24: 450 | D24: нерж. сталь | E24: 16 | F24: 103 | G24: RU PL08R-LVR | H24: 2534790 | I24: =ROUND(ROUND(H24,2)*НДС!$A$1,2) -> 2940356.4 | J24: 3
... A35: 082X4043R | B35: ЗОД | C35: 600 | D35: чугун | E35: 16 | F35: 190 | G35: RU PL08R-LVR | H35: 3687990 | I35: =ROUND(ROUND(H35,2)*НДС!$A$1,2) -> 4278068.4 | J35: 3
A37: Кодовый номер | B37: Тип | C37: DN, мм | D37: Присоеди-нение, дюймы | E37: PN, бар | F37: Вес нетто, кг | G37: Группа скидок | H37: Цена без НДС, KZT | I37: Цена с НДС, KZT
A38: Обратный клапан пружинный NVD-402R фланцевый; материал корпуса – чугун; материал затвора DN40-100 нержавеющая сталь, DN125-250 - чугун; Т =от -15 до +100°С
A39: 082X8470R | B39: NVD-402R | C39: 40 | D39: — | E39: 16 | F39: 5.6 | G39: RU PL08R YZK | H39: 76368 | I39: =ROUND(ROUND(H39,2)*НДС!$A$1,2) -> 88586.88 | J39: 1
A40: 082X8471R | B40: NVD-402R | C40: 50 | D40: — | E40: 16 | F40: 5.6 | G40: RU PL08R YZK | H40: 79596 | I40: =ROUND(ROUND(H40,2)*НДС!$A$1,2) -> 92331.36 | J40: 1
A41: 082X8472R | B41: NVD-402R | C41: 65 | D41: — | E41: 16 | F41: 7.6 | G41: RU PL08R YZK | H41: 89352 | I41: =ROUND(ROUND(H41,2)*НДС!$A$1,2) -> 103648.32 | J41: 1
A42: 082X8473R | B42: NVD-402R | C42: 80 | D42: — | E42: 16 | F42: 9.8 | G42: RU PL08R YZK | H42: 129966 | I42: =ROUND(ROUND(H42,2)*НДС!$A$1,2) -> 150760.56 | J42: 1
A43: 082X8474R | B43: NVD-402R | C43: 100 | D43: — | E43: 16 | F43: 13.8 | G43: RU PL08R YZK | H43: 180276 | I43: =ROUND(ROUND(H43,2)*НДС!$A$1,2) -> 209120.16 | J43: 1
A44: 082X8475R | B44: NVD-402R | C44: 125 | D44: — | E44: 16 | F44: 20.6 | G44: RU PL08R YZK | H44: 224202 | I44: =ROUND(ROUND(H44,2)*НДС!$A$1,2) -> 260074.32 | J44: 1
A45: 082X8476R | B45: NVD-402R | C45: 150 | D45: — | E45: 16 | F45: 28.5 | G45: RU PL08R YZK | H45: 309486 | I45: =ROUND(ROUND(H45,2)*НДС!$A$1,2) -> 359003.76 | J45: 1
A46: 082X8477R | B46: NVD-402R | C46: 200 | D46: — | E46: 16 | F46: 48.6 | G46: RU PL08R YZK | H46: 510024 | I46: =ROUND(ROUND(H46,2)*НДС!$A$1,2) -> 591627.84 | J46: 1
A47: 082X8478R | B47: NVD-402R | C47: 250 | D47: — | E47: 16 | F47: 81.4 | G47: RU PL08R YZK | H47: 1236510 | I47: =ROUND(ROUND(H47,2)*НДС!$A$1,2) -> 1434351.6 | J47: 3
A48: Обратный клапан пружинный NVD-812R из нержавеющей стали CF8M для установки между фланцами; Т =от -40 до +240°С
A49: 082X8530R2 | B49: NVD-812R | C49: 15 | D49: — | E49: 40 | F49: 0.09 | G49: RU PL08R YZK | H49: 43656 | I49: =ROUND(ROUND(H49,2)*НДС!$A$1,2) -> 50640.96 | J49: 1
A50: 082X8531R2 | B50: NVD-812R | C50: 20 | D50: — | E50: 40 | F50: 0.12 | G50: RU PL08R YZK | H50: 48168 | I50: =ROUND(ROUND(H50,2)*НДС!$A$1,2) -> 55874.88 | J50: 1
A51: 082X8532R2 | B51: NVD-812R | C51: 25 | D51: — | E51: 40 | F51: 0.16 | G51: RU PL08R YZK | H51: 52866 | I51: =ROUND(ROUND(H51,2)*НДС!$A$1,2) -> 61324.56 | J51: 1
...

Sheet 9.4
A1: 9.4. Фильтры сетчатые
A2: Сроки, наличие и заказ оборудования в электронном магазине ridan.ru или по телефону (495) 792 57 57
A3: Кодовый номер | B3: Тип | C3: DN, мм | D3: Присоеди-нение, дюймы | E3: PN, бар | F3: Кол-во в упаковке, шт. | G3: Группа скидок | H3: Цена без НДС, KZT | I3: Цена с НДС, KZT
A4: Фильтр сетчатый Ридан ФСФ с пробкой , PN = 16 бар; материал – чугун; фланцевый; Тмакс. = 200 °С
A5: 082X4060R | B5: ФСФ | C5: 15 | D5: — | E5: 16 | F5: 1 | G5: RU PL08R-LVR | H5: 16890 | I5: =ROUND(ROUND(H5,2)*НДС!$A$1,2) -> 19592.4 | J5: 1
A6: 082X4061R | B6: ФСФ | C6: 20 | D6: — | E6: 16 | F6: 1 | G6: RU PL08R-LVR | H6: 21564 | I6: =ROUND(ROUND(H6,2)*НДС!$A$1,2) -> 25014.24 | J6: 1
A7: 082X4062R | B7: ФСФ | C7: 25 | D7: — | E7: 16 | F7: 1 | G7: RU PL08R-LVR | H7: 25236 | I7: =ROUND(ROUND(H7,2)*НДС!$A$1,2) -> 29273.76 | J7: 1
A8: 082X4063R | B8: ФСФ | C8: 32 | D8: — | E8: 16 | F8: 1 | G8: RU PL08R-LVR | H8: 29862 | I8: =ROUND(ROUND(H8,2)*НДС!$A$1,2) -> 34639.92 | J8: 1
A9: 082X4064R | B9: ФСФ | C9: 40 | D9: — | E9: 16 | F9: 1 | G9: RU PL08R-LVR | H9: 40554 | I9: =ROUND(ROUND(H9,2)*НДС!$A$1,2) -> 47042.64 | J9: 1
A10: 082X4065R | B10: ФСФ | C10: 50 | D10: — | E10: 16 | F10: 1 | G10: RU PL08R-LVR | H10: 51072 | I10: =ROUND(ROUND(H10,2)*НДС!$A$1,2) -> 59243.52 | J10: 1
A11: 082X4066R | B11: ФСФ | C11: 65 | D11: — | E11: 16 | F11: 1 | G11: RU PL08R-LVR | H11: 70662 | I11: =ROUND(ROUND(H11,2)*НДС!$A$1,2) -> 81967.92 | J11: 1
A12: 082X4067R | B12: ФСФ | C12: 80 | D12: — | E12: 16 | F12: 1 | G12: RU PL08R-LVR | H12: 92346 | I12: =ROUND(ROUND(H12,2)*НДС!$A$1,2) -> 107121.36 | J12: 1
A13: 082X4068R | B13: ФСФ | C13: 100 | D13: — | E13: 16 | F13: 1 | G13: RU PL08R-LVR | H13: 132222 | I13: =ROUND(ROUND(H13,2)*НДС!$A$1,2) -> 153377.52 | J13: 1
A14: 082X4069R | B14: ФСФ | C14: 125 | D14: — | E14: 16 | F14: 1 | G14: RU PL08R-LVR | H14: 206382 | I14: =ROUND(ROUND(H14,2)*НДС!$A$1,2) -> 239403.12 | J14: 1
A15: 082X4070R | B15: ФСФ | C15: 150 | D15: — | E15: 16 | F15: 1 | G15: RU PL08R-LVR | H15: 278442 | I15: =ROUND(ROUND(H15,2)*НДС!$A$1,2) -> 322992.72 | J15: 1
A16: 082X4071R | B16: ФСФ | C16: 200 | D16: — | E16: 16 | F16: 1 | G16: RU PL08R-LVR | H16: 500214 | I16: =ROUND(ROUND(H16,2)*НДС!$A$1,2) -> 580248.24 | J16: 1
... A20: 082X4075R | B20: ФСФ | C20: 400 | D20: — | E20: 16 | F20: 1 | G20: RU PL08R-LVR | H20: 2567532 | I20: =ROUND(ROUND(H20,2)*НДС!$A$1,2) -> 2978337.1 | J20: 1
A23: Кодовый номер | B23: Тип | C23: DN, мм | D23: Присоеди-нение, дюймы | E23: PN, бар | F23: Вес нетто, кг | G23: Группа скидок | H23: Цена без НДС, KZT | I23: Цена с НДС, KZT | J23: наличие
A24: Фильтр сетчатый FVR-DR со спускным краном, с внутренней резьбой; материал – латунь DZR; Тмакс. = 130 °С
A25: 065B8341R | B25: FVR-DR | C25: 15 | D25: Rp ½ | E25: 25 | F25: 0.253 | G25: RU PL08R YZK | H25: 43398 | I25: =ROUND(ROUND(H25,2)*НДС!$A$1,2) -> 50341.68 | J25: 1
A26: 065B8342R | B26: FVR-DR | C26: 20 | D26: Rp ¾ | E26: 25 | F26: 0.36 | G26: RU PL08R YZK | H26: 43398 | I26: =ROUND(ROUND(H26,2)*НДС!$A$1,2) -> 50341.68 | J26: 1
A27: 065B8343R | B27: FVR-DR | C27: 25 | D27: Rp 1 | E27: 25 | F27: 0.525 | G27: RU PL08R YZK | H27: 49092 | I27: =ROUND(ROUND(H27,2)*НДС!$A$1,2) -> 56946.72 | J27: 1
A28: 065B8344R | B28: FVR-DR | C28: 32 | D28: Rp 1¼ | E28: 25 | F28: 0.725 | G28: RU PL08R YZK | H28: 54738 | I28: =ROUND(ROUND(H28,2)*НДС!$A$1,2) -> 63496.08 | J28: 1
A29: 065B8345R | B29: FVR-DR | C29: 40 | D29: Rp 1½ | E29: 25 | F29: 1.108 | G29: RU PL08R YZK | H29: 94626 | I29: =ROUND(ROUND(H29,2)*НДС!$A$1,2) -> 109766.16 | J29: 1
A30: 065B8346R | B30: FVR-DR | C30: 50 | D30: Rp 2 | E30: 25 | F30: 1.703 | G30: RU PL08R YZK | H30: 118704 | I30: =ROUND(ROUND(H30,2)*НДС!$A$1,2) -> 137696.64 | J30: 1
A31: Фильтр сетчатый FVR с внутренней резьбой; материал – латунь DZR; Тмакс. = 130 °С
A32: 065B8335R | B32: FVR-R | C32: 15 | D32: Rp ½ | E32: 25 | F32: 0.18 | G32: RU PL08R YZK | H32: 25626 | I32: =ROUND(ROUND(H32,2)*НДС!$A$1,2) -> 29726.16 | J32: 1
A33: 065B8336R | B33: FVR-R | C33: 20 | D33: Rp ¾ | E33: 25 | F33: 0.294 | G33: RU PL08R YZK | H33: 25626 | I33: =ROUND(ROUND(H33,2)*НДС!$A$1,2) -> 29726.16 | J33: 1
A34: 065B8337R | B34: FVR-R | C34: 25 | D34: Rp 1 | E34: 25 | F34: 0.46 | G34: RU PL08R YZK | H34: 36144 | I34: =ROUND(ROUND(H34,2)*НДС!$A$1,2) -> 41927.04 | J34: 1
A35: 065B8338R | B35: FVR-R | C35: 32 | D35: Rp 1¼ | E35: 25 | F35: 0.66 | G35: RU PL08R YZK | H35: 46452 | I35: =ROUND(ROUND(H35,2)*НДС!$A$1,2) -> 53884.32 | J35: 1
A36: 065B8339R | B36: FVR-R | C36: 40 | D36: Rp 1½ | E36: 25 | F36: 1.021 | G36: RU PL08R YZK | H36: 65166 | I36: =ROUND(ROUND(H36,2)*НДС!$A$1,2) -> 75592.56 | J36: 1
A37: 065B8340R | B37: FVR-R | C37: 50 | D37: Rp 2 | E37: 25 | F37: 1.606 | G37: RU PL08R YZK | H37: 96324 | I37: =ROUND(ROUND(H37,2)*НДС!$A$1,2) -> 111735.84 | J37: 1
A38: Фильтр сетчатый FVS-R с внутренней резьбой; материал – нержавеющая сталь; Тмакс. = 180 °С
A39: 082X4310R | B39: FVS-R | C39: 8 | D39: Rp ¼ | E39: 40 | F39: 0.15 | G39: RU PL08R YZK | H39: 61158 | I39: =ROUND(ROUND(H39,2)*НДС!$A$1,2) -> 70943.28
A40: 082X4311R | B40: FVS-R | C40: 10 | D40: Rp 3/8 | E40: 40 | F40: 0.15 | G40: RU PL08R YZK | H40: 61158 | I40: =ROUND(ROUND(H40,2)*НДС!$A$1,2) -> 70943.28 | J40: 3
A41: 082X4312R | B41: FVS-R | C41: 15 | D41: Rp ½ | E41: 40 | F41: 0.21 | G41: RU PL08R YZK | H41: 66222 | I41: =ROUND(ROUND(H41,2)*НДС!$A$1,2) -> 76817.52 | J41: 1
A42: 082X4313R | B42: FVS-R | C42: 20 | D42: Rp ¾ | E42: 40 | F42: 0.28 | G42: RU PL08R YZK | H42: 80322 | I42: =ROUND(ROUND(H42,2)*НДС!$A$1,2) -> 93173.52 | J42: 1
A43: 082X4314R | B43: FVS-R | C43: 25 | D43: Rp 1 | E43: 40 | F43: 0.46 | G43: RU PL08R YZK | H43: 90648 | I43: =ROUND(ROUND(H43,2)*НДС!$A$1,2) -> 105151.68 | J43: 1
A44: 082X4315R | B44: FVS-R | C44: 32 | D44: Rp 1¼ | E44: 40 | F44: 0.68 | G44: RU PL08R YZK | H44: 118566 | I44: =ROUND(ROUND(H44,2)*НДС!$A$1,2) -> 137536.56 | J44: 1
A45: 082X4316R | B45: FVS-R | C45: 40 | D45: Rp 1½ | E45: 40 | F45: 0.92 | G45: RU PL08R YZK | H45: 160548 | I45: =ROUND(ROUND(H45,2)*НДС!$A$1,2) -> 186235.68 | J45: 1
...

Sheet 9.5
A1: 9.5. Воздухоотводчики
A2: Сроки, наличие и заказ оборудования в электронном магазине ridan.ru или по телефону (495) 792 57 57
A3: Кодовый номер | B3: Тип | C3: DN, мм | D3: Присоединение, дюймы | E3: PN, бар | F3: Kvs, м3/ч | G3: Кол-во в упаковке, шт. | H3: Группа скидок | I3: Цена без НДС, KZT | J3: Цена с НДС, KZT | K3: наличие
A4: Воздухоотводчик Airvent-R для стояков системы отопления; материал – латунь; Тмакс. = 110 °С
A5: 065B8322R | B5: Airvent-R с обратным клапаном | C5: 10 | D5: Обратный клапан G½ | E5: 10 | F5: — | G5: 1 | H5: RU PL08R BrassBV | I5: 7650 | J5: =ROUND(ROUND(I5,2)*НДС!$A$1,2) -> 8874 | K5: 1
A6: 065B8323R | B6: Airvent-R без обратного клапана | C6: 15 | D6: G½ | E6: 10 | F6: — | G6: 1 | H6: RU PL08R BrassBV | I6: 6210 | J6: =ROUND(ROUND(I6,2)*НДС!$A$1,2) -> 7203.6 | K6: 1

Sheet 9.6
A1: 9.6. Осевые сильфонные компенсаторы
A2: Сроки, наличие и заказ оборудования в электронном магазине ridan.ru или по телефону (495) 792 57 57
A3: Кодовый номер | B3: Тип | C3: DN, мм | D3: Осевой ход ,мм | E3: Монтажная длина , мм | F3: Кол-во в упаковке, шт. | G3: Группа скидок | H3: Цена без НДС, KZT | I3: Цена с НДС, KZT | J3: наличие
A4: Осевой компенсатор Ридан с патрубками под приварку, с защитным кожухом и внутренней гильзой ; материал сильфона – нержавеющая сталь, патрубки под приварку — углеродистая сталь; PN = 16 бар, Тмакс. = 95 °С
A5: 065H0019R | B5: Ридан | C5: 15 | D5: +15/-35 | E5: 280 | F5: 1 | G5: RU PL08R ARR | H5: 49464 | I5: =ROUND(ROUND(H5,2)*НДС!$A$1,2) -> 57378.24 | J5: 1
A6: 065H0001R | B6: Ридан | C6: 15 | D6: +19/-45 | E6: 365 | F6: 1 | G6: RU PL08R ARR | H6: 64314 | I6: =ROUND(ROUND(H6,2)*НДС!$A$1,2) -> 74604.24 | J6: 1
A7: 065H0021R | B7: Ридан | C7: 20 | D7: +15/-35 | E7: 280 | F7: 1 | G7: RU PL08R ARR | H7: 49464 | I7: =ROUND(ROUND(H7,2)*НДС!$A$1,2) -> 57378.24 | J7: 1
A8: 065H0003R | B8: Ридан | C8: 20 | D8: +24/-56 | E8: 450 | F8: 1 | G8: RU PL08R ARR | H8: 64314 | I8: =ROUND(ROUND(H8,2)*НДС!$A$1,2) -> 74604.24 | J8: 1
A9: 065H0022R | B9: Ридан | C9: 25 | D9: +12/-28 | E9: 275 | F9: 1 | G9: RU PL08R ARR | H9: 51540 | I9: =ROUND(ROUND(H9,2)*НДС!$A$1,2) -> 59786.4 | J9: 1
A10: 065H0023R | B10: Ридан | C10: 25 | D10: +19/-45 | E10: 358 | F10: 1 | G10: RU PL08R ARR | H10: 70854 | I10: =ROUND(ROUND(H10,2)*НДС!$A$1,2) -> 82190.64 | J10: 1
A11: 065H0024R | B11: Ридан | C11: 32 | D11: +12/-28 | E11: 310 | F11: 1 | G11: RU PL08R ARR | H11: 64974 | I11: =ROUND(ROUND(H11,2)*НДС!$A$1,2) -> 75369.84 | J11: 1
A12: 065H0025R | B12: Ридан | C12: 32 | D12: +19/-45 | E12: 400 | F12: 1 | G12: RU PL08R ARR | H12: 90660 | I12: =ROUND(ROUND(H12,2)*НДС!$A$1,2) -> 105165.6 | J12: 1
A13: 065H0026R | B13: Ридан | C13: 40 | D13: +11/-25 | E13: 310 | F13: 1 | G13: RU PL08R ARR | H13: 91518 | I13: =ROUND(ROUND(H13,2)*НДС!$A$1,2) -> 106160.88 | J13: 1
A14: 065H0027R | B14: Ридан | C14: 40 | D14: +19/-45 | E14: 400 | F14: 1 | G14: RU PL08R ARR | H14: 148962 | I14: =ROUND(ROUND(H14,2)*НДС!$A$1,2) -> 172795.92 | J14: 1
A15: 065H0028R | B15: Ридан | C15: 50 | D15: +12/-28 | E15: 310 | F15: 1 | G15: RU PL08R ARR | H15: 147108 | I15: =ROUND(ROUND(H15,2)*НДС!$A$1,2) -> 170645.28 | J15: 1
A16: 065H0029R | B16: Ридан | C16: 50 | D16: +19/-45 | E16: 400 | F16: 1 | G16: RU PL08R ARR | H16: 147114 | I16: =ROUND(ROUND(H16,2)*НДС!$A$1,2) -> 170652.24 | J16: 1
... A32: 082X9256R | B32: Ридан | C32: 300 | D32: +24/-56 | E32: 400 | F32: 1 | G32: RU PL08R ARR | H32: 827076 | I32: =ROUND(ROUND(H32,2)*НДС!$A$1,2) -> 959408.16 | J32: 3
A33: Осевой компенсатор Ридан с патрубками под приварку; без защитного кожуха; с внутренней гильзой ; материал сильфона – нержавеющая сталь, патрубки под приварку — углеродистая сталь; PN = 16 бар, Тмакс. = 95 °С
A34: 065H0040R | B34: Ридан | C34: 15 | D34: +12/-28 | E34: 280 | F34: 1 | G34: RU PL08R ARR | H34: 34842 | I34: =ROUND(ROUND(H34,2)*НДС!$A$1,2) -> 40416.72 | J34: 1
A35: 065H0041R | B35: Ридан | C35: 20 | D35: +12/-28 | E35: 280 | F35: 1 | G35: RU PL08R ARR | H35: 34842 | I35: =ROUND(ROUND(H35,2)*НДС!$A$1,2) -> 40416.72 | J35: 1
A36: 065H0042R | B36: Ридан | C36: 25 | D36: +12/-28 | E36: 275 | F36: 1 | G36: RU PL08R ARR | H36: 48126 | I36: =ROUND(ROUND(H36,2)*НДС!$A$1,2) -> 55826.16 | J36: 1
A37: 065H0043R | B37: Ридан | C37: 32 | D37: +12/-28 | E37: 310 | F37: 1 | G37: RU PL08R ARR | H37: 60390 | I37: =ROUND(ROUND(H37,2)*НДС!$A$1,2) -> 70052.4 | J37: 1
A38: 065H0044R | B38: Ридан | C38: 40 | D38: +12/-28 | E38: 310 | F38: 1 | G38: RU PL08R ARR | H38: 83592 | I38: =ROUND(ROUND(H38,2)*НДС!$A$1,2) -> 96966.72 | J38: 1
A39: 065H0045R | B39: Ридан | C39: 50 | D39: +12/-28 | E39: 310 | F39: 1 | G39: RU PL08R ARR | H39: 132540 | I39: =ROUND(ROUND(H39,2)*НДС!$A$1,2) -> 153746.4 | J39: 1
A40: 065H0046R | B40: Ридан | C40: 65 | D40: +12/-28 | E40: 250 | F40: 1 | G40: RU PL08R ARR | H40: 152352 | I40: =ROUND(ROUND(H40,2)*НДС!$A$1,2) -> 176728.32 | J40: 1
A41: 065H0047R | B41: Ридан | C41: 80 | D41: +12/-28 | E41: 255 | F41: 1 | G41: RU PL08R ARR | H41: 152778 | I41: =ROUND(ROUND(H41,2)*НДС!$A$1,2) -> 177222.48 | J41: 1
A42: 065H0048R | B42: Ридан | C42: 100 | D42: +12/-28 | E42: 255 | F42: 1 | G42: RU PL08R ARR | H42: 200982 | I42: =ROUND(ROUND(H42,2)*НДС!$A$1,2) -> 233139.12 | J42: 1
A43: 082X9242R | B43: Ридан | C43: 125 | D43: +12/-28 | E43: 255 | F43: 1 | G43: RU PL08R ARR | H43: 205536 | I43: =ROUND(ROUND(H43,2)*НДС!$A$1,2) -> 238421.76 | J43: 3
A44: 082X9243R | B44: Ридан | C44: 150 | D44: +12/-28 | E44: 270 | F44: 1 | G44: RU PL08R ARR | H44: 211788 | I44: =ROUND(ROUND(H44,2)*НДС!$A$1,2) -> 245674.08 | J44: 3
A45: 082X9244R | B45: Ридан | C45: 200 | D45: +12/-28 | E45: 260 | F45: 1 | G45: RU PL08R ARR | H45: 246588 | I45: =ROUND(ROUND(H45,2)*НДС!$A$1,2) -> 286042.08 | J45: 3
... A47: 082X9246R | B47: Ридан | C47: 300 | D47: +12/-28 | E47: 270 | F47: 1 | G47: RU PL08R ARR | H47: 418074 | I47: =ROUND(ROUND(H47,2)*НДС!$A$1,2) -> 484965.84 | J47: 3
A48: Осевой компенсатор Ридан; материал сильфона – нержавеющая сталь, патрубки с внешней резьбой — нержавеющая сталь; с внутренней гильзой и наружным защитным кожухом; PN = 16 бар, Тмакс. = 95 °С
A49: 082X9206R | B49: Ридан НС | C49: 15 | D49: +15/-35 | E49: G ½ | F49: 1 | G49: RU PL08R ARR | H49: 82218 | I49: =ROUND(ROUND(H49,2)*НДС!$A$1,2) -> 95372.88 | J49: 1
A50: 082X9212R | B50: Ридан НС | C50: 15 | D50: +19/-45 | E50: G ½ | F50: 1 | G50: RU PL08R ARR | H50: 108522 | I50: =ROUND(ROUND(H50,2)*НДС!$A$1,2) -> 125885.52 | J50: 1
A51: 082X9207R | B51: Ридан НС | C51: 20 | D51: +15/-35 | E51: G ¾ | F51: 1 | G51: RU PL08R ARR | H51: 104670 | I51: =ROUND(ROUND(H51,2)*НДС!$A$1,2) -> 121417.2 | J51: 1
A52: 082X9213R | B52: Ридан НС | C52: 20 | D52: +24/-56 | E52: G ¾ | F52: 1 | G52: RU PL08R ARR | H52: 138162 | I52: =ROUND(ROUND(H52,2)*НДС!$A$1,2) -> 160267.92 | J52: 1
A53: 082X9208R | B53: Ридан НС | C53: 25 | D53: +12/-28 | E53: G 1 | F53: 1 | G53: RU PL08R ARR | H53: 115368 | I53: =ROUND(ROUND(H53,2)*НДС!$A$1,2) -> 133826.88 | J53: 1
A54: 082X9214R | B54: Ридан НС | C54: 25 | D54: +19/-45 | E54: G 1 | F54: 1 | G54: RU PL08R ARR | H54: 151392 | I54: =ROUND(ROUND(H54,2)*НДС!$A$1,2) -> 175614.72 | J54: 1
A55: 082X9209R | B55: Ридан НС | C55: 32 | D55: +12/-28 | E55: G 1¼ | F55: 1 | G55: RU PL08R ARR | H55: 147084 | I55: =ROUND(ROUND(H55,2)*НДС!$A$1,2) -> 170617.44 | J55: 1
A56: 082X9215R | B56: Ридан НС | C56: 32 | D56: +19/-45 | E56: G 1¼ | F56: 1 | G56: RU PL08R ARR | H56: 199062 | I56: =ROUND(ROUND(H56,2)*НДС!$A$1,2) -> 230911.92 | J56: 1
...

Sheet 9.7
A1: 9.7. Редукционные клапаны
A2: Сроки, наличие и заказ оборудования в электронном магазине ridan.ru или по телефону (495) 792 57 57
A3: Кодовый номер | B3: Тип | C3: DN, мм | D3: Присоеди-нение, дюймы | E3: PN, бар | F3: Диапазон настройки давления, бар | G3: Заводская настройка давления, бар | H3: Группа скидок | I3: Цена без НДС, KZT | J3: Цена с НДС, KZT | K3: наличие
A4: Клапан редукционный Ридан 7biz мембранный для поддержания давления «после себя», применяется в системах горячего и холодного водоснабжения, в том числе питьевого; материал корпуса — латунь CW602N; Тмакс. = 80 °С
A5: 082X4140R | B5: 7biz | C5: 15 | D5: G ½" | E5: 16 | F5: 1,0–5,5 | G5: 3 | H5: RU PL08R BrassBV | I5: 28686 | J5: =ROUND(ROUND(I5,2)*НДС!$A$1,2) -> 33275.76 | K5: 1
A6: 082X4141R | B6: 7biz | C6: 20 | D6: G ¾" | E6: 16 | F6: 1,0–5,5 | G6: 3 | H6: RU PL08R BrassBV | I6: 32970 | J6: =ROUND(ROUND(I6,2)*НДС!$A$1,2) -> 38245.2 | K6: 1
A7: 082X4142R | B7: 7biz | C7: 25 | D7: G 1" | E7: 16 | F7: 1,0–5,5 | G7: 3 | H7: RU PL08R BrassBV | I7: 46242 | J7: =ROUND(ROUND(I7,2)*НДС!$A$1,2) -> 53640.72 | K7: 1
A8: 082X4143R | B8: 7biz | C8: 32 | D8: G 1 ¼" | E8: 16 | F8: 1,0–5,5 | G8: 3 | H8: RU PL08R BrassBV | I8: 85632 | J8: =ROUND(ROUND(I8,2)*НДС!$A$1,2) -> 99333.12 | K8: 1
A9: 082X4144R | B9: 7biz | C9: 40 | D9: G 1½" | E9: 16 | F9: 1,0–5,5 | G9: 3 | H9: RU PL08R BrassBV | I9: 121596 | J9: =ROUND(ROUND(I9,2)*НДС!$A$1,2) -> 141051.36 | K9: 1
A10: 082X4145R | B10: 7biz | C10: 50 | D10: G 2" | E10: 16 | F10: 1,0–5,5 | G10: 3 | H10: RU PL08R BrassBV | I10: 162270 | J10: =ROUND(ROUND(I10,2)*НДС!$A$1,2) -> 188233.2 | K10: 1

Sheet 9.8
A1: 9.8. Гибкие антивибрационные вставки ZKV и контрольные стержни
A2: Сроки, наличие и заказ оборудования в электронном магазине ridan.ru или по телефону (495) 792 57 57
A3: Кодовый номер | B3: Тип | C3: DN, мм | D3: PN, бар | F3: Группа скидок | G3: Цена без НДС, KZT | H3: Цена с НДС, KZT | I3: наличие
A4: Гибкая антивибрационная вставка ZKV. Рабочие среды - вода, растворы гликоля до 50 %. Максимальное давление 16 бар, температуры рабочих сред от -20 до 100 °С
A5: 082X9030R | B5: ZKV | C5: 32 | D5: 16 | F5: RU PL08R-LVR | G5: 58860 | H5: =ROUND(ROUND(G5,2)*НДС!$A$1,2) -> 68277.6 | I5: 1
A6: 082X9031R | B6: ZKV | C6: 40 | D6: 16 | F6: RU PL08R-LVR | G6: 60360 | H6: =ROUND(ROUND(G6,2)*НДС!$A$1,2) -> 70017.6 | I6: 1
A7: 082X9032R | B7: ZKV | C7: 50 | D7: 16 | F7: RU PL08R-LVR | G7: 66078 | H7: =ROUND(ROUND(G7,2)*НДС!$A$1,2) -> 76650.48 | I7: 1
A8: 082X9033R | B8: ZKV | C8: 65 | D8: 16 | F8: RU PL08R-LVR | G8: 77064 | H8: =ROUND(ROUND(G8,2)*НДС!$A$1,2) -> 89394.24 | I8: 1
A9: 082X9034R | B9: ZKV | C9: 80 | D9: 16 | F9: RU PL08R-LVR | G9: 93390 | H9: =ROUND(ROUND(G9,2)*НДС!$A$1,2) -> 108332.4 | I9: 1
A10: 082X9035R | B10: ZKV | C10: 100 | D10: 16 | F10: RU PL08R-LVR | G10: 115500 | H10: =ROUND(ROUND(G10,2)*НДС!$A$1,2) -> 133980 | I10: 1
A11: 082X9036R | B11: ZKV | C11: 125 | D11: 16 | F11: RU PL08R-LVR | G11: 148602 | H11: =ROUND(ROUND(G11,2)*НДС!$A$1,2) -> 172378.32 | I11: 1
A12: 082X9037R | B12: ZKV | C12: 150 | D12: 16 | F12: RU PL08R-LVR | G12: 191046 | H12: =ROUND(ROUND(G12,2)*НДС!$A$1,2) -> 221613.36 | I12: 1
A13: 082X9038R | B13: ZKV | C13: 200 | D13: 10 | F13: RU PL08R-LVR | G13: 265554 | H13: =ROUND(ROUND(G13,2)*НДС!$A$1,2) -> 308042.64 | I13: 1
A14: 082X9046R | B14: ZKV | C14: 200 | D14: 16 | F14: RU PL08R-LVR | G14: 278778 | H14: =ROUND(ROUND(G14,2)*НДС!$A$1,2) -> 323382.48 | I14: 1
A15: 082X9039R | B15: ZKV | C15: 250 | D15: 10 | F15: RU PL08R-LVR | G15: 398916 | H15: =ROUND(ROUND(G15,2)*НДС!$A$1,2) -> 462742.56 | I15: 1
A16: 082X9047R | B16: ZKV | C16: 250 | D16: 16 | F16: RU PL08R-LVR | G16: 418842 | H16: =ROUND(ROUND(G16,2)*НДС!$A$1,2) -> 485856.72 | I16: 1
... A28: 082X9053R | B28: ZKV | C28: 600 | D28: 16 | F28: RU PL08R-LVR | G28: 2470836 | H28: =ROUND(ROUND(G28,2)*НДС!$A$1,2) -> 2866169.8 | I28: 2
A30: Кодовый номер | B30: Для ZKV с DN, мм | C30: PN, бар | D30: Необходимое количество комплектов стержней на одну гибкую вставку | E30: Давление, при котором применение контрольных стержней обязательно, бар | F30: Группа скидок | G30: Цена без НДС, KZT | H30: Цена с НДС, KZT | I30: наличие
A31: Комплект контрольных стержней для гибких антивибрационных вставок ZKV. Предохраняет от выхода деформаций вставки за эксплуатационные ограничения. Применение обязательно при использовании на рабочих средах, отличных от воды и при превышении давления выше указанного в таблице. Один комплект контрольных стержней состоит из двух стержней и соответствующего крепежного материала
A32: 082X9000 | B32: 32 | C32: 16 | D32: 1 | E32: 10.3 | F32: RU PL08R-LVR | G32: 62736 | H32: =ROUND(ROUND(G32,2)*НДС!$A$1,2) -> 72773.76 | I32: 1
A33: 082X9001 | B33: 40 | C33: 16 | D33: 1 | E33: 10.3 | F33: RU PL08R-LVR | G33: 62736 | H33: =ROUND(ROUND(G33,2)*НДС!$A$1,2) -> 72773.76 | I33: 1
A34: 082X9002 | B34: 50 | C34: 16 | D34: 1 | E34: 10.3 | F34: RU PL08R-LVR | G34: 86874 | H34: =ROUND(ROUND(G34,2)*НДС!$A$1,2) -> 100773.84 | I34: 1
A35: 082X9003 | B35: 65 | C35: 16 | D35: 1 | E35: 10.3 | F35: RU PL08R-LVR | G35: 86874 | H35: =ROUND(ROUND(G35,2)*НДС!$A$1,2) -> 100773.84 | I35: 1
A36: 082X9004 | B36: 80 | C36: 16 | D36: 1 | E36: 10.3 | F36: RU PL08R-LVR | G36: 90390 | H36: =ROUND(ROUND(G36,2)*НДС!$A$1,2) -> 104852.4 | I36: 1
A37: 082X9005 | B37: 100 | C37: 16 | D37: 1 | E37: 10.3 | F37: RU PL08R-LVR | G37: 90390 | H37: =ROUND(ROUND(G37,2)*НДС!$A$1,2) -> 104852.4 | I37: 1
A38: 082X9006 | B38: 125 | C38: 16 | D38: 1 | E38: 9.3 | F38: RU PL08R-LVR | G38: 94776 | H38: =ROUND(ROUND(G38,2)*НДС!$A$1,2) -> 109940.16 | I38: 1
A39: 082X9007 | B39: 150 | C39: 16 | D39: 1 | E39: 9.3 | F39: RU PL08R-LVR | G39: 106434 | H39: =ROUND(ROUND(G39,2)*НДС!$A$1,2) -> 123463.44 | I39: 1
A40: 082X9008 | B40: 200 | C40: 10 | D40: 2 | E40: 9.3 | F40: RU PL08R-LVR | G40: 115224 | H40: =ROUND(ROUND(G40,2)*НДС!$A$1,2) -> 133659.84 | I40: 1
A41: 082X9016 | B41: 200 | C41: 16 | D41: 2 | E41: 9.3 | F41: RU PL08R-LVR | G41: 132474 | H41: =ROUND(ROUND(G41,2)*НДС!$A$1,2) -> 153669.84 | I41: 1
A42: 082X9009 | B42: 250 | C42: 10 | D42: 2 | E42: 9.3 | F42: RU PL08R-LVR | G42: 123924 | H42: =ROUND(ROUND(G42,2)*НДС!$A$1,2) -> 143751.84 | I42: 1
A43: 082X9017 | B43: 250 | C43: 16 | D43: 2 | E43: 9.3 | F43: RU PL08R-LVR | G43: 142614 | H43: =ROUND(ROUND(G43,2)*НДС!$A$1,2) -> 165432.24 | I43: 1
... A55: 082X9023 | B55: 600 | C55: 16 | D55: 2 | E55: 3.1 | F55: RU PL08R-LVR | G55: 374478 | H55: =ROUND(ROUND(G55,2)*НДС!$A$1,2) -> 434394.48 | I55: 2

Sheet НДС
A1: 1.16

Sheet 9.9
A1: 9.9. Пилотные регулирующие клапаны
A2: Сроки, наличие и заказ оборудования в электронном магазине ridan.ru или по телефону (495) 792 57 57
A3: Кодовый номер | B3: Тип | C3: DN, мм | D3: Макси-мальное давление, бар | E3: Диапазон настроек, бар | F3: Kvs, м3/ч | G3: Макс. расход через клапан, м3/ч | H3: Группа скидок | I3: Цена без НДС, KZT | J3: Цена с НДС, KZT | K3: наличие
A4: Клапан пилотный регулирующий давление "после себя" С101-R; материал: корпус — высокопрочный чугун, седло — нержавеющая сталь, пилотный контур - нержавеющая сталь. Рабочая среда — вода; Тмакс. = 80 °С; Снижает и поддерживает постоянное давление «после себя» вне зависимости от изменения расхода среды и изменения давления перед клапаном. Применяется в системах водоснабжения, в том числе питьевого. Поставляется в комплекте: основной клапан, пилотный управляющий клапан, пилотный контур.
A5: 082X6100RL | B5: С101-R | C5: 50 | D5: 16 | E5: 1 - 8 | F5: 65 | G5: 45 | H5: RU PL08R RV | I5: 1669926 | J5: =ROUND(ROUND(I5,2)*НДС!$A$1,2) -> 1937114.2
A6: 082X6101RL | B6: С101-R | C6: 65 | D6: 16 | E6: 1 - 8 | F6: 130 | G6: 50 | H6: RU PL08R RV | I6: 1825992 | J6: =ROUND(ROUND(I6,2)*НДС!$A$1,2) -> 2118150.7
A7: 082X6102RL | B7: С101-R | C7: 80 | D7: 16 | E7: 1 - 8 | F7: 140 | G7: 90 | H7: RU PL08R RV | I7: 2494332 | J7: =ROUND(ROUND(I7,2)*НДС!$A$1,2) -> 2893425.1
A8: 082X6103RL | B8: С101-R | C8: 100 | D8: 16 | E8: 1 - 8 | F8: 210 | G8: 150 | H8: RU PL08R RV | I8: 3184116 | J8: =ROUND(ROUND(I8,2)*НДС!$A$1,2) -> 3693574.6
A9: 082X6104RL | B9: С101-R | C9: 125 | D9: 16 | E9: 1 - 8 | F9: 350 | G9: 220 | H9: RU PL08R RV | I9: 3941208 | J9: =ROUND(ROUND(I9,2)*НДС!$A$1,2) -> 4571801.3
A10: 082X6105RL | B10: С101-R | C10: 150 | D10: 16 | E10: 1 - 8 | F10: 510 | G10: 320 | H10: RU PL08R RV | I10: 4675974 | J10: =ROUND(ROUND(I10,2)*НДС!$A$1,2) -> 5424129.8
A11: 082X6106RL | B11: С101-R | C11: 200 | D11: 16 | E11: 1 - 8 | F11: 850 | G11: 550 | H11: RU PL08R RV | I11: 6584208 | J11: =ROUND(ROUND(I11,2)*НДС!$A$1,2) -> 7637681.3
A12: 082X6107RL | B12: С101-R | C12: 250 | D12: 16 | E12: 1 - 8 | F12: 1300 | G12: 950 | H12: RU PL08R RV | I12: 8572674 | J12: =ROUND(ROUND(I12,2)*НДС!$A$1,2) -> 9944301.8
A13: 082X6108RL | B13: С101-R | C13: 300 | D13: 16 | E13: 1 - 8 | F13: 1980 | G13: 1200 | H13: RU PL08R RV | I13: 11578050 | J13: =ROUND(ROUND(I13,2)*НДС!$A$1,2) -> 13430538
A14: 082X6100RL2 | B14: С101-R | C14: 50 | D14: 16 | E14: 2 - 16 | F14: 65 | G14: 45 | H14: RU PL08R RV | I14: 1669926 | J14: =ROUND(ROUND(I14,2)*НДС!$A$1,2) -> 1937114.2
A15: 082X6101RL2 | B15: С101-R | C15: 65 | D15: 16 | E15: 2 - 16 | F15: 130 | G15: 50 | H15: RU PL08R RV | I15: 1825992 | J15: =ROUND(ROUND(I15,2)*НДС!$A$1,2) -> 2118150.7
A16: 082X6102RL2 | B16: С101-R | C16: 80 | D16: 16 | E16: 2 - 16 | F16: 140 | G16: 90 | H16: RU PL08R RV | I16: 2494332 | J16: =ROUND(ROUND(I16,2)*НДС!$A$1,2) -> 2893425.1
... A36: 082X6115RL2 | B36: С101-R | C36: 200 | D36: 25 | E36: 2 - 16 | F36: 850 | G36: 550 | H36: RU PL08R RV | I36: 6913422 | J36: =ROUND(ROUND(I36,2)*НДС!$A$1,2) -> 8019569.5
A37: Кодовый номер | B37: Тип | C37: DN, мм | D37: Макси-мальное давление, бар | E37: Диапазон настроек, бар | F37: Kvs, м3/ч | G37: Макс. расход через клапан, м3/ч | H37: Группа скидок | I37: Цена без НДС, KZT | J37: Цена с НДС, KZT | K37: наличие
A38: Клапан пилотный регулирующий давление "до себя" С301-R; материал: корпус — высокопрочный чугун, седло — нержавеющая сталь, пилотный контур - нержавеющая сталь. Рабочая среда — вода; Тмакс. = 80 °С; Поддерживает постоянное давление «до себя» вне зависимости от изменения расхода среды и изменения давления перед клапаном. Применяется в системах водоснабжения, в том числе питьевого. Поставляется в комплекте: основной клапан, пилотный управляющий клапан, пилотный контур.
A39: 082X6140RL | B39: С301-R | C39: 50 | D39: 16 | E39: 1 - 8 | F39: 65 | G39: 45 | H39: RU PL08R RV | I39: 1714626 | J39: =ROUND(ROUND(I39,2)*НДС!$A$1,2) -> 1988966.2
A40: 082X6141RL | B40: С301-R | C40: 65 | D40: 16 | E40: 1 - 8 | F40: 130 | G40: 50 | H40: RU PL08R RV | I40: 1981692 | J40: =ROUND(ROUND(I40,2)*НДС!$A$1,2) -> 2298762.7
A41: 082X6142RL | B41: С301-R | C41: 80 | D41: 16 | E41: 1 - 8 | F41: 140 | G41: 90 | H41: RU PL08R RV | I41: 2672118 | J41: =ROUND(ROUND(I41,2)*НДС!$A$1,2) -> 3099656.9
A42: 082X6143RL | B42: С301-R | C42: 100 | D42: 16 | E42: 1 - 8 | F42: 210 | G42: 150 | H42: RU PL08R RV | I42: 3339708 | J42: =ROUND(ROUND(I42,2)*НДС!$A$1,2) -> 3874061.3
A43: 082X6144RL | B43: С301-R | C43: 125 | D43: 16 | E43: 1 - 8 | F43: 350 | G43: 220 | H43: RU PL08R RV | I43: 4007886 | J43: =ROUND(ROUND(I43,2)*НДС!$A$1,2) -> 4649147.8
A44: 082X6145RL | B44: С301-R | C44: 150 | D44: 16 | E44: 1 - 8 | F44: 510 | G44: 320 | H44: RU PL08R RV | I44: 4897686 | J44: =ROUND(ROUND(I44,2)*НДС!$A$1,2) -> 5681315.8
A45: 082X6146RL | B45: С301-R | C45: 200 | D45: 16 | E45: 1 - 8 | F45: 850 | G45: 550 | H45: RU PL08R RV | I45: 7029348 | J45: =ROUND(ROUND(I45,2)*НДС!$A$1,2) -> 8154043.7
A46: 082X6147RL | B46: С301-R | C46: 250 | D46: 16 | E46: 1 - 8 | F46: 1300 | G46: 950 | H46: RU PL08R RV | I46: 9151368 | J46: =ROUND(ROUND(I46,2)*НДС!$A$1,2) -> 10615587
A47: 082X6148RL | B47: С301-R | C47: 300 | D47: 16 | E47: 1 - 8 | F47: 1980 | G47: 1200 | H47: RU PL08R RV | I47: 12800088 | J47: =ROUND(ROUND(I47,2)*НДС!$A$1,2) -> 14848102
A48: 082X6140RL2 | B48: С301-R | C48: 50 | D48: 16 | E48: 2 - 16 | F48: 65 | G48: 45 | H48: RU PL08R RV | I48: 1714626 | J48: =ROUND(ROUND(I48,2)*НДС!$A$1,2) -> 1988966.2
A49: 082X6141RL2 | B49: С301-R | C49: 65 | D49: 16 | E49: 2 - 16 | F49: 130 | G49: 50 | H49: RU PL08R RV | I49: 1981692 | J49: =ROUND(ROUND(I49,2)*НДС!$A$1,2) -> 2298762.7
A50: 082X6142RL2 | B50: С301-R | C50: 80 | D50: 16 | E50: 2 - 16 | F50: 140 | G50: 90 | H50: RU PL08R RV | I50: 2672118 | J50: =ROUND(ROUND(I50,2)*НДС!$A$1,2) -> 3099656.9
... A70: 082X6155RL2 | B70: С301-R | C70: 200 | D70: 25 | E70: 2 - 16 | F70: 850 | G70: 550 | H70: RU PL08R RV | I70: 7380816 | J70: =ROUND(ROUND(I70,2)*НДС!$A$1,2) -> 8561746.6

Sheet 9.10
A1: 9.10. Латунные предохранительные клапаны для воды
A2: Сроки, наличие и заказ оборудования в электронном магазине ridan.ru или по телефону (495) 792 57 57
A3: Кодовый номер | B3: Тип | C3: DN, мм | D3: PN, бар | E3: Группа скидок | F3: Цена без НДС, KZT | G3: Цена с НДС, KZT | H3: наличие
A4: Латунные предохранительные клапаны RSV. Рабочие среды - вода, растворы гликоля до 50 %. Максимальное давление 16 бар, температуры рабочих сред от -10 до +150 °С
A5: 082X4320R | B5: RSV | C5: 15 | D5: 16 | E5: RU PL08R YZK | F5: 22992 | G5: =ROUND(ROUND(F5,2)*НДС!$A$1,2) -> 26670.72 | H5: 1
A6: 082X4321R | B6: RSV | C6: 20 | D6: 16 | E6: RU PL08R YZK | F6: 34518 | G6: =ROUND(ROUND(F6,2)*НДС!$A$1,2) -> 40040.88 | H6: 1
A7: 082X4322R | B7: RSV | C7: 25 | D7: 16 | E7: RU PL08R YZK | F7: 48984 | G7: =ROUND(ROUND(F7,2)*НДС!$A$1,2) -> 56821.44 | H7: 1
A8: 082X4323R | B8: RSV | C8: 32 | D8: 16 | E8: RU PL08R YZK | F8: 81234 | G8: =ROUND(ROUND(F8,2)*НДС!$A$1,2) -> 94231.44 | H8: 1
A9: 082X4324R | B9: RSV | C9: 40 | D9: 16 | E9: RU PL08R YZK | F9: 105750 | G9: =ROUND(ROUND(F9,2)*НДС!$A$1,2) -> 122670 | H9: 1
A10: 082X4325R | B10: RSV | C10: 50 | D10: 16 | E10: RU PL08R YZK | F10: 167196 | G10: =ROUND(ROUND(F10,2)*НДС!$A$1,2) -> 193947.36 | H10: 1
